Geo-LibProj-FFI v1.01 Perl 5 v5.24.4 x86_64-linux

Status
Pass
From
AJNN
Dist
Geo-LibProj-FFI v1.01
Platform
Perl 5 v5.24.4 x86_64-linux
Date
2025-02-21 05:21:38
ID
b9937e26-f013-11ef-aa86-a29f91780cb9
This distribution has been tested as part of the CPAN Testers
project, supporting the Perl programming language.  See
http://wiki.cpantesters.org/ for more information or email
questions to cpan-testers-discuss@perl.org


--
Dear AJNN,

This is a computer-generated report for Geo-LibProj-FFI-1.01
on perl 5.24.4, created by App::cpanminus::reporter 0.22 (1.7047).

Thank you for uploading your work to CPAN.  Congratulations!
All tests were successful.

Sections of this report:

    * Tester comments
    * Program output
    * Prerequisites
    * Environment and other context

------------------------------
TESTER COMMENTS
------------------------------

Additional comments from tester:

none provided

------------------------------
PROGRAM OUTPUT
------------------------------

Output from '':

Building and testing Geo-LibProj-FFI-1.01
cp lib/Geo/LibProj/FFI.pm blib/lib/Geo/LibProj/FFI.pm
Manifying 1 pod document
PERL_DL_NONLAZY=1 "/home/aj/perl5/perlbrew/perls/perl-5.24.4/bin/perl" "-MExtUtils::Command::MM" "-MTest::Harness" "-e" "undef *Test::Harness::Switches; test_harness(0, 'blib/lib', 'blib/arch')" t/*.t
# 
# Versions for all modules listed in MYMETA.json (including optional ones):
# 
# === Configure Requires ===
# 
#     Module              Want Have
#     ------------------- ---- ----
#     ExtUtils::MakeMaker  any 7.70
# 
# === Configure Suggests ===
# 
#     Module      Want       Have
#     -------- ------- ----------
#     JSON::PP 2.27300 2.27300_01
# 
# === Build Requires ===
# 
#     Module              Want Have
#     ------------------- ---- ----
#     ExtUtils::MakeMaker  any 7.70
# 
# === Test Requires ===
# 
#     Module               Want     Have
#     ------------------- ----- --------
#     ExtUtils::MakeMaker   any     7.70
#     File::Spec            any  3.63_01
#     Test::Exception       any     0.43
#     Test::More            any 1.302209
#     Test::Warnings      0.010    0.038
# 
# === Test Recommends ===
# 
#     Module         Want     Have
#     ---------- -------- --------
#     CPAN::Meta 2.120900 2.150005
# 
# === Runtime Requires ===
# 
#     Module                 Want     Have
#     ------------------ -------- --------
#     Alien::proj            1.07     1.30
#     Convert::Binary::C     0.04     0.85
#     Exporter::Easy          any     0.18
#     FFI::C                 0.08     0.15
#     FFI::Platypus          1.50     2.10
#     perl               5.014000 5.024004
# 
t/00-report-prereqs.t .. ok
t/00-version.t ......... skipped: Version check not requested
t/constants.t .......... ok
t/context.t ............ ok
t/distance.t ........... ok
t/error.t .............. ok
t/info.t ............... ok
t/lists.t .............. ok
t/misc.t ............... ok
t/private.t ............ ok
t/setup.t .............. ok
t/transform.t .......... ok
t/types.t .............. ok
t/zz-cleanup.t ......... ok
All tests successful.
Files=14, Tests=177,  3 wallclock secs ( 0.12 usr  0.01 sys +  2.30 cusr  0.47 csys =  2.90 CPU)
Result: PASS

------------------------------
PREREQUISITES
------------------------------

Prerequisite modules loaded:

runtime:

    Module              Need     Have    
    ------------------- -------- --------
    Alien::proj         1.07     1.30    
    Convert::Binary::C  0.04     0.85    
    Exporter::Easy      0        0.18    
    FFI::C              0.08     0.15    
    FFI::Platypus       1.50     2.10    
    perl                5.014000 5.024004

build:

    Module              Need     Have    
    ------------------- -------- --------
    ExtUtils::MakeMaker 0        7.70    

configure:

    Module              Need     Have    
    ------------------- -------- --------
    ExtUtils::MakeMaker 0        7.70    


------------------------------
ENVIRONMENT AND OTHER CONTEXT
------------------------------

Environment variables:

    LANG = 
    LC_COLLATE = C
    LC_CTYPE = C.UTF-8
    LC_NUMERIC = C
    PATH = /home/aj/perl5/perlbrew/bin:/home/aj/perl5/perlbrew/perls/perl-5.24.4/bin:/usr/local/bin:/usr/bin:/bin:/usr/local/games:/usr/games
    PERLBREW_HOME = /home/aj/.perlbrew
    PERLBREW_MANPATH = /home/aj/perl5/perlbrew/perls/perl-5.24.4/man
    PERLBREW_PATH = /home/aj/perl5/perlbrew/bin:/home/aj/perl5/perlbrew/perls/perl-5.24.4/bin
    PERLBREW_PERL = perl-5.24.4
    PERLBREW_ROOT = /home/aj/perl5/perlbrew
    PERLBREW_SHELLRC_VERSION = 0.98
    PERLBREW_VERSION = 0.98
    SHELL = /bin/bash
    TERM = xterm-256color

Perl special variables (and OS-specific diagnostics, for MSWin32):

    EGID = 1000 4 33 100 500 1000
    EUID = 1000
    EXECUTABLE_NAME = /home/aj/perl5/perlbrew/perls/perl-5.24.4/bin/perl
    GID = 1000 4 33 100 500 1000
    UID = 1000

Perl module toolchain versions installed:

    Module              Have      
    ------------------- ----------
    CPAN                2.11_01   
    CPAN::Meta          2.150005  
    Cwd                 3.63_01   
    ExtUtils::CBuilder  0.280225  
    ExtUtils::Command   7.70      
    ExtUtils::Install   2.06      
    ExtUtils::MakeMaker 7.70      
    ExtUtils::Manifest  1.70      
    ExtUtils::ParseXS   3.31      
    File::Spec          3.63_01   
    JSON                n/a       
    JSON::PP            2.27300_01
    Module::Build       n/a       
    Module::Signature   n/a       
    Parse::CPAN::Meta   1.4417_001
    Test::Harness       3.36_01   
    Test::More          1.302209  
    YAML                1.31      
    YAML::Syck          n/a       
    version             0.9916    


--

Summary of my perl5 (revision 5 version 24 subversion 4) configuration:
   
  Platform:
    osname=linux, osvers=6.1.0-31-amd64, archname=x86_64-linux
    uname='linux galway.johannessen.de 6.1.0-31-amd64 #1 smp preempt_dynamic debian 6.1.128-1 (2025-02-07) x86_64 gnulinux '
    config_args='-de -Dprefix=/home/aj/perl5/perlbrew/perls/perl-5.24.4 -Aeval:scriptdir=/home/aj/perl5/perlbrew/perls/perl-5.24.4/bin'
    hint=recommended, useposix=true, d_sigaction=define
    useithreads=undef, usemultiplicity=undef
    use64bitint=define, use64bitall=define, uselongdouble=undef
    usemymalloc=n, bincompat5005=undef
  Compiler:
    cc='cc', ccflags ='-fwrapv -fno-strict-aliasing -pipe -fstack-protector-strong -I/usr/local/include -D_LARGEFILE_SOURCE -D_FILE_OFFSET_BITS=64 -D_FORTIFY_SOURCE=2',
    optimize='-O2',
    cppflags='-fwrapv -fno-strict-aliasing -pipe -fstack-protector-strong -I/usr/local/include'
    ccversion='', gccversion='12.2.0', gccosandvers=''
    intsize=4, longsize=8, ptrsize=8, doublesize=8, byteorder=12345678, doublekind=3
    d_longlong=define, longlongsize=8, d_longdbl=define, longdblsize=16, longdblkind=3
    ivtype='long', ivsize=8, nvtype='double', nvsize=8, Off_t='off_t', lseeksize=8
    alignbytes=8, prototype=define
  Linker and Libraries:
    ld='cc', ldflags =' -fstack-protector-strong -L/usr/local/lib'
    libpth=/usr/local/lib /usr/include/x86_64-linux-gnu /usr/lib /lib/x86_64-linux-gnu /lib/../lib /usr/lib/x86_64-linux-gnu /usr/lib/../lib /lib /lib64 /usr/lib64
    libs=-lpthread -lnsl -ldl -lm -lcrypt -lutil -lc
    perllibs=-lpthread -lnsl -ldl -lm -lcrypt -lutil -lc
    libc=/lib/x86_64-linux-gnu/libc.so.6, so=so, useshrplib=false, libperl=libperl.a
    gnulibc_version='2.36'
  Dynamic Linking:
    dlsrc=dl_dlopen.xs, dlext=so, d_dlsymun=undef, ccdlflags='-Wl,-E'
    cccdlflags='-fPIC', lddlflags='-shared -O2 -L/usr/local/lib -fstack-protector-strong'


Characteristics of this binary (from libperl): 
  Compile-time options: HAS_TIMES PERLIO_LAYERS PERL_COPY_ON_WRITE
                        PERL_DONT_CREATE_GVSV
                        PERL_HASH_FUNC_ONE_AT_A_TIME_HARD PERL_MALLOC_WRAP
                        PERL_PRESERVE_IVUV USE_64_BIT_ALL USE_64_BIT_INT
                        USE_LARGE_FILES USE_LOCALE USE_LOCALE_COLLATE
                        USE_LOCALE_CTYPE USE_LOCALE_NUMERIC USE_LOCALE_TIME
                        USE_PERLIO USE_PERL_ATOF
  Locally applied patches:
	Devel::PatchPerl 2.08
  Built under linux
  Compiled at Feb 21 2025 05:41:23
  %ENV:
    PERLBREW_HOME="/home/aj/.perlbrew"
    PERLBREW_MANPATH="/home/aj/perl5/perlbrew/perls/perl-5.24.4/man"
    PERLBREW_PATH="/home/aj/perl5/perlbrew/bin:/home/aj/perl5/perlbrew/perls/perl-5.24.4/bin"
    PERLBREW_PERL="perl-5.24.4"
    PERLBREW_ROOT="/home/aj/perl5/perlbrew"
    PERLBREW_SHELLRC_VERSION="0.98"
    PERLBREW_VERSION="0.98"
  @INC:
    /home/aj/perl5/perlbrew/perls/perl-5.24.4/lib/site_perl/5.24.4/x86_64-linux
    /home/aj/perl5/perlbrew/perls/perl-5.24.4/lib/site_perl/5.24.4
    /home/aj/perl5/perlbrew/perls/perl-5.24.4/lib/5.24.4/x86_64-linux
    /home/aj/perl5/perlbrew/perls/perl-5.24.4/lib/5.24.4
    .