CryptX v0.084 Perl 5 v5.36.1 i86pc-solaris

Status
Pass
From
Roland van Ipenburg (IPENBURG)
Dist
CryptX v0.084
Platform
Perl 5 v5.36.1 i86pc-solaris
Date
2025-02-05 16:10:31
ID
b9090f5a-e3db-11ef-9aa7-b687a65b511b
This distribution has been tested as part of the CPAN Testers
project, supporting the Perl programming language.  See
http://wiki.cpantesters.org/ for more information or email
questions to cpan-testers-discuss@perl.org


--
Dear Karel Miko,

This is a computer-generated report for CryptX-0.084
on perl 5.36.1, created by CPAN-Reporter-1.2020.

Thank you for uploading your work to CPAN.  Congratulations!
All tests were successful.

Sections of this report:

    * Tester comments
    * Program output
    * Prerequisites
    * Environment and other context

------------------------------
TESTER COMMENTS
------------------------------

Additional comments from tester:

none provided

------------------------------
PROGRAM OUTPUT
------------------------------

Output from '/usr/bin/make test':

"/opt/bin/perl5.36.1" -MExtUtils::Command::MM -e 'cp_nonempty' -- CryptX.bs blib/arch/auto/CryptX/CryptX.bs 644
PERL_DL_NONLAZY=1 "/opt/bin/perl5.36.1" "-MExtUtils::Command::MM" "-MTest::Harness" "-e" "undef *Test::Harness::Switches; test_harness(0, 'blib/lib', 'blib/arch')" t/*.t
# Testing CryptX 0.084, Perl 5.036001 solaris /opt/bin/perl5.36.1
# osname       = solaris
# osvers       = 2.11
# archname     = i86pc-solaris
# uname        = uname
# myarchname   = i86pc-solaris
# myuname      = sunos solaris 5.11 11.4.42.111.0 i86pc i386 i86pc virtualbox 
# gccversion   = 
# ccversion    = Studio 12.6 Sun C 5.15 SunOS_i386 2017/05/30
# cc           = /opt/developerstudio12.6/bin/cc
# intsize      = 4
# longsize     = 4
# longlongsize = 8
# ptrsize      = 4
# byteorder    = 1234
# 
# LibTomCrypt 1.18.2-develop (www.libtom.net)
# LibTomCrypt is public domain software.
# 
# 
# Endianness: little (32-bit words)
# Clean stack: disabled
# 
# Ciphers built-in:
#    Blowfish
#    RC2
#    RC5
#    RC6
#    Safer+
#    Safer
#    Rijndael
#    XTEA
#    Twofish (tables)
#    DES
#    DES-X
#    3DES
#    SM4
#    CAST5
#    Noekeon
#    Skipjack
#    Khazad
#    Anubis  (tweaked)
#    KSEED
#    KASUMI
#    MULTI2
#    Camellia
#    IDEA
#    Serpent
#    TEA
# Stream ciphers built-in:
#    ChaCha
#    Salsa20
#    XSalsa20
#    Sosemanuk
#    Rabbit
#    RC4
#    SOBER128
# 
# Hashes built-in:
#    SHA3
#    KECCAK
#    SHA-512
#    SHA-384
#    SHA-512/256
#    SHA-256
#    SHA-512/224
#    SHA-224
#    TIGER
#    SHA1
#    MD5
#    MD4
#    MD2
#    RIPEMD128
#    RIPEMD160
#    RIPEMD256
#    RIPEMD320
#    WHIRLPOOL
#    BLAKE2S
#    BLAKE2B
#    CHC_HASH
# 
# Block Chaining Modes:
#    CFB
#    OFB
#    ECB
#    CBC
#    CTR
#    LRW (tables) 
#    F8
#    XTS
# 
# MACs:
#    HMAC
#    OMAC
#    PMAC
#    PELICAN
#    XCBC
#    F9
#    POLY1305
#    BLAKE2S MAC
#    BLAKE2B MAC
# 
# ENC + AUTH modes:
#    EAX
#    OCB
#    OCB3
#    CCM
#    GCM (tables) 
#    CHACHA20POLY1305
# 
# PRNG:
#    Yarrow (LTC_YARROW_AES=2)
#    SPRNG
#    RC4
#    ChaCha20
#    Fortuna (LTC_FORTUNA_POOLS=32, LTC_FORTUNA_RESEED_RATELIMIT_STATIC, LTC_FORTUNA_WD=10)
#    SOBER128
# 
# PK Crypto:
#    RSA (with blinding and CRT hardening)
#    DH
#    ECC (with blinding)
#    DSA
#    Ed25519
#    X25519
#    LTC_PK_MAX_RETRIES=20
# 
# MPI (Math):
#    LTC_MPI
#    LTM_DESC
#    LTC_MILLER_RABIN_REPS=40
# 
# Compiler:
# 
# Various others:  ARGTYPE=4  ADLER32  BASE64  BASE64-URL-SAFE  BASE32  BASE16  BCRYPT  LTC_BCRYPT_DEFAULT_ROUNDS=10  CRC32  DER  LTC_DER_MAX_RECURSION=30  PKCS#1  PKCS#5  PKCS#8  PKCS#12  PADDING  HKDF  PBES1  PBES2  PEM  LTC_PEM_DECODE_BUFSZ=80  LTC_PEM_READ_BUFSIZE=8192  SSH  OpenSSH-PEM  LTC_DEVRANDOM  LTC_TRY_URANDOM_FIRST  LTC_RNG_GET_BYTES  LTC_RNG_MAKE_PRNG  LTC_HASH_HELPERS  LTC_FILE_READ_BUFSIZE=8192  LTC_NO_TEST  LTC_ECC_SHAMIR 
# 
# MP_PROVIDER  = LibTomMath
# MP_DIGIT_BIT = 28
# 
t/001_compile.t ..................... ok
t/002_all_pm.t ...................... skipped: set AUTHOR_MODE to enable this test (developer only!)
t/003_all_pm_pod.t .................. skipped: set AUTHOR_MODE to enable this test (developer only!)
t/004_all_pm_pod_spelling.t ......... skipped: set AUTHOR_MODE to enable this test (developer only!)
t/005_all_pm_pod_coverage.t ......... skipped: set AUTHOR_MODE to enable this test (developer only!)
t/auth_enc_ccm.t .................... ok
t/auth_enc_ccm_test_vector_ltc.t .... ok
t/auth_enc_chacha20poly1305.t ....... ok
t/auth_enc_eax.t .................... ok
t/auth_enc_eax_test_vector_ltc.t .... ok
t/auth_enc_gcm.t .................... ok
t/auth_enc_gcm_test_vector_ltc.t .... ok
t/auth_enc_ocb.t .................... ok
t/auth_enc_ocb_test_vectors_ietf.t .. ok
t/checksum.t ........................ ok
t/cipher_aes.t ...................... ok
t/cipher_aes_test_vectors_bc.t ...... ok
t/cipher_anubis.t ................... ok
t/cipher_blowfish.t ................. ok
t/cipher_camellia.t ................. ok
t/cipher_cast5.t .................... ok
t/cipher_des.t ...................... ok
t/cipher_des_ede.t .................. ok
t/cipher_idea.t ..................... ok
t/cipher_idea_compat.t .............. ok
t/cipher_kasumi.t ................... ok
t/cipher_khazad.t ................... ok
t/cipher_multi2.t ................... ok
t/cipher_multi2_rounds.t ............ ok
t/cipher_noekeon.t .................. ok
t/cipher_rc2.t ...................... ok
t/cipher_rc5.t ...................... ok
t/cipher_rc6.t ...................... ok
t/cipher_safer_k128.t ............... ok
t/cipher_safer_k64.t ................ ok
t/cipher_safer_sk128.t .............. ok
t/cipher_safer_sk64.t ............... ok
t/cipher_saferp.t ................... ok
t/cipher_seed.t ..................... ok
t/cipher_seed_test_vectors_bc.t ..... ok
t/cipher_serpent.t .................. ok
t/cipher_serpent_compat.t ........... ok
t/cipher_skipjack.t ................. ok
t/cipher_stream.t ................... ok
t/cipher_stream_rabbit.t ............ ok
t/cipher_stream_salsa20.t ........... ok
t/cipher_test_vectors_ltc.t ......... ok
t/cipher_test_vectors_openssl.t ..... ok
t/cipher_twofish.t .................. ok
t/cipher_twofish_test_vectors_bc.t .. ok
t/cipher_xtea.t ..................... ok
t/cipher_xtea_test_vectors_bc.t ..... ok
t/crypt-misc.t ...................... ok
t/digest_blake2b_160.t .............. ok
t/digest_blake2b_256.t .............. ok
t/digest_blake2b_384.t .............. ok
t/digest_blake2b_512.t .............. ok
t/digest_blake2s_128.t .............. ok
t/digest_blake2s_160.t .............. ok
t/digest_blake2s_224.t .............. ok
t/digest_blake2s_256.t .............. ok
t/digest_chaes.t .................... ok
t/digest_keccak224.t ................ ok
t/digest_keccak256.t ................ ok
t/digest_keccak384.t ................ ok
t/digest_keccak512.t ................ ok
t/digest_md2.t ...................... ok
t/digest_md4.t ...................... ok
t/digest_md5.t ...................... ok
t/digest_ripemd128.t ................ ok
t/digest_ripemd160.t ................ ok
t/digest_ripemd256.t ................ ok
t/digest_ripemd320.t ................ ok
t/digest_sha1.t ..................... ok
t/digest_sha224.t ................... ok
t/digest_sha256.t ................... ok
t/digest_sha384.t ................... ok
t/digest_sha3_224.t ................. ok
t/digest_sha3_256.t ................. ok
t/digest_sha3_384.t ................. ok
t/digest_sha3_512.t ................. ok
t/digest_sha512.t ................... ok
t/digest_sha512_224.t ............... ok
t/digest_sha512_256.t ............... ok
t/digest_shake.t .................... ok
t/digest_test_vectors_ltc.t ......... ok
t/digest_tiger192.t ................. ok
t/digest_whirlpool.t ................ ok
t/jwk.t ............................. ok
t/key_derivation.t .................. ok
t/mac_blake2b.t ..................... ok
t/mac_blake2s.t ..................... ok
t/mac_f9.t .......................... ok
t/mac_hmac.t ........................ ok
t/mac_hmac_nist.t ................... ok
t/mac_hmac_test_vectors_ltc.t ....... ok
t/mac_omac.t ........................ ok
t/mac_omac_test_vectors_ltc.t ....... ok
t/mac_pelican.t ..................... ok
t/mac_pmac.t ........................ ok
t/mac_pmac_test_vectors_ltc.t ....... ok
t/mac_poly1305.t .................... ok
t/mac_xcbc.t ........................ ok
# Math::BigInt VERSION=2.003003
t/mbi_ltm_01load.t .................. ok
t/mbi_ltm_bigfltpm.t ................ ok
t/mbi_ltm_bigintg.t ................. ok
t/mbi_ltm_bigintpm.t ................ ok
t/mbi_ltm_biglog.t .................. ok
t/mbi_ltm_bigroot.t ................. ok
t/mbi_ltm_bugs.t .................... ok
t/mbi_ltm_mbi-from-big-scalar.t ..... skipped: missing 64bit int support
t/mbi_ltm_since_1.999837.t .......... ok
t/mbi_ltm_since_1.999842.t .......... ok
t/mbi_ltm_storable.t ................ ok
t/mode_cbc.t ........................ ok
t/mode_cfb.t ........................ ok
t/mode_ctr.t ........................ ok
t/mode_ecb.t ........................ ok
t/mode_ofb.t ........................ ok
t/pk_dh.t ........................... ok
t/pk_dsa.t .......................... ok
t/pk_dsa_test_vectors_openssl.t ..... ok
t/pk_ecc.t .......................... ok
t/pk_ecc_test_vectors_openssl.t ..... ok
t/pk_ed25519.t ...................... ok
t/pk_enc_pem.t ...................... ok
t/pk_rsa.t .......................... ok
t/pk_rsa_test_vectors_openssl.t ..... ok
t/pk_x25519.t ....................... ok
t/pkcs8.t ........................... ok
t/prng.t ............................ ok
t/prng_chacha20.t ................... ok
t/prng_fortuna.t .................... ok
t/prng_rc4.t ........................ ok
t/prng_sober128.t ................... ok
t/prng_yarrow.t ..................... ok
t/sshkey.t .......................... ok
All tests successful.
Files=137, Tests=25241, 34 wallclock secs ( 2.18 usr  0.61 sys + 23.28 cusr  6.14 csys = 32.21 CPU)
Result: PASS

------------------------------
PREREQUISITES
------------------------------

Prerequisite modules loaded:

requires:

    Module              Need  Have    
    ------------------- ----- --------
    Math::BigInt        0     2.003003
    perl                5.006 5.036001

build_requires:

    Module              Need  Have    
    ------------------- ----- --------
    ExtUtils::MakeMaker 0     7.70    
    Test::More          0     1.302202

configure_requires:

    Module              Need  Have    
    ------------------- ----- --------
    ExtUtils::MakeMaker 0     7.70    


------------------------------
ENVIRONMENT AND OTHER CONTEXT
------------------------------

Environment variables:

    LANG = en_US.UTF-8
    LC_ALL = 
    LC_COLLATE = 
    LC_CTYPE = 
    LC_MESSAGES = 
    NONINTERACTIVE_TESTING = 1
    PATH = /opt/bin:/usr/bin:/usr/sbin
    PERL5LIB = /export/home/roland/.cpan/build/Crypt-DSA-1.19-0/blib/arch:/export/home/roland/.cpan/build/Crypt-DSA-1.19-0/blib/lib:/export/home/roland/.cpan/build/Convert-PEM-0.13-1/blib/arch:/export/home/roland/.cpan/build/Convert-PEM-0.13-1/blib/lib:/export/home/roland/.cpan/build/Class-ErrorHandler-0.04-1/blib/arch:/export/home/roland/.cpan/build/Class-ErrorHandler-0.04-1/blib/lib:/export/home/roland/.cpan/build/Convert-ASN1-0.34-1/blib/arch:/export/home/roland/.cpan/build/Convert-ASN1-0.34-1/blib/lib:/export/home/roland/.cpan/build/Crypt-DES_EDE3-0.03-0/blib/arch:/export/home/roland/.cpan/build/Crypt-DES_EDE3-0.03-0/blib/lib:/export/home/roland/.cpan/build/Cpanel-JSON-XS-4.39-0/blib/arch:/export/home/roland/.cpan/build/Cpanel-JSON-XS-4.39-0/blib/lib:/export/home/roland/.cpan/build/Cookie-Baker-0.12-0/blib/arch:/export/home/roland/.cpan/build/Cookie-Baker-0.12-0/blib/lib:/export/home/roland/.cpan/build/Config-Perl-V-0.38-0/blib/arch:/export/home/roland/.cpan/build/Config-Perl-V-0.38-0/blib/lib:/export/home/roland/.cpan/build/Class-Data-Inheritable-0.10-0/blib/arch:/export/home/roland/.cpan/build/Class-Data-Inheritable-0.10-0/blib/lib:/export/home/roland/.cpan/build/Capture-Tiny-0.50-0/blib/arch:/export/home/roland/.cpan/build/Capture-Tiny-0.50-0/blib/lib:/export/home/roland/.cpan/build/CPAN-Meta-YAML-0.020-0/blib/arch:/export/home/roland/.cpan/build/CPAN-Meta-YAML-0.020-0/blib/lib:/export/home/roland/.cpan/build/CPAN-2.38-0/blib/arch:/export/home/roland/.cpan/build/CPAN-2.38-0/blib/lib:/export/home/roland/.cpan/build/CGI-4.67-0/blib/arch:/export/home/roland/.cpan/build/CGI-4.67-0/blib/lib
    PERL5OPT = 
    PERL5_CPANPLUS_IS_RUNNING = 24110
    PERL5_CPAN_IS_RUNNING = 24110
    PERL_MM_USE_DEFAULT = 1
    PERL_USE_UNSAFE_INC = 1
    SHELL = /usr/bin/bash
    TERM = xterm-256color

Perl special variables (and OS-specific diagnostics, for MSWin32):

    $^X = /opt/bin/perl5.36.1
    $UID/$EUID = 100 / 100
    $GID = 10 10
    $EGID = 10 10

Perl module toolchain versions installed:

    Module              Have    
    ------------------- --------
    CPAN                2.38    
    CPAN::Meta          2.150010
    Cwd                 3.84    
    ExtUtils::CBuilder  0.280236
    ExtUtils::Command   7.70    
    ExtUtils::Install   2.22    
    ExtUtils::MakeMaker 7.70    
    ExtUtils::Manifest  1.75    
    ExtUtils::ParseXS   3.51    
    File::Spec          3.84    
    JSON                4.10    
    JSON::PP            4.16    
    Module::Build       0.4234  
    Module::Signature   0.88    
    Parse::CPAN::Meta   2.150010
    Test2               1.302202
    Test::Harness       3.50    
    Test::More          1.302202
    YAML                1.31    
    YAML::Syck          n/a     
    version             0.9933  


--

Summary of my perl5 (revision 5 version 36 subversion 1) configuration:
   
  Platform:
    osname=solaris
    osvers=2.11
    archname=i86pc-solaris
    uname='sunos solaris 5.11 11.4.42.111.0 i86pc i386 i86pc virtualbox '
    config_args='-des -Dinc_version_list=none'
    hint=recommended
    useposix=true
    d_sigaction=define
    useithreads=undef
    usemultiplicity=undef
    use64bitint=undef
    use64bitall=undef
    uselongdouble=undef
    usemymalloc=n
    default_inc_excludes_dot=define
  Compiler:
    cc='/opt/developerstudio12.6/bin/cc'
    ccflags ='-I/usr/gnu/include -D_LARGEFILE_SOURCE -D_FILE_OFFSET_BITS=64 -DPERL_USE_SAFE_PUTENV'
    optimize='-O'
    cppflags='-I/usr/gnu/include'
    ccversion='Studio 12.6 Sun C 5.15 SunOS_i386 2017/05/30'
    gccversion=''
    gccosandvers=''
    intsize=4
    longsize=4
    ptrsize=4
    doublesize=8
    byteorder=1234
    doublekind=3
    d_longlong=define
    longlongsize=8
    d_longdbl=define
    longdblsize=12
    longdblkind=3
    ivtype='long'
    ivsize=4
    nvtype='double'
    nvsize=8
    Off_t='off_t'
    lseeksize=8
    alignbytes=4
    prototype=define
  Linker and Libraries:
    ld='/opt/developerstudio12.6/bin/cc'
    ldflags =' -L/usr/lib -L/usr/ccs/lib -L/opt/developerstudio12.6/lib/compilers/sse2 -L/opt/developerstudio12.6/lib/compilers -L/lib -L/usr/gnu/lib '
    libpth=/usr/lib /usr/ccs/lib /opt/developerstudio12.6/lib/compilers/sse2 /opt/developerstudio12.6/lib/compilers /lib /usr/gnu/lib
    libs=-lpthread -lsocket -lnsl -lgdbm -ldb -ldl -lm -lc
    perllibs=-lpthread -lsocket -lnsl -ldl -lm -lc
    libc=/lib/libc.so
    so=so
    useshrplib=true
    libperl=libperl.so
    gnulibc_version=''
  Dynamic Linking:
    dlsrc=dl_dlopen.xs
    dlext=so
    d_dlsymun=undef
    ccdlflags='  -R /opt/lib/perl5/5.36.1/i86pc-solaris/CORE'
    cccdlflags='-KPIC'
    lddlflags='-G -L/usr/lib -L/usr/ccs/lib -L/opt/developerstudio12.6/lib/compilers/sse2 -L/opt/developerstudio12.6/lib/compilers -L/lib -L/usr/gnu/lib'


Characteristics of this binary (from libperl): 
  Compile-time options:
    HAS_TIMES
    PERLIO_LAYERS
    PERL_COPY_ON_WRITE
    PERL_DONT_CREATE_GVSV
    PERL_MALLOC_WRAP
    PERL_OP_PARENT
    PERL_PRESERVE_IVUV
    PERL_USE_SAFE_PUTENV
    USE_LARGE_FILES
    USE_LOCALE
    USE_LOCALE_COLLATE
    USE_LOCALE_CTYPE
    USE_LOCALE_NUMERIC
    USE_LOCALE_TIME
    USE_PERLIO
    USE_PERL_ATOF
  Built under solaris
  Compiled at Jun 12 2023 07:45:32
  %ENV:
    PERL5LIB="/export/home/roland/.cpan/build/Crypt-DSA-1.19-0/blib/arch:/export/home/roland/.cpan/build/Crypt-DSA-1.19-0/blib/lib:/export/home/roland/.cpan/build/Convert-PEM-0.13-1/blib/arch:/export/home/roland/.cpan/build/Convert-PEM-0.13-1/blib/lib:/export/home/roland/.cpan/build/Class-ErrorHandler-0.04-1/blib/arch:/export/home/roland/.cpan/build/Class-ErrorHandler-0.04-1/blib/lib:/export/home/roland/.cpan/build/Convert-ASN1-0.34-1/blib/arch:/export/home/roland/.cpan/build/Convert-ASN1-0.34-1/blib/lib:/export/home/roland/.cpan/build/Crypt-DES_EDE3-0.03-0/blib/arch:/export/home/roland/.cpan/build/Crypt-DES_EDE3-0.03-0/blib/lib:/export/home/roland/.cpan/build/Cpanel-JSON-XS-4.39-0/blib/arch:/export/home/roland/.cpan/build/Cpanel-JSON-XS-4.39-0/blib/lib:/export/home/roland/.cpan/build/Cookie-Baker-0.12-0/blib/arch:/export/home/roland/.cpan/build/Cookie-Baker-0.12-0/blib/lib:/export/home/roland/.cpan/build/Config-Perl-V-0.38-0/blib/arch:/export/home/roland/.cpan/build/Config-Perl-V-0.38-0/blib/lib:/export/home/roland/.cpan/build/Class-Data-Inheritable-0.10-0/blib/arch:/export/home/roland/.cpan/build/Class-Data-Inheritable-0.10-0/blib/lib:/export/home/roland/.cpan/build/Capture-Tiny-0.50-0/blib/arch:/export/home/roland/.cpan/build/Capture-Tiny-0.50-0/blib/lib:/export/home/roland/.cpan/build/CPAN-Meta-YAML-0.020-0/blib/arch:/export/home/roland/.cpan/build/CPAN-Meta-YAML-0.020-0/blib/lib:/export/home/roland/.cpan/build/CPAN-2.38-0/blib/arch:/export/home/roland/.cpan/build/CPAN-2.38-0/blib/lib:/export/home/roland/.cpan/build/CGI-4.67-0/blib/arch:/export/home/roland/.cpan/build/CGI-4.67-0/blib/lib"
    PERL5OPT=""
    PERL5_CPANPLUS_IS_RUNNING="24110"
    PERL5_CPAN_IS_RUNNING="24110"
    PERL_MM_USE_DEFAULT="1"
    PERL_USE_UNSAFE_INC="1"
  @INC:
    /export/home/roland/.cpan/build/Crypt-DSA-1.19-0/blib/arch
    /export/home/roland/.cpan/build/Crypt-DSA-1.19-0/blib/lib
    /export/home/roland/.cpan/build/Convert-PEM-0.13-1/blib/arch
    /export/home/roland/.cpan/build/Convert-PEM-0.13-1/blib/lib
    /export/home/roland/.cpan/build/Class-ErrorHandler-0.04-1/blib/arch
    /export/home/roland/.cpan/build/Class-ErrorHandler-0.04-1/blib/lib
    /export/home/roland/.cpan/build/Convert-ASN1-0.34-1/blib/arch
    /export/home/roland/.cpan/build/Convert-ASN1-0.34-1/blib/lib
    /export/home/roland/.cpan/build/Crypt-DES_EDE3-0.03-0/blib/arch
    /export/home/roland/.cpan/build/Crypt-DES_EDE3-0.03-0/blib/lib
    /export/home/roland/.cpan/build/Cpanel-JSON-XS-4.39-0/blib/arch
    /export/home/roland/.cpan/build/Cpanel-JSON-XS-4.39-0/blib/lib
    /export/home/roland/.cpan/build/Cookie-Baker-0.12-0/blib/arch
    /export/home/roland/.cpan/build/Cookie-Baker-0.12-0/blib/lib
    /export/home/roland/.cpan/build/Config-Perl-V-0.38-0/blib/arch
    /export/home/roland/.cpan/build/Config-Perl-V-0.38-0/blib/lib
    /export/home/roland/.cpan/build/Class-Data-Inheritable-0.10-0/blib/arch
    /export/home/roland/.cpan/build/Class-Data-Inheritable-0.10-0/blib/lib
    /export/home/roland/.cpan/build/Capture-Tiny-0.50-0/blib/arch
    /export/home/roland/.cpan/build/Capture-Tiny-0.50-0/blib/lib
    /export/home/roland/.cpan/build/CPAN-Meta-YAML-0.020-0/blib/arch
    /export/home/roland/.cpan/build/CPAN-Meta-YAML-0.020-0/blib/lib
    /export/home/roland/.cpan/build/CPAN-2.38-0/blib/arch
    /export/home/roland/.cpan/build/CPAN-2.38-0/blib/lib
    /export/home/roland/.cpan/build/CGI-4.67-0/blib/arch
    /export/home/roland/.cpan/build/CGI-4.67-0/blib/lib
    /opt/lib/perl5/site_perl/5.36.1/i86pc-solaris
    /opt/lib/perl5/site_perl/5.36.1
    /opt/lib/perl5/5.36.1/i86pc-solaris
    /opt/lib/perl5/5.36.1
    .