Path-Tiny v0.144 Perl 5 v5.10.1 x86_64-linux
- Status
- Pass
- From
- Slaven Rezić
- Dist
-
Path-Tiny v0.144
- Platform
- Perl 5 v5.10.1 x86_64-linux
- Date
- 2022-12-04 17:40:19
- ID
- b8e42094-73fa-11ed-8ad4-234c6e8775ea
This distribution has been tested as part of the CPAN Testers
project, supporting the Perl programming language. See
http://wiki.cpantesters.org/ for more information or email
questions to cpan-testers-discuss@perl.org
--
Dear David Golden,
This is a computer-generated report for Path-Tiny-0.144
on perl 5.10.1, created by CPAN-Reporter-1.2018.
Thank you for uploading your work to CPAN. Congratulations!
All tests were successful.
Sections of this report:
* Tester comments
* Program output
* Prerequisites
* Environment and other context
------------------------------
TESTER COMMENTS
------------------------------
Additional comments from tester:
none provided
------------------------------
PROGRAM OUTPUT
------------------------------
Output from '/usr/bin/make test':
PERL_DL_NONLAZY=1 "/opt/perl-5.10.1/bin/perl" "-MExtUtils::Command::MM" "-MTest::Harness" "-e" "undef *Test::Harness::Switches; test_harness(0, 'blib/lib', 'blib/arch')" t/*.t
#
# Versions for all modules listed in MYMETA.json (including optional ones):
#
# === Configure Requires ===
#
# Module Want Have
# ------------------- ---- ----
# ExtUtils::MakeMaker 6.17 7.64
#
# === Configure Suggests ===
#
# Module Want Have
# -------- ------- -------
# JSON::PP 2.27300 2.27203
#
# === Build Requires ===
#
# Module Want Have
# ------------------- ---- ----
# ExtUtils::MakeMaker any 7.64
#
# === Test Requires ===
#
# Module Want Have
# --------------------- ---- --------
# Digest::MD5 any 2.39
# ExtUtils::MakeMaker any 7.64
# File::Basename any 2.77
# File::Spec 0.86 3.30
# File::Spec::Functions any 3.30
# File::Spec::Unix any 3.30
# File::Temp 0.19 0.22
# Test::More 0.96 1.302191
# lib any 0.62
# open any 1.07
#
# === Test Recommends ===
#
# Module Want Have
# ------------------ -------- --------
# CPAN::Meta 2.120900 2.143240
# Test::FailWarnings any missing
# Test::MockRandom any missing
#
# === Runtime Requires ===
#
# Module Want Have
# ------------------ ---- -------
# Carp any 1.11
# Cwd any 3.30
# Digest 1.03 1.16
# Digest::SHA 5.45 5.47
# Encode any 2.35
# Exporter 5.57 5.63
# Fcntl any 1.06
# File::Compare any 1.1006
# File::Copy any 2.14
# File::Glob any 1.06
# File::Path 2.07 2.07_03
# File::Spec 0.86 3.30
# File::Temp 0.19 0.22
# File::stat any 1.01
# constant any 1.17
# overload any 1.07
# strict any 1.04
# warnings any 1.06
# warnings::register any 1.01
#
# === Runtime Recommends ===
#
# Module Want Have
# ------------- ---- -------
# Unicode::UTF8 0.58 missing
#
t/00-report-prereqs.t ............. ok
t/basename.t ...................... ok
t/basic.t ......................... ok
t/children.t ...................... ok
t/chmod.t ......................... ok
t/digest.t ........................ ok
t/exception.t ..................... ok
t/exports.t ....................... ok
t/filesystem.t .................... ok
t/has_same_bytes.t ................ ok
t/input_output.t .................. ok
t/input_output_no_PU_UU.t ......... ok
t/input_output_no_UU.t ............ ok
t/locking.t ....................... ok
t/mkdir.t ......................... ok
t/mkpath.t ........................ ok
t/mutable_tree_while_iterating.t .. ok
t/normalize.t ..................... ok
t/overloading.t ................... ok
t/parent.t ........................ ok
t/recurse.t ....................... ok
t/rel-abs.t ....................... ok
t/sig_die.t ....................... ok
t/size.t .......................... ok
t/subsumes.t ...................... ok
t/symlinks.t ...................... ok
t/temp.t .......................... ok
t/visit.t ......................... ok
t/zz-atomic.t ..................... skipped: Test::MockRandom required for atomicity tests
t/zzz-spec.t ...................... ok
All tests successful.
Files=30, Tests=1769, 1 wallclock secs ( 0.08 usr 0.16 sys + 1.05 cusr 0.27 csys = 1.56 CPU)
Result: PASS
------------------------------
PREREQUISITES
------------------------------
Prerequisite modules loaded:
requires:
Module Need Have
--------------------- -------- --------
Carp 0 1.11
constant 0 1.17
Cwd 0 3.30
Digest 1.03 1.16
Digest::SHA 5.45 5.47
Encode 0 2.35
Exporter 5.57 5.63
Fcntl 0 1.06
File::Compare 0 1.1006
File::Copy 0 2.14
File::Glob 0 1.06
File::Path 2.07 2.07_03
File::Spec 0.86 3.30
File::stat 0 1.01
File::Temp 0.19 0.22
overload 0 1.07
perl 5.008001 5.010001
strict 0 1.04
warnings 0 1.06
warnings::register 0 1.01
build_requires:
Module Need Have
--------------------- -------- --------
Digest::MD5 0 2.39
ExtUtils::MakeMaker 0 7.64
File::Basename 0 2.77
File::Spec 0.86 3.30
File::Spec::Functions 0 3.30
File::Spec::Unix 0 3.30
File::Temp 0.19 0.22
lib 0 0.62
open 0 1.07
Test::More 0.96 1.302191
configure_requires:
Module Need Have
--------------------- -------- --------
ExtUtils::MakeMaker 6.17 7.64
perl 5.008001 5.010001
------------------------------
ENVIRONMENT AND OTHER CONTEXT
------------------------------
Environment variables:
LANG = C
PATH = /usr/local/bin:/usr/bin:/bin:/usr/local/sbin:/usr/sbin:/sbin:/home/cpansand/bin/linux-gnu:/home/cpansand/bin/sh:/home/cpansand/bin:/usr/games:/home/cpansand/devel:/home/eserte/src/srezic-misc/scripts
PERL5LIB =
PERL5OPT =
PERL5_CPANPLUS_IS_RUNNING = 1248243
PERL5_CPAN_IS_RUNNING = 1248243
PERL5_CPAN_IS_RUNNING_IN_RECURSION = 965,1248243
PERLDOC = -MPod::Perldoc::ToTextOverstrike
PERL_BATCH = yes
PERL_CANARY_STABILITY_NOPROMPT = 1
PERL_CPAN_REPORTER_CONFIG = /var/tmp/cpansmoker-1023/2022120308/cpanreporter_000_config.ini
PERL_EXTUTILS_AUTOINSTALL = --defaultdeps
SHELL = /usr/bin/zsh
TERM = screen
TMPDIR = /var/tmp/cpansmoker-1023/2022120308
Perl special variables (and OS-specific diagnostics, for MSWin32):
$^X = /opt/perl-5.10.1/bin/perl
$UID/$EUID = 1023 / 1023
$GID = 1023 1023
$EGID = 1023 1023
Perl module toolchain versions installed:
Module Have
------------------- --------
CPAN 1.9402
CPAN::Meta 2.143240
Cwd 3.30
ExtUtils::CBuilder 0.2602
ExtUtils::Command 7.64
ExtUtils::Install 2.06
ExtUtils::MakeMaker 7.64
ExtUtils::Manifest 1.70
ExtUtils::ParseXS 2.2002
File::Spec 3.30
JSON n/a
JSON::PP 2.27203
Module::Build 0.340201
Module::Signature n/a
Parse::CPAN::Meta 1.4414
Test::Harness 3.17
Test::More 1.302191
YAML 1.30
YAML::Syck 1.34
version 0.9929
--
Summary of my perl5 (revision 5 version 10 subversion 1) configuration:
Platform:
osname=linux, osvers=5.10.0-16-amd64, archname=x86_64-linux
uname='linux eserte 5.10.0-16-amd64 #1 smp debian 5.10.127-1 (2022-06-30) x86_64 gnulinux '
config_args='-ds -e -Dprefix=/opt/perl-5.10.1 -Dcf_email=srezic@cpan.org'
hint=recommended, useposix=true, d_sigaction=define
useithreads=undef, usemultiplicity=undef
useperlio=define, d_sfio=undef, uselargefiles=define, usesocks=undef
use64bitint=define, use64bitall=define, uselongdouble=undef
usemymalloc=n, bincompat5005=undef
Compiler:
cc='cc', ccflags ='-fwrapv -fno-strict-aliasing -pipe -fstack-protector -I/usr/local/include -D_LARGEFILE_SOURCE -D_FILE_OFFSET_BITS=64',
optimize='-O2',
cppflags='-fwrapv -fno-strict-aliasing -pipe -fstack-protector -I/usr/local/include'
ccversion='', gccversion='10.2.1 20210110', gccosandvers=''
intsize=4, longsize=8, ptrsize=8, doublesize=8, byteorder=12345678
d_longlong=define, longlongsize=8, d_longdbl=define, longdblsize=16
ivtype='long', ivsize=8, nvtype='double', nvsize=8, Off_t='off_t', lseeksize=8
alignbytes=8, prototype=define
Linker and Libraries:
ld='cc', ldflags =' -fstack-protector -L/usr/local/lib'
libpth=/usr/local/lib /lib/x86_64-linux-gnu /lib/../lib /usr/lib/x86_64-linux-gnu /usr/lib/../lib /lib /usr/lib
libs=-lnsl -lgdbm -ldb -ldl -lm -lcrypt -lutil -lc
perllibs=-lnsl -ldl -lm -lcrypt -lutil -lc
libc=libc-2.31.so, so=so, useshrplib=false, libperl=libperl.a
gnulibc_version='2.31'
Dynamic Linking:
dlsrc=dl_dlopen.xs, dlext=so, d_dlsymun=undef, ccdlflags='-Wl,-E'
cccdlflags='-fPIC', lddlflags='-shared -O2 -L/usr/local/lib -fstack-protector'
Characteristics of this binary (from libperl):
Compile-time options: PERL_DONT_CREATE_GVSV PERL_MALLOC_WRAP USE_64_BIT_ALL
USE_64_BIT_INT USE_LARGE_FILES USE_PERLIO
Locally applied patches:
Devel::PatchPerl 2.08
Built under linux
Compiled at Aug 16 2022 05:48:03
%ENV:
PERL5LIB=""
PERL5OPT=""
PERL5_CPANPLUS_IS_RUNNING="1248243"
PERL5_CPAN_IS_RUNNING="1248243"
PERL5_CPAN_IS_RUNNING_IN_RECURSION="965,1248243"
PERLDOC="-MPod::Perldoc::ToTextOverstrike"
PERL_BATCH="yes"
PERL_CANARY_STABILITY_NOPROMPT="1"
PERL_CPAN_REPORTER_CONFIG="/var/tmp/cpansmoker-1023/2022120308/cpanreporter_000_config.ini"
PERL_EXTUTILS_AUTOINSTALL="--defaultdeps"
@INC:
/opt/perl-5.10.1/lib/5.10.1/x86_64-linux
/opt/perl-5.10.1/lib/5.10.1
/opt/perl-5.10.1/lib/site_perl/5.10.1/x86_64-linux
/opt/perl-5.10.1/lib/site_perl/5.10.1
.