FFI-Platypus v1.10 Perl 5 v5.18.4 darwin-thread-multi-2level
- Status
- Pass
- From
- Gintautas Grigelionis
- Dist
-
FFI-Platypus v1.10
- Platform
- Perl 5 v5.18.4 darwin-thread-multi-2level
- Date
- 2020-02-12 18:23:08
- ID
- b839d8be-4dc4-11ea-b314-b9f1c607a63b
This distribution has been tested as part of the CPAN Testers
project, supporting the Perl programming language. See
http://wiki.cpantesters.org/ for more information or email
questions to cpan-testers-discuss@perl.org
--
Dear Graham Ollis,
This is a computer-generated report for FFI-Platypus-1.10
on perl 5.18.4, created by CPAN-Reporter-1.2018.
Thank you for uploading your work to CPAN. Congratulations!
All tests were successful.
Sections of this report:
* Tester comments
* Program output
* Prerequisites
* Environment and other context
------------------------------
TESTER COMMENTS
------------------------------
Additional comments from tester:
none provided
------------------------------
PROGRAM OUTPUT
------------------------------
Output from '/usr/bin/make test':
"/usr/bin/perl" -MExtUtils::Command::MM -e 'cp_nonempty' -- lib/FFI/Platypus.bs blib/arch/auto/FFI/Platypus/Platypus.bs 644
CC t/ffi/align.c
CC t/ffi/align_array.c
CC t/ffi/align_fixed.c
CC t/ffi/align_string.c
CC t/ffi/basic.c
CC t/ffi/closure.c
CC t/ffi/color.c
CC t/ffi/complex_double.c
CC t/ffi/complex_float.c
CC t/ffi/double.c
CC t/ffi/float.c
CC t/ffi/gh117.c
CC t/ffi/gh174.c
CC t/ffi/longdouble.c
CC t/ffi/memcmp4.c
CC t/ffi/meta.c
CC t/ffi/pointer.c
CC t/ffi/record.c
CC t/ffi/sint16.c
CC t/ffi/sint32.c
CC t/ffi/sint64.c
CC t/ffi/sint8.c
CC t/ffi/string.c
CC t/ffi/string_array.c
CC t/ffi/uint16.c
CC t/ffi/uint32.c
CC t/ffi/uint64.c
CC t/ffi/uint8.c
CC t/ffi/variadic.c
LD t/ffi/libtest.dylib
PERL_DL_NONLAZY=1 "/usr/bin/perl" "-MExtUtils::Command::MM" "-MTest::Harness" "-e" "undef *Test::Harness::Switches; test_harness(0, 'blib/lib', 'blib/arch')" t/*.t
#
#
#
# HARNESS_ACTIVE=1
# HARNESS_VERSION=3.42
# LC_CTYPE=UTF-8
# PERL5LIB=/Users/giegri/.cpan/build/FFI-Platypus-1.10-ByabaM/blib/lib:/Users/giegri/.cpan/build/FFI-Platypus-1.10-ByabaM/blib/arch:
# PERL5OPT=
# PERL5_CPANPLUS_IS_RUNNING=96968
# PERL5_CPAN_IS_RUNNING=96968
# PERL_DL_NONLAZY=1
# PERL_USE_UNSAFE_INC=1
# SHELL=/bin/bash
# VERSIONER_PERL_PREFER_32_BIT=no
# VERSIONER_PERL_VERSION=5.18
#
#
#
# PERL5LIB path
# /Users/giegri/.cpan/build/FFI-Platypus-1.10-ByabaM/blib/lib
# /Users/giegri/.cpan/build/FFI-Platypus-1.10-ByabaM/blib/arch
#
#
#
# perl 5.018004
# Alien::Base 1.94
# Capture::Tiny 0.48
# Devel::Hide 0.0010
# ExtUtils::CBuilder 0.280231
# ExtUtils::MakeMaker 7.44
# ExtUtils::ParseXS 3.35
# FFI::CheckLib 0.25
# IPC::Cmd 1.04
# JSON::PP 4.04
# List::Util 1.54
# Math::LongDouble 0.21
# PkgConfig 0.23026
# Test::More 1.302171
# constant 1.33
# forks -
#
#
#
# mode : already-installed
# Alien::FFI->VERSION = 0.24
# Alien::FFI->install_type = share
# Alien::FFI->cflags = -I/Library/Perl/5.18/darwin-thread-multi-2level/auto/share/dist/Alien-FFI/include
# Alien::FFI->libs = -L/Library/Perl/5.18/darwin-thread-multi-2level/auto/share/dist/Alien-FFI/lib -lffi
# Alien::FFI->version = 3.3
# my_configure = %{configure} --disable-shared --enable-static --disable-builddir
#
#
#
# ffi.platypus.memory.strdup_impl =libc
# ffi.platypus.memory.strndup_impl=libc
#
#
#
# Types:
# double : double, float complex
# float : float
# longdouble : double complex, long double, long double complex
# sint16 : int16_t, short, signed short
# sint32 : blksize_t, dev_t, int, int32_t, senum, signed int, wchar_t, wint_t
# sint64 : blkcnt_t, int64_t, intptr_t, long, long long, off_t, ptrdiff_t, signed long, signed long long, ssize_t, time_t
# sint8 : char, int8_t, signed char
# uint16 : mode_t, nlink_t, uint16_t, unsigned short, ushort
# uint32 : enum, gid_t, uid_t, uint, uint32_t, unsigned int
# uint64 : ino_t, size_t, uint64_t, uintptr_t, ulong, unsigned long, unsigned long long
# uint8 : bool, uchar, uint8_t, unsigned char
#
#
#
# ABIs:
# default_abi 2
# efi64 3
# gnuw64 4
# unix64 2
# win64 3
#
#
#
# Probes:
# bigendian64 0
# alloca 1
# bigendian 0
# complex 1
# longdouble 1
# recordvalue 1
# abi 1
# variadic 1
#
#
#
# [PLATFORM]
# osname : darwin
# cc : cc
# cxx : c++
# for : ---
# ld : cc
# ccflags : -g -pipe -fno-common -DPERL_DARWIN -fno-strict-aliasing -fstack-protector -Os -I/Users/giegri/.cpan/build/FFI-Platypus-1.10-ByabaM/blib/lib/auto/share/dist/FFI-Platypus/include
# ldflags : -shared -undefined dynamic_lookup -fstack-protector
# object suffix : .o
# library prefix : lib
# library suffix : .dylib,.bundle
# cc mm works : -MM
#
#
#
t/00_diag.t .............................. ok
t/01_use.t ............................... ok
t/ffi_build.t ............................ ok
t/ffi_build_file_base.t .................. ok
t/ffi_build_file_c.t ..................... ok
t/ffi_build_file_cxx.t ................... ok
t/ffi_build_file_library.t ............... ok
t/ffi_build_file_object.t ................ ok
t/ffi_build_mm.t ......................... ok
t/ffi_build_platform.t ................... ok
t/ffi_platypus.t ......................... ok
t/ffi_platypus_api.t ..................... ok
t/ffi_platypus_buffer.t .................. ok
t/ffi_platypus_bundle.t .................. ok
t/ffi_platypus_closure.t ................. ok
t/ffi_platypus_constant.t ................ ok
t/ffi_platypus_declare.t ................. ok
t/ffi_platypus_dl.t ...................... ok
t/ffi_platypus_function.t ................ ok
t/ffi_platypus_function_wrapper.t ........ ok
t/ffi_platypus_internal.t ................ ok
t/ffi_platypus_lang.t .................... ok
t/ffi_platypus_lang_asm.t ................ ok
t/ffi_platypus_lang_c.t .................. ok
t/ffi_platypus_lang_win32.t .............. ok
t/ffi_platypus_legacy.t .................. ok
t/ffi_platypus_memory.t .................. ok
t/ffi_platypus_record.t .................. ok
t/ffi_platypus_record_meta.t ............. ok
t/ffi_platypus_record_tiearray.t ......... ok
t/ffi_platypus_shareconfig.t ............. ok
t/ffi_platypus_type.t .................... ok
t/ffi_platypus_type_pointersizebuffer.t .. ok
t/ffi_platypus_type_stringarray.t ........ ok
t/ffi_platypus_type_stringpointer.t ...... ok
t/ffi_platypus_typeparser.t .............. ok
t/ffi_platypus_typeparser_version0.t ..... ok
t/ffi_platypus_typeparser_version1.t ..... ok
t/ffi_probe.t ............................ ok
t/ffi_probe_runner.t ..................... ok
t/ffi_probe_runner_builder.t ............. ok
t/ffi_probe_runner_result.t .............. ok
t/ffi_temp.t ............................. ok
t/forks.t ................................ skipped: Test requires forks
t/gh117.t ................................ ok
t/gh129.t ................................ ok
t/memory.t ............................... skipped: tested only in CI
t/threads.t .............................. ok
t/type_complex_double.t .................. ok
t/type_complex_float.t ................... ok
t/type_custom.t .......................... ok
t/type_double.t .......................... ok
t/type_float.t ........................... ok
t/type_longdouble.t ...................... ok
t/type_longdouble__array.t ............... ok
t/type_longdouble__hide.t ................ ok
t/type_longdouble__ptr.t ................. ok
t/type_opaque.t .......................... ok
t/type_record.t .......................... ok
t/type_record_value.t .................... ok
t/type_sint16.t .......................... ok
t/type_sint32.t .......................... ok
t/type_sint64.t .......................... ok
t/type_sint8.t ........................... ok
t/type_string.t .......................... ok
t/type_uint16.t .......................... ok
t/type_uint32.t .......................... ok
t/type_uint64.t .......................... ok
t/type_uint8.t ........................... ok
All tests successful.
Files=69, Tests=346, 13 wallclock secs ( 0.52 usr 0.17 sys + 9.41 cusr 2.85 csys = 12.95 CPU)
Result: PASS
------------------------------
PREREQUISITES
------------------------------
Prerequisite modules loaded:
requires:
Module Need Have
------------------- -------- --------
Capture::Tiny 0 0.48
constant 1.32 1.33
ExtUtils::MakeMaker 7.12 7.44
FFI::CheckLib 0.05 0.25
IPC::Cmd 0 1.04
JSON::PP 0 4.04
List::Util 1.45 1.54
perl 5.008001 5.018004
build_requires:
Module Need Have
------------------- -------- --------
Capture::Tiny 0 0.48
ExtUtils::CBuilder 0 0.280231
Test::More 0.98 1.302171
configure_requires:
Module Need Have
------------------- -------- --------
Capture::Tiny 0 0.48
ExtUtils::MakeMaker 7.12 7.44
ExtUtils::ParseXS 3.30 3.35
IPC::Cmd 0 1.04
perl 5.006 5.018004
------------------------------
ENVIRONMENT AND OTHER CONTEXT
------------------------------
Environment variables:
LC_CTYPE = UTF-8
PATH = /usr/local/bin:/usr/bin:/bin:/usr/sbin:/sbin:/usr/local/MacGPG2/bin:/opt/X11/bin
PERL5LIB =
PERL5OPT =
PERL5_CPANPLUS_IS_RUNNING = 96968
PERL5_CPAN_IS_RUNNING = 96968
SHELL = /bin/bash
TERM = xterm-256color
TMPDIR = /var/folders/c5/867l5h614bs44szg7g2t48fr0000gn/T/
VERSIONER_PERL_PREFER_32_BIT = no
VERSIONER_PERL_VERSION = 5.18
Perl special variables (and OS-specific diagnostics, for MSWin32):
$^X = /usr/bin/perl
$UID/$EUID = 501 / 501
$GID = 20 20 401 12 61 79 80 81 98 402 33 100 204 250 395 398 399
$EGID = 20 20 401 12 61 79 80 81 98 402 33 100 204 250 395 398 399
Perl module toolchain versions installed:
Module Have
------------------- --------
CPAN 2.00
CPAN::Meta 2.150010
Cwd 3.75
ExtUtils::CBuilder 0.280231
ExtUtils::Command 7.44
ExtUtils::Install 2.14
ExtUtils::MakeMaker 7.44
ExtUtils::Manifest 1.72
ExtUtils::ParseXS 3.35
File::Spec 3.75
JSON 4.02
JSON::PP 4.04
Module::Build 0.4231
Module::Signature 0.83
Parse::CPAN::Meta 2.150010
Test::Harness 3.42
Test::More 1.302171
YAML 1.30
YAML::Syck 1.32
version 0.9924
--
Summary of my perl5 (revision 5 version 18 subversion 4) configuration:
Platform:
osname=darwin, osvers=18.0, archname=darwin-thread-multi-2level
uname='darwin osx316.apple.com 18.0 darwin kernel version 17.0.0: fri may 4 10:33:38 pdt 2018; root:xnu-4570.1.46.100.2~1development_x86_64 x86_64 '
config_args='-ds -e -Dprefix=/usr -Dccflags=-g -pipe -Dldflags= -Dman3ext=3pm -Duseithreads -Duseshrplib -Dinc_version_list=none -Dcc=cc'
hint=recommended, useposix=true, d_sigaction=define
useithreads=define, usemultiplicity=define
useperlio=define, d_sfio=undef, uselargefiles=define, usesocks=undef
use64bitint=define, use64bitall=define, uselongdouble=undef
usemymalloc=n, bincompat5005=undef
Compiler:
cc='cc', ccflags =' -g -pipe -fno-common -DPERL_DARWIN -fno-strict-aliasing -fstack-protector',
optimize='-Os',
cppflags='-g -pipe -fno-common -DPERL_DARWIN -fno-strict-aliasing -fstack-protector'
ccversion='', gccversion='4.2.1 Compatible Apple LLVM 10.0.1 (clang-1001.0.37.14)', gccosandvers=''
intsize=4, longsize=8, ptrsize=8, doublesize=8, byteorder=12345678
d_longlong=define, longlongsize=8, d_longdbl=define, longdblsize=16
ivtype='long', ivsize=8, nvtype='double', nvsize=8, Off_t='off_t', lseeksize=8
alignbytes=8, prototype=define
Linker and Libraries:
ld='cc', ldflags =' -fstack-protector'
libpth=/usr/lib /usr/local/lib
libs=
perllibs=
libc=, so=dylib, useshrplib=true, libperl=libperl.dylib
gnulibc_version=''
Dynamic Linking:
dlsrc=dl_dlopen.xs, dlext=bundle, d_dlsymun=undef, ccdlflags=' '
cccdlflags=' ', lddlflags=' -bundle -undefined dynamic_lookup -fstack-protector'
Characteristics of this binary (from libperl):
Compile-time options: HAS_TIMES MULTIPLICITY PERLIO_LAYERS
PERL_DONT_CREATE_GVSV
PERL_HASH_FUNC_ONE_AT_A_TIME_HARD
PERL_IMPLICIT_CONTEXT PERL_MALLOC_WRAP
PERL_PRESERVE_IVUV PERL_SAWAMPERSAND USE_64_BIT_ALL
USE_64_BIT_INT USE_ITHREADS USE_LARGE_FILES
USE_LOCALE USE_LOCALE_COLLATE USE_LOCALE_CTYPE
USE_LOCALE_NUMERIC USE_PERLIO USE_PERL_ATOF
USE_REENTRANT_API
Locally applied patches:
/Library/Perl/Updates/<version> comes before system perl directories
installprivlib and installarchlib points to the Updates directory
Built under darwin
Compiled at Apr 1 2019 13:12:58
%ENV:
PERL5LIB=""
PERL5OPT=""
PERL5_CPANPLUS_IS_RUNNING="96968"
PERL5_CPAN_IS_RUNNING="96968"
@INC:
/Library/Perl/5.18/darwin-thread-multi-2level
/Library/Perl/5.18
/Network/Library/Perl/5.18/darwin-thread-multi-2level
/Network/Library/Perl/5.18
/Library/Perl/Updates/5.18.4/darwin-thread-multi-2level
/Library/Perl/Updates/5.18.4
/System/Library/Perl/5.18/darwin-thread-multi-2level
/System/Library/Perl/5.18
/System/Library/Perl/Extras/5.18/darwin-thread-multi-2level
/System/Library/Perl/Extras/5.18
.