Yancy v1.088 Perl 5 v5.38.0 x86_64-linux
- Status
- Pass
- From
- Slaven Rezić
- Dist
-
Yancy v1.088
- Platform
- Perl 5 v5.38.0 x86_64-linux
- Date
- 2023-12-29 21:17:48
- ID
- b78df6ca-a68f-11ee-99a4-d03c6e8775ea
This distribution has been tested as part of the CPAN Testers
project, supporting the Perl programming language. See
http://wiki.cpantesters.org/ for more information or email
questions to cpan-testers-discuss@perl.org
--
Dear Doug Bell,
This is a computer-generated report for Yancy-1.088
on perl 5.38.0, created by CPAN-Reporter-1.2019.
Thank you for uploading your work to CPAN. Congratulations!
All tests were successful.
Sections of this report:
* Tester comments
* Program output
* Prerequisites
* Environment and other context
------------------------------
TESTER COMMENTS
------------------------------
Additional comments from tester:
none provided
------------------------------
PROGRAM OUTPUT
------------------------------
Output from '/usr/bin/make test':
Skip blib/lib/auto/share/dist/Yancy/update_resources.sh (unchanged)
PERL_DL_NONLAZY=1 "/opt/perl-5.38.0/bin/perl" "-MExtUtils::Command::MM" "-MTest::Harness" "-e" "undef *Test::Harness::Switches; test_harness(0, 'blib/lib', 'blib/arch')" t/*.t t/backend/*.t t/command/backend/*.t t/controller/*.t t/examples/*.t t/plugin/*.t t/plugin/auth/*.t t/plugin/form/*.t
t/00-compile.t ............... ok
#
# Versions for all modules listed in MYMETA.json (including optional ones):
#
# === Configure Requires ===
#
# Module Want Have
# ----------------------- ---- ----
# ExtUtils::MakeMaker any 7.70
# File::ShareDir::Install 0.06 0.14
#
# === Configure Suggests ===
#
# Module Want Have
# -------- ------- ----
# JSON::PP 2.27300 4.16
#
# === Build Requires ===
#
# Module Want Have
# ------------------- ---- ----
# ExtUtils::MakeMaker any 7.70
#
# === Test Requires ===
#
# Module Want Have
# ------------------- -------- --------
# ExtUtils::MakeMaker any 7.70
# File::Spec any 3.88
# File::Temp 0.2307 0.2311
# IO::Handle any 1.52
# IPC::Open3 any 1.22
# Test::More 1.001005 1.302194
#
# === Test Recommends ===
#
# Module Want Have
# ---------- -------- --------
# CPAN::Meta 2.120900 2.150010
#
# === Runtime Requires ===
#
# Module Want Have
# ---------------------------- -------- --------
# Class::Method::Modifiers any 2.15
# Digest any 1.20
# Exporter any 5.77
# File::Spec::Functions any 3.88
# FindBin any 1.53
# JSON::Validator 5.00 5.14
# Mojolicious 9 9.35
# Mojolicious::Plugin::I18N 1.6 1.6
# Mojolicious::Plugin::OpenAPI 5.00 5.09
# Role::Tiny 2.000001 2.002004
# Scalar::Util any 1.63
# Sys::Hostname any 1.25
# Text::Balanced any 2.06
#
t/00-report-prereqs.t ........ ok
x-view is deprecated and will be removed in v2. Use Yancy::Model or your database's CREATE VIEW instead. at /home/cpansand/.cpan/build/2023122920/Yancy-1.088-3/blib/lib/Yancy/Model/Schema.pm line 283.
t/api.t ...................... ok
t/app.t ...................... ok
t/backend/dbic.t ............. skipped: DBIx::Class >= 0.082842 required for this test
t/backend/memory.t ........... ok
t/backend/mysql.t ............ skipped: Mojo::mysql >= 1.0 required for this test
t/backend/pg.t ............... skipped: Mojo::Pg >= 3.0 required for this test
t/backend/sqlite.t ........... skipped: Mojo::SQLite >= 3.005 required for this test
x-view is deprecated and will be removed in v2. Use Yancy::Model or your database's CREATE VIEW instead. at /home/cpansand/.cpan/build/2023122920/Yancy-1.088-3/blib/lib/Yancy/Model/Schema.pm line 283.
t/command/backend/copy.t ..... ok
x-view is deprecated and will be removed in v2. Use Yancy::Model or your database's CREATE VIEW instead. at /home/cpansand/.cpan/build/2023122920/Yancy-1.088-3/blib/lib/Yancy/Model/Schema.pm line 283.
t/config.t ................... ok
x-view is deprecated and will be removed in v2. Use Yancy::Model or your database's CREATE VIEW instead. at /home/cpansand/.cpan/build/2023122920/Yancy-1.088-3/blib/lib/Yancy/Model/Schema.pm line 283.
t/controller/multi_tenant.t .. ok
x-view is deprecated and will be removed in v2. Use Yancy::Model or your database's CREATE VIEW instead. at /home/cpansand/.cpan/build/2023122920/Yancy-1.088-3/blib/lib/Yancy/Model/Schema.pm line 283.
t/controller/yancy.t ......... ok
t/examples/doc-site.t ........ skipped: Set TEST_YANCY_EXAMPLES to run these tests
t/examples/limited-editor.t .. skipped: Set TEST_YANCY_EXAMPLES to run these tests
t/examples/test-app.t ........ skipped: Set TEST_YANCY_EXAMPLES to run these tests
t/examples/todo-app.t ........ skipped: Set TEST_YANCY_EXAMPLES to run these tests
x-view is deprecated and will be removed in v2. Use Yancy::Model or your database's CREATE VIEW instead. at /home/cpansand/.cpan/build/2023122920/Yancy-1.088-3/blib/lib/Yancy/Model/Schema.pm line 283.
[2023-12-29 20:24:22.38488] [22970] [fatal] [Qwp3D17wSDie] Unknown filter: DOES.NOT.EXIST (schema: user, field: email) at /home/cpansand/.cpan/build/2023122920/Yancy-1.088-3/blib/lib/Mojolicious/Plugin/Yancy.pm line 889.
t/filter.t ................... ok
x-view is deprecated and will be removed in v2. Use Yancy::Model or your database's CREATE VIEW instead. at /home/cpansand/.cpan/build/2023122920/Yancy-1.088-3/blib/lib/Yancy/Model/Schema.pm line 283.
t/helpers.t .................. ok
x-view is deprecated and will be removed in v2. Use Yancy::Model or your database's CREATE VIEW instead. at /home/cpansand/.cpan/build/2023122920/Yancy-1.088-3/blib/lib/Yancy/Model/Schema.pm line 283.
t/i18n.t ..................... ok
t/model.t .................... ok
x-view is deprecated and will be removed in v2. Use Yancy::Model or your database's CREATE VIEW instead. at /home/cpansand/.cpan/build/2023122920/Yancy-1.088-3/blib/lib/Yancy/Model/Schema.pm line 283.
t/plugin/auth.t .............. ok
x-view is deprecated and will be removed in v2. Use Yancy::Model or your database's CREATE VIEW instead. at /home/cpansand/.cpan/build/2023122920/Yancy-1.088-3/blib/lib/Yancy/Model/Schema.pm line 283.
The Auth::Basic plugin is deprecated and will be removed in Yancy v2.000. Please migrate to the Auth::Password module.
at /home/cpansand/.cpan/build/2023122920/Yancy-1.088-3/blib/lib/Yancy/Plugin/Auth/Basic.pm line 256.
t/plugin/auth/basic.t ........ ok
x-view is deprecated and will be removed in v2. Use Yancy::Model or your database's CREATE VIEW instead. at /home/cpansand/.cpan/build/2023122920/Yancy-1.088-3/blib/lib/Yancy/Model/Schema.pm line 283.
t/plugin/auth/github.t ....... ok
x-view is deprecated and will be removed in v2. Use Yancy::Model or your database's CREATE VIEW instead. at /home/cpansand/.cpan/build/2023122920/Yancy-1.088-3/blib/lib/Yancy/Model/Schema.pm line 283.
t/plugin/auth/oauth2.t ....... ok
x-view is deprecated and will be removed in v2. Use Yancy::Model or your database's CREATE VIEW instead. at /home/cpansand/.cpan/build/2023122920/Yancy-1.088-3/blib/lib/Yancy/Model/Schema.pm line 283.
t/plugin/auth/password.t ..... ok
x-view is deprecated and will be removed in v2. Use Yancy::Model or your database's CREATE VIEW instead. at /home/cpansand/.cpan/build/2023122920/Yancy-1.088-3/blib/lib/Yancy/Model/Schema.pm line 283.
t/plugin/auth/token.t ........ ok
t/plugin/editor.t ............ ok
x-view is deprecated and will be removed in v2. Use Yancy::Model or your database's CREATE VIEW instead. at /home/cpansand/.cpan/build/2023122920/Yancy-1.088-3/blib/lib/Yancy/Model/Schema.pm line 283.
Mojo::File::spurt is deprecated in favor of Mojo::File::spew at /home/cpansand/.cpan/build/2023122920/Yancy-1.088-3/blib/lib/Yancy/Plugin/File.pm line 98.
Mojo::File::spurt is deprecated in favor of Mojo::File::spew at /home/cpansand/.cpan/build/2023122920/Yancy-1.088-3/blib/lib/Yancy/Plugin/File.pm line 98.
[2023-12-29 20:24:33.05791] [23012] [warn] *** Cannot verify that admin editor is behind authentication.
Add a Yancy Auth plugin, add a `route` to the Yancy plugin config,
or set `editor.require_user => undef` to silence this warning
Mojo::File::spurt is deprecated in favor of Mojo::File::spew at /home/cpansand/.cpan/build/2023122920/Yancy-1.088-3/blib/lib/Yancy/Plugin/File.pm line 98.
Mojo::File::spurt is deprecated in favor of Mojo::File::spew at /home/cpansand/.cpan/build/2023122920/Yancy-1.088-3/blib/lib/Yancy/Plugin/File.pm line 98.
t/plugin/file.t .............. ok
x-view is deprecated and will be removed in v2. Use Yancy::Model or your database's CREATE VIEW instead. at /home/cpansand/.cpan/build/2023122920/Yancy-1.088-3/blib/lib/Yancy/Model/Schema.pm line 283.
[2023-12-29 20:24:33.82385] [23015] [warn] [18lyCxVMHWuO] form_for() called with incomplete request. CSRF token may not validate!
t/plugin/form/bootstrap4.t ... ok
x-view is deprecated and will be removed in v2. Use Yancy::Model or your database's CREATE VIEW instead. at /home/cpansand/.cpan/build/2023122920/Yancy-1.088-3/blib/lib/Yancy/Model/Schema.pm line 283.
t/plugin/roles.t ............. ok
# Could not load SQLite backend: Mojo::SQLite version 3.005 or higher required
# BEGIN failed--compilation aborted at /home/cpansand/.cpan/build/2023122920/Yancy-1.088-3/blib/lib/Yancy/Backend/Sqlite.pm line 116.
# Compilation failed in require at t/register.t line 21.
# Could not load Pg backend: Mojo::Pg version 4.03 or higher required
# BEGIN failed--compilation aborted at /home/cpansand/.cpan/build/2023122920/Yancy-1.088-3/blib/lib/Yancy/Backend/Pg.pm line 128.
# Compilation failed in require at t/register.t line 37.
# Could not load Mysql backend: Mojo::mysql version 1.05 or higher required
# BEGIN failed--compilation aborted at /home/cpansand/.cpan/build/2023122920/Yancy-1.088-3/blib/lib/Yancy/Backend/Mysql.pm line 119.
# Compilation failed in require at t/register.t line 53.
t/register.t ................. ok
t/util.t ..................... ok
All tests successful.
Files=33, Tests=203, 41 wallclock secs ( 0.16 usr 0.11 sys + 26.11 cusr 2.61 csys = 28.99 CPU)
Result: PASS
------------------------------
PREREQUISITES
------------------------------
Prerequisite modules loaded:
requires:
Module Need Have
---------------------------- -------- ----
! Class::Method::Modifiers 0
! Digest 0
! Exporter 0
! File::Spec::Functions 0
! FindBin 0
! JSON::Validator 5.00
! Mojolicious 9
! Mojolicious::Plugin::I18N 1.6
! Mojolicious::Plugin::OpenAPI 5.00
! perl 5.016
! Role::Tiny 2.000001
! Scalar::Util 0
! Sys::Hostname 0
! Text::Balanced 0
build_requires:
Module Need Have
---------------------------- -------- ----
! ExtUtils::MakeMaker 0
! File::Spec 0
! File::Temp 0.2307
! IO::Handle 0
! IPC::Open3 0
! Test::More 1.001005
configure_requires:
Module Need Have
---------------------------- -------- ----
! ExtUtils::MakeMaker 0
! File::ShareDir::Install 0.06
------------------------------
ENVIRONMENT AND OTHER CONTEXT
------------------------------
Environment variables:
LANG = en_US.UTF-8
PATH = /usr/local/bin:/usr/bin:/bin:/usr/local/sbin:/usr/sbin:/sbin:/home/cpansand/bin/linux-gnu:/home/cpansand/bin/sh:/home/cpansand/bin:/usr/games:/home/cpansand/devel:/home/eserte/src/srezic-misc/scripts
PERL5LIB = /home/cpansand/.cpan/build/2023122920/Mojolicious-Plugin-I18N-1.6-2/blib/arch:/home/cpansand/.cpan/build/2023122920/Mojolicious-Plugin-I18N-1.6-2/blib/lib:/home/cpansand/.cpan/build/2023122920/Mojolicious-Plugin-OpenAPI-5.09-0/blib/arch:/home/cpansand/.cpan/build/2023122920/Mojolicious-Plugin-OpenAPI-5.09-0/blib/lib:/home/cpansand/.cpan/build/2023122920/JSON-Validator-5.14-0/blib/arch:/home/cpansand/.cpan/build/2023122920/JSON-Validator-5.14-0/blib/lib
PERL5OPT =
PERL5_CPANPLUS_IS_RUNNING = 20967
PERL5_CPAN_IS_RUNNING = 20967
PERL5_CPAN_IS_RUNNING_IN_RECURSION = 19037,20967
PERLDOC = -MPod::Perldoc::ToTextOverstrike
PERL_BATCH = yes
PERL_CANARY_STABILITY_NOPROMPT = 1
PERL_CPAN_REPORTER_CONFIG = /var/tmp/cpansmoker-1023/2023122920/cpanreporter_001_config.ini
PERL_EXTUTILS_AUTOINSTALL = --defaultdeps
PERL_USE_UNSAFE_INC = 1
SHELL = /usr/bin/zsh
TERM = screen
TMPDIR = /var/tmp/cpansmoker-1023/2023122920
Perl special variables (and OS-specific diagnostics, for MSWin32):
$^X = /opt/perl-5.38.0/bin/perl
$UID/$EUID = 1023 / 1023
$GID = 1023 1023
$EGID = 1023 1023
Perl module toolchain versions installed:
Module Have
--