Catmandu-MARC v1.26 Perl 5 v5.26.3 x86_64-linux
- Status
- Pass
- From
- Slaven Rezić
- Dist
-
Catmandu-MARC v1.26
- Platform
- Perl 5 v5.26.3 x86_64-linux
- Date
- 2021-10-13 20:54:06
- ID
- b49d8f06-2c67-11ec-bcad-54611f24ea8f
This distribution has been tested as part of the CPAN Testers
project, supporting the Perl programming language. See
http://wiki.cpantesters.org/ for more information or email
questions to cpan-testers-discuss@perl.org
--
Dear Patrick Hochstenbach,
This is a computer-generated report for Catmandu-MARC-1.26
on perl 5.26.3, created by CPAN-Reporter-1.2018.
Thank you for uploading your work to CPAN. Congratulations!
All tests were successful.
Sections of this report:
* Tester comments
* Program output
* Prerequisites
* Environment and other context
------------------------------
TESTER COMMENTS
------------------------------
Additional comments from tester:
none provided
------------------------------
PROGRAM OUTPUT
------------------------------
Output from './Build test':
* WARNING: Configuration was initially created with Module::Build
version '0.4224' but we are now using version '0.4231'.
If errors occur, you must re-run the Build.PL or Makefile.PL script.
t/Catmandu/Exporter/MARC.t ..................... ok
t/Catmandu/Exporter/MARC/ALEPHSEQ.t ............ ok
t/Catmandu/Exporter/MARC/Base.t ................ ok
t/Catmandu/Exporter/MARC/ISO.t ................. ok
t/Catmandu/Exporter/MARC/MARCMaker.t ........... ok
t/Catmandu/Exporter/MARC/MiJ.t ................. ok
t/Catmandu/Exporter/MARC/XML.t ................. ok
t/Catmandu/Fix/Bind/marc_each.t ................ ok
t/Catmandu/Fix/Condition/marc_all_match.t ...... ok
t/Catmandu/Fix/Condition/marc_any_match.t ...... ok
t/Catmandu/Fix/Condition/marc_has.t ............ ok
t/Catmandu/Fix/Condition/marc_has_many.t ....... ok
t/Catmandu/Fix/Condition/marc_match.t .......... ok
t/Catmandu/Fix/Condition/marc_spec_has.t ....... ok
t/Catmandu/Fix/Inline/marc_add.t ............... ok
t/Catmandu/Fix/Inline/marc_map.t ............... ok
t/Catmandu/Fix/Inline/marc_remove.t ............ ok
t/Catmandu/Fix/Inline/marc_set.t ............... ok
t/Catmandu/Fix/marc_add.t ...................... ok
t/Catmandu/Fix/marc_append.t ................... ok
t/Catmandu/Fix/marc_copy.t ..................... ok
t/Catmandu/Fix/marc_cut.t ...................... ok
t/Catmandu/Fix/marc_decode_dollar_subfields.t .. ok
t/Catmandu/Fix/marc_in_json.t .................. ok
t/Catmandu/Fix/marc_map.t ...................... ok
t/Catmandu/Fix/marc_paste.t .................... ok
t/Catmandu/Fix/marc_remove.t ................... ok
t/Catmandu/Fix/marc_replace_all.t .............. ok
t/Catmandu/Fix/marc_set.t ...................... ok
t/Catmandu/Fix/marc_sort.t ..................... ok
t/Catmandu/Fix/marc_spec.t ..................... ok
t/Catmandu/Fix/marc_xml.t ...................... ok
t/Catmandu/Importer/MARC.t ..................... ok
t/Catmandu/Importer/MARC/ALEPHSEQ.t ............ ok
t/Catmandu/Importer/MARC/Decoder.t ............. ok
t/Catmandu/Importer/MARC/ISO.t ................. ok
t/Catmandu/Importer/MARC/Lint.t ................ ok
t/Catmandu/Importer/MARC/MARCMaker.t ........... ok
t/Catmandu/Importer/MARC/MiJ.t ................. ok
t/Catmandu/Importer/MARC/MicroLIF.t ............ ok
t/Catmandu/Importer/MARC/RAW.t ................. ok
t/Catmandu/Importer/MARC/Record.t .............. ok
t/Catmandu/Importer/MARC/XML.t ................. ok
t/Catmandu/MARC.t .............................. ok
t/Catmandu/Validator/MARC.t .................... ok
t/author-pod-syntax.t .......................... skipped: these tests are for testing by the author
t/deprecate.t .................................. ok
t/inline-fix.t ................................. ok
t/inlineable.t ................................. ok
t/mapping_rules.t .............................. ok
t/mapping_rules_spec.t ......................... ok
t/marc-spec-subspecs.t ......................... ok
t/marc_spec2.t ................................. ok
t/old-new-internal-syntax.t .................... ok
All tests successful.
Files=54, Tests=544, 13 wallclock secs ( 0.20 usr 0.05 sys + 11.71 cusr 1.75 csys = 13.71 CPU)
Result: PASS
------------------------------
PREREQUISITES
------------------------------
Prerequisite modules loaded:
requires:
Module Need Have
--------------------- -------- --------
Carp 0 1.42
Catmandu 1.0602 1.10
JSON::XS 2.3 4.02
List::Util 0 1.50
MARC::File::MARCMaker 0.05 0.05
MARC::File::MiJ 0.04 0.04
MARC::File::XML v1.0.5 1.0.5
MARC::Lint 0 1.53
MARC::Parser::RAW 0 0.06
MARC::Record v2.0.6 2.0.7
MARC::Schema 0.07 0.09
MARC::Spec v2.0.3 2.0.3
Memoize 0 1.03_01
Module::Build 0.4229 0.4231
Moo 1.0 2.003004
MooX::Singleton 0 1.20
namespace::clean 0 0.27
perl v5.10.1 5.026003
YAML::XS 0.34 0.75
build_requires:
Module Need Have
--------------------- -------- --------
Module::Build 0.4229 0.4231
Pod::Simple::HTML 3.23 3.35
Test::Deep 0 1.128
Test::Exception 0 0.43
Test::More 1.001003 1.302162
Test::Pod 0 1.52
Test::Simple 1.001003 1.302162
Test::Warn 0 0.36
Test::Warnings 0 0.026
XML::LibXML 0 2.0200
XML::XPath 1.13 1.44
configure_requires:
Module Need Have
--------------------- -------- --------
Module::Build 0.28 0.4231
------------------------------
ENVIRONMENT AND OTHER CONTEXT
------------------------------
Environment variables:
LANG = en_US.UTF-8
PATH = /usr/local/bin:/usr/bin:/bin:/usr/local/sbin:/usr/sbin:/sbin:/home/cpansand/bin/linux-gnu:/home/cpansand/bin/sh:/home/cpansand/bin:/usr/games:/home/cpansand/devel:/home/eserte/src/srezic-misc/scripts
PERL5LIB = /home/cpansand/.cpan/build/2021101321/Module-Build-0.4231-0/blib/arch:/home/cpansand/.cpan/build/2021101321/Module-Build-0.4231-0/blib/lib:/home/cpansand/.cpan/build/2021101321/MARC-Spec-2.0.3-0/blib/arch:/home/cpansand/.cpan/build/2021101321/MARC-Spec-2.0.3-0/blib/lib:/home/cpansand/.cpan/build/2021101321/MARC-Schema-0.09-0/blib/arch:/home/cpansand/.cpan/build/2021101321/MARC-Schema-0.09-0/blib/lib:/home/cpansand/.cpan/build/2021101321/MARC-Parser-XML-0.03-0/blib/arch:/home/cpansand/.cpan/build/2021101321/MARC-Parser-XML-0.03-0/blib/lib:/home/cpansand/.cpan/build/2021101321/MARC-Parser-RAW-0.06-0/blib/arch:/home/cpansand/.cpan/build/2021101321/MARC-Parser-RAW-0.06-0/blib/lib:/home/cpansand/.cpan/build/2021101321/MARC-Lint_1.53-0/blib/arch:/home/cpansand/.cpan/build/2021101321/MARC-Lint_1.53-0/blib/lib:/home/cpansand/.cpan/build/2021101321/MARC-File-MiJ-0.04-0/blib/arch:/home/cpansand/.cpan/build/2021101321/MARC-File-MiJ-0.04-0/blib/lib:/home/cpansand/.cpan/build/2021101321/ex-monkeypatched-0.03-0/blib/arch:/home/cpansand/.cpan/build/2021101321/ex-monkeypatched-0.03-0/blib/lib:/home/cpansand/.cpan/build/2021101321/MARC-File-MARCMaker-0.05-0/blib/arch:/home/cpansand/.cpan/build/2021101321/MARC-File-MARCMaker-0.05-0/blib/lib
PERL5OPT =
PERL5_CPANPLUS_IS_RUNNING = 30273
PERL5_CPAN_IS_RUNNING = 30273
PERL5_CPAN_IS_RUNNING_IN_RECURSION = 29663,30273
PERLDOC = -MPod::Perldoc::ToTextOverstrike
PERL_BATCH = yes
PERL_CANARY_STABILITY_NOPROMPT = 1
PERL_CPAN_REPORTER_CONFIG = /var/tmp/cpansmoker-1023/2021101321/cpanreporter_000_config.ini
PERL_EXTUTILS_AUTOINSTALL = --defaultdeps
PERL_USE_UNSAFE_INC = 1
SHELL = /usr/bin/zsh
TERM = screen
TMPDIR = /var/tmp/cpansmoker-1023/2021101321
Perl special variables (and OS-specific diagnostics, for MSWin32):
$^X = /opt/perl-5.26.3/bin/perl5.26.3
$UID/$EUID = 1023 / 1023
$GID = 1023 1023
$EGID = 1023 1023
Perl module toolchain versions installed:
Module Have
------------------- --------
CPAN 2.26
CPAN::Meta 2.150010
Cwd 3.75
ExtUtils::CBuilder 0.280225
ExtUtils::Command 7.34
ExtUtils::Install 2.06
ExtUtils::MakeMaker 7.34
ExtUtils::Manifest 1.72
ExtUtils::ParseXS 3.34
File::Spec 3.75
JSON 4.02
JSON::PP 4.01
Module::Build 0.4231
Module::Signature 0.83
Parse::CPAN::Meta 2.150010
Test::Harness 3.38
Test::More 1.302162
YAML 1.27
YAML::Syck 1.31
version 0.9924
--
Summary of my perl5 (revision 5 version 26 subversion 3) configuration:
Platform:
osname=linux
osvers=3.10.0-862.14.4.el7.x86_64
archname=x86_64-linux
uname='linux centos-4gb-hel1-1 3.10.0-862.14.4.el7.x86_64 #1 smp wed sep 26 15:12:11 utc 2018 x86_64 x86_64 x86_64 gnulinux '
config_args='-ds -e -Dprefix=/opt/perl-5.26.3 -Dcf_email=srezic@cpan.org'
hint=recommended
useposix=true
d_sigaction=define
useithreads=undef
usemultiplicity=undef
use64bitint=define
use64bitall=define
uselongdouble=undef
usemymalloc=n
default_inc_excludes_dot=define
bincompat5005=undef
Compiler:
cc='cc'
ccflags ='-fwrapv -fno-strict-aliasing -pipe -fstack-protector-strong -I/usr/local/include -D_LARGEFILE_SOURCE -D_FILE_OFFSET_BITS=64 -D_FORTIFY_SOURCE=2'
optimize='-O2'
cppflags='-fwrapv -fno-strict-aliasing -pipe -fstack-protector-strong -I/usr/local/include'
ccversion=''
gccversion='4.8.5 20150623 (Red Hat 4.8.5-28)'
gccosandvers=''
intsize=4
longsize=8
ptrsize=8
doublesize=8
byteorder=12345678
doublekind=3
d_longlong=define
longlongsize=8
d_longdbl=define
longdblsize=16
longdblkind=3
ivtype='long'
ivsize=8
nvtype='double'
nvsize=8
Off_t='off_t'
lseeksize=8
alignbytes=8
prototype=define
Linker and Libraries:
ld='cc'
ldflags =' -fstack-protector-strong -L/usr/local/lib'
libpth=/usr/local/lib /usr/lib /lib/../lib64 /usr/lib/../lib64 /lib /lib64 /usr/lib64 /usr/local/lib64
libs=-lpthread -lnsl -lgdbm -ldb -ldl -lm -lcrypt -lutil -lc -lgdbm_compat
perllibs=-lpthread -lnsl -ldl -lm -lcrypt -lutil -lc
libc=libc-2.17.so
so=so
useshrplib=false
libperl=libperl.a
gnulibc_version='2.17'
Dynamic Linking:
dlsrc=dl_dlopen.xs
dlext=so
d_dlsymun=undef
ccdlflags='-Wl,-E'
cccdlflags='-fPIC'
lddlflags='-shared -O2 -L/usr/local/lib -fstack-protector-strong'
Characteristics of this binary (from libperl):
Compile-time options:
HAS_TIMES
PERLIO_LAYERS
PERL_COPY_ON_WRITE
PERL_DONT_CREATE_GVSV
PERL_MALLOC_WRAP
PERL_OP_PARENT
PERL_PRESERVE_IVUV
USE_64_BIT_ALL
USE_64_BIT_INT
USE_LARGE_FILES
USE_LOCALE
USE_LOCALE_COLLATE
USE_LOCALE_CTYPE
USE_LOCALE_NUMERIC
USE_LOCALE_TIME
USE_PERLIO
USE_PERL_ATOF
Built under linux
Compiled at Nov 29 2018 22:53:06
%ENV:
PERL5LIB="/home/cpansand/.cpan/build/2021101321/Module-Build-0.4231-0/blib/arch:/home/cpansand/.cpan/build/2021101321/Module-Build-0.4231-0/blib/lib:/home/cpansand/.cpan/build/2021101321/MARC-Spec-2.0.3-0/blib/arch:/home/cpansand/.cpan/build/2021101321/MARC-Spec-2.0.3-0/blib/lib:/home/cpansand/.cpan/build/2021101321/MARC-Schema-0.09-0/blib/arch:/home/cpansand/.cpan/build/2021101321/MARC-Schema-0.09-0/blib/lib:/home/cpansand/.cpan/build/2021101321/MARC-Parser-XML-0.03-0/blib/arch:/home/cpansand/.cpan/build/2021101321/MARC-Parser-XML-0.03-0/blib/lib:/home/cpansand/.cpan/build/2021101321/MARC-Parser-RAW-0.06-0/blib/arch:/home/cpansand/.cpan/build/2021101321/MARC-Parser-RAW-0.06-0/blib/lib:/home/cpansand/.cpan/build/2021101321/MARC-Lint_1.53-0/blib/arch:/home/cpansand/.cpan/build/2021101321/MARC-Lint_1.53-0/blib/lib:/home/cpansand/.cpan/build/2021101321/MARC-File-MiJ-0.04-0/blib/arch:/home/cpansand/.cpan/build/2021101321/MARC-File-MiJ-0.04-0/blib/lib:/home/cpansand/.cpan/build/2021101321/ex-monkeypatched-0.03-0/blib/arch:/home/cpansand/.cpan/build/2021101321/ex-monkeypatched-0.03-0/blib/lib:/home/cpansand/.cpan/build/2021101321/MARC-File-MARCMaker-0.05-0/blib/arch:/home/cpansand/.cpan/build/2021101321/MARC-File-MARCMaker-0.05-0/blib/lib"
PERL5OPT=""
PERL5_CPANPLUS_IS_RUNNING="30273"
PERL5_CPAN_IS_RUNNING="30273"
PERL5_CPAN_IS_RUNNING_IN_RECURSION="29663,30273"
PERLDOC="-MPod::Perldoc::ToTextOverstrike"
PERL_BATCH="yes"
PERL_CANARY_STABILITY_NOPROMPT="1"
PERL_CPAN_REPORTER_CONFIG="/var/tmp/cpansmoker-1023/2021101321/cpanreporter_000_config.ini"
PERL_EXTUTILS_AUTOINSTALL="--defaultdeps"
PERL_USE_UNSAFE_INC="1"
@INC:
/home/cpansand/.cpan/build/2021101321/Module-Build-0.4231-0/blib/arch
/home/cpansand/.cpan/build/2021101321/Module-Build-0.4231-0/blib/lib
/home/cpansand/.cpan/build/2021101321/MARC-Spec-2.0.3-0/blib/arch
/home/cpansand/.cpan/build/2021101321/MARC-Spec-2.0.3-0/blib/lib
/home/cpansand/.cpan/build/2021101321/MARC-Schema-0.09-0/blib/arch
/home/cpansand/.cpan/build/2021101321/MARC-Schema-0.09-0/blib/lib
/home/cpansand/.cpan/build/2021101321/MARC-Parser-XML-0.03-0/blib/arch
/home/cpansand/.cpan/build/2021101321/MARC-Parser-XML-0.03-0/blib/lib
/home/cpansand/.cpan/build/2021101321/MARC-Parser-RAW-0.06-0/blib/arch
/home/cpansand/.cpan/build/2021101321/MARC-Parser-RAW-0.06-0/blib/lib
/home/cpansand/.cpan/build/2021101321/MARC-Lint_1.53-0/blib/arch
/home/cpansand/.cpan/build/2021101321/MARC-Lint_1.53-0/blib/lib
/home/cpansand/.cpan/build/2021101321/MARC-File-MiJ-0.04-0/blib/arch
/home/cpansand/.cpan/build/2021101321/MARC-File-MiJ-0.04-0/blib/lib
/home/cpansand/.cpan/build/2021101321/ex-monkeypatched-0.03-0/blib/arch
/home/cpansand/.cpan/build/2021101321/ex-monkeypatched-0.03-0/blib/lib
/home/cpansand/.cpan/build/2021101321/MARC-File-MARCMaker-0.05-0/blib/arch
/home/cpansand/.cpan/build/2021101321/MARC-File-MARCMaker-0.05-0/blib/lib
/opt/perl-5.26.3/lib/site_perl/5.26.3/x86_64-linux
/opt/perl-5.26.3/lib/site_perl/5.26.3
/opt/perl-5.26.3/lib/5.26.3/x86_64-linux
/opt/perl-5.26.3/lib/5.26.3
.