Encode v3.16 Perl 5 v5.24.4 x86_64-linux-thread-multi

Status
Pass
From
Nigel Horne
Dist
Encode v3.16
Platform
Perl 5 v5.24.4 x86_64-linux-thread-multi
Date
2021-10-21 01:24:55
ID
b2f00cd2-320d-11ec-8bf0-e86d1e9488d4
This distribution has been tested as part of the CPAN Testers
project, supporting the Perl programming language.  See
http://wiki.cpantesters.org/ for more information or email
questions to cpan-testers-discuss@perl.org


--
Dear Dan Kogai,

This is a computer-generated report for Encode-3.16
on perl 5.24.4, created by CPAN-Reporter-1.2018.

Thank you for uploading your work to CPAN.  Congratulations!
All tests were successful.

Sections of this report:

    * Tester comments
    * Program output
    * Prerequisites
    * Environment and other context

------------------------------
TESTER COMMENTS
------------------------------

Additional comments from tester:

none provided

------------------------------
PROGRAM OUTPUT
------------------------------

Output from '/usr/bin/make test':

"/home/opc/perl5/perlbrew/perls/perl-5.24.4-thread/bin/perl5.24.4" -MExtUtils::Command::MM -e 'cp_nonempty' -- Encode.bs blib/arch/auto/Encode/Encode.bs 644
make[1]: Entering directory `/home/opc/.cpan/build/Encode-3.16-2/Byte'
"/home/opc/perl5/perlbrew/perls/perl-5.24.4-thread/bin/perl5.24.4" -MExtUtils::Command::MM -e 'cp_nonempty' -- Byte.bs ../blib/arch/auto/Encode/Byte/Byte.bs 644
make[1]: Leaving directory `/home/opc/.cpan/build/Encode-3.16-2/Byte'
make[1]: Entering directory `/home/opc/.cpan/build/Encode-3.16-2/CN'
"/home/opc/perl5/perlbrew/perls/perl-5.24.4-thread/bin/perl5.24.4" -MExtUtils::Command::MM -e 'cp_nonempty' -- CN.bs ../blib/arch/auto/Encode/CN/CN.bs 644
make[1]: Leaving directory `/home/opc/.cpan/build/Encode-3.16-2/CN'
make[1]: Entering directory `/home/opc/.cpan/build/Encode-3.16-2/EBCDIC'
"/home/opc/perl5/perlbrew/perls/perl-5.24.4-thread/bin/perl5.24.4" -MExtUtils::Command::MM -e 'cp_nonempty' -- EBCDIC.bs ../blib/arch/auto/Encode/EBCDIC/EBCDIC.bs 644
make[1]: Leaving directory `/home/opc/.cpan/build/Encode-3.16-2/EBCDIC'
make[1]: Entering directory `/home/opc/.cpan/build/Encode-3.16-2/JP'
"/home/opc/perl5/perlbrew/perls/perl-5.24.4-thread/bin/perl5.24.4" -MExtUtils::Command::MM -e 'cp_nonempty' -- JP.bs ../blib/arch/auto/Encode/JP/JP.bs 644
make[1]: Leaving directory `/home/opc/.cpan/build/Encode-3.16-2/JP'
make[1]: Entering directory `/home/opc/.cpan/build/Encode-3.16-2/KR'
"/home/opc/perl5/perlbrew/perls/perl-5.24.4-thread/bin/perl5.24.4" -MExtUtils::Command::MM -e 'cp_nonempty' -- KR.bs ../blib/arch/auto/Encode/KR/KR.bs 644
make[1]: Leaving directory `/home/opc/.cpan/build/Encode-3.16-2/KR'
make[1]: Entering directory `/home/opc/.cpan/build/Encode-3.16-2/Symbol'
"/home/opc/perl5/perlbrew/perls/perl-5.24.4-thread/bin/perl5.24.4" -MExtUtils::Command::MM -e 'cp_nonempty' -- Symbol.bs ../blib/arch/auto/Encode/Symbol/Symbol.bs 644
make[1]: Leaving directory `/home/opc/.cpan/build/Encode-3.16-2/Symbol'
make[1]: Entering directory `/home/opc/.cpan/build/Encode-3.16-2/TW'
"/home/opc/perl5/perlbrew/perls/perl-5.24.4-thread/bin/perl5.24.4" -MExtUtils::Command::MM -e 'cp_nonempty' -- TW.bs ../blib/arch/auto/Encode/TW/TW.bs 644
make[1]: Leaving directory `/home/opc/.cpan/build/Encode-3.16-2/TW'
make[1]: Entering directory `/home/opc/.cpan/build/Encode-3.16-2/Unicode'
"/home/opc/perl5/perlbrew/perls/perl-5.24.4-thread/bin/perl5.24.4" -MExtUtils::Command::MM -e 'cp_nonempty' -- Unicode.bs ../blib/arch/auto/Encode/Unicode/Unicode.bs 644
make[1]: Leaving directory `/home/opc/.cpan/build/Encode-3.16-2/Unicode'
make[1]: Entering directory `/home/opc/.cpan/build/Encode-3.16-2/Byte'
"/home/opc/perl5/perlbrew/perls/perl-5.24.4-thread/bin/perl5.24.4" -MExtUtils::Command::MM -e 'cp_nonempty' -- Byte.bs ../blib/arch/auto/Encode/Byte/Byte.bs 644
No tests defined for Encode::Byte extension.
make[1]: Leaving directory `/home/opc/.cpan/build/Encode-3.16-2/Byte'
make[1]: Entering directory `/home/opc/.cpan/build/Encode-3.16-2/CN'
"/home/opc/perl5/perlbrew/perls/perl-5.24.4-thread/bin/perl5.24.4" -MExtUtils::Command::MM -e 'cp_nonempty' -- CN.bs ../blib/arch/auto/Encode/CN/CN.bs 644
No tests defined for Encode::CN extension.
make[1]: Leaving directory `/home/opc/.cpan/build/Encode-3.16-2/CN'
make[1]: Entering directory `/home/opc/.cpan/build/Encode-3.16-2/EBCDIC'
"/home/opc/perl5/perlbrew/perls/perl-5.24.4-thread/bin/perl5.24.4" -MExtUtils::Command::MM -e 'cp_nonempty' -- EBCDIC.bs ../blib/arch/auto/Encode/EBCDIC/EBCDIC.bs 644
No tests defined for Encode::EBCDIC extension.
make[1]: Leaving directory `/home/opc/.cpan/build/Encode-3.16-2/EBCDIC'
make[1]: Entering directory `/home/opc/.cpan/build/Encode-3.16-2/JP'
"/home/opc/perl5/perlbrew/perls/perl-5.24.4-thread/bin/perl5.24.4" -MExtUtils::Command::MM -e 'cp_nonempty' -- JP.bs ../blib/arch/auto/Encode/JP/JP.bs 644
No tests defined for Encode::JP extension.
make[1]: Leaving directory `/home/opc/.cpan/build/Encode-3.16-2/JP'
make[1]: Entering directory `/home/opc/.cpan/build/Encode-3.16-2/KR'
"/home/opc/perl5/perlbrew/perls/perl-5.24.4-thread/bin/perl5.24.4" -MExtUtils::Command::MM -e 'cp_nonempty' -- KR.bs ../blib/arch/auto/Encode/KR/KR.bs 644
No tests defined for Encode::KR extension.
make[1]: Leaving directory `/home/opc/.cpan/build/Encode-3.16-2/KR'
make[1]: Entering directory `/home/opc/.cpan/build/Encode-3.16-2/Symbol'
"/home/opc/perl5/perlbrew/perls/perl-5.24.4-thread/bin/perl5.24.4" -MExtUtils::Command::MM -e 'cp_nonempty' -- Symbol.bs ../blib/arch/auto/Encode/Symbol/Symbol.bs 644
No tests defined for Encode::Symbol extension.
make[1]: Leaving directory `/home/opc/.cpan/build/Encode-3.16-2/Symbol'
make[1]: Entering directory `/home/opc/.cpan/build/Encode-3.16-2/TW'
"/home/opc/perl5/perlbrew/perls/perl-5.24.4-thread/bin/perl5.24.4" -MExtUtils::Command::MM -e 'cp_nonempty' -- TW.bs ../blib/arch/auto/Encode/TW/TW.bs 644
No tests defined for Encode::TW extension.
make[1]: Leaving directory `/home/opc/.cpan/build/Encode-3.16-2/TW'
make[1]: Entering directory `/home/opc/.cpan/build/Encode-3.16-2/Unicode'
"/home/opc/perl5/perlbrew/perls/perl-5.24.4-thread/bin/perl5.24.4" -MExtUtils::Command::MM -e 'cp_nonempty' -- Unicode.bs ../blib/arch/auto/Encode/Unicode/Unicode.bs 644
No tests defined for Encode::Unicode extension.
make[1]: Leaving directory `/home/opc/.cpan/build/Encode-3.16-2/Unicode'
PERL_DL_NONLAZY=1 "/home/opc/perl5/perlbrew/perls/perl-5.24.4-thread/bin/perl5.24.4" "-MExtUtils::Command::MM" "-MTest::Harness" "-e" "undef *Test::Harness::Switches; test_harness(0, 'blib/lib', 'blib/arch')" t/*.t
t/at-cn.t .................. ok
t/at-tw.t .................. ok
t/Aliases.t ................ ok
t/cow.t .................... ok
t/decode.t ................. ok
t/enc_data.t ............... ok
t/enc_eucjp.t .............. ok
t/CJKT.t ................... ok
t/enc_utf8.t ............... ok
t/enc_module.t ............. ok
t/Encoder.t ................ ok
t/encoding-locale.t ........ ok
t/encoding.t ............... ok
t/fallback.t ............... ok
t/from_to.t ................ ok
t/Encode.t ................. ok
t/grow.t ................... ok
t/guess.t .................. ok
t/gsm0338.t ................ ok
t/isa.t .................... ok
t/jis7-fallback.t .......... ok
t/jperl.t .................. ok
t/magic.t .................. ok
t/mime-name.t .............. ok
t/mime_header_iso2022jp.t .. ok
t/perlio.t ................. ok
t/piconv.t ................. ok
t/rt113164.t ............... ok
t/rt65541.t ................ ok
t/rt76824.t ................ ok
t/mime-header.t ............ ok
t/rt85489.t ................ ok
t/rt86327.t ................ ok
t/taint.t .................. ok
t/truncated_utf8.t ......... ok
t/undef.t .................. ok
t/Unicode.t ................ ok
t/use-Encode-Alias.t ....... ok
# temp file: /tmp/4SwirP4eZB
t/Unicode_trailing_nul.t ... ok
t/utf8ref.t ................ ok
t/utf8strict.t ............. ok
t/utf8warnings.t ........... ok
t/whatwg-aliases.t ......... skipped: For maintainers only
t/xml.t .................... ok
All tests successful.

Test Summary Report
-------------------
t/truncated_utf8.t       (Wstat: 0 Tests: 9 Failed: 0)
  TODO passed:   9
Files=44, Tests=7778, 18 wallclock secs ( 0.64 usr  0.06 sys +  7.33 cusr  0.52 csys =  8.55 CPU)
Result: PASS

------------------------------
PREREQUISITES
------------------------------

Prerequisite modules loaded:

requires:

    Module              Need  Have    
    ------------------- ----- --------
    Exporter            5.57  5.72    
    parent              0.221 0.234   
    Storable            0     3.25    

build_requires:

    Module              Need  Have    
    ------------------- ----- --------
    ExtUtils::MakeMaker 0     7.62    
    Test::More          0.92  1.302188

configure_requires:

    Module              Need  Have    
    ------------------- ----- --------
    ExtUtils::MakeMaker 0     7.62    


------------------------------
ENVIRONMENT AND OTHER CONTEXT
------------------------------

Environment variables:

    HARNESS_OPTIONS = j2:c
    LANG = en_US.UTF-8
    NONINTERACTIVE_TESTING = 1
    PATH = /home/opc/perl5/perlbrew/bin:/home/opc/perl5/perlbrew/perls/perl-5.24.4-thread/bin:/home/opc/perl5/perlbrew/bin:/usr/local/bin:/usr/bin:/home/opc/.local/bin:/home/opc/bin
    PERL5LIB = 
    PERL5OPT = 
    PERL5_CPANPLUS_IS_RUNNING = 24032
    PERL5_CPAN_IS_RUNNING = 24032
    PERLBREW_HOME = /home/opc/.perlbrew
    PERLBREW_LIB = 
    PERLBREW_MANPATH = /home/opc/perl5/perlbrew/perls/perl-5.24.4-thread/man
    PERLBREW_PATH = /home/opc/perl5/perlbrew/bin:/home/opc/perl5/perlbrew/perls/perl-5.24.4-thread/bin
    PERLBREW_PERL = perl-5.24.4-thread
    PERLBREW_ROOT = /home/opc/perl5/perlbrew
    PERLBREW_SHELLRC_VERSION = 0.92
    PERLBREW_VERSION = 0.92
    PERL_LOCAL_LIB_ROOT = 
    PERL_MM_USE_DEFAULT = 1
    PERL_USE_UNSAFE_INC = 1
    SHELL = /bin/bash

Perl special variables (and OS-specific diagnostics, for MSWin32):

    $^X = /home/opc/perl5/perlbrew/perls/perl-5.24.4-thread/bin/perl5.24.4
    $UID/$EUID = 1000 / 1000
    $GID = 1000 4 10 190 1000
    $EGID = 1000 4 10 190 1000

Perl module toolchain versions installed:

    Module              Have      
    ------------------- ----------
    CPAN                2.28      
    CPAN::Meta          2.150005  
    Cwd                 3.75      
    ExtUtils::CBuilder  0.280225  
    ExtUtils::Command   7.62      
    ExtUtils::Install   2.06      
    ExtUtils::MakeMaker 7.62      
    ExtUtils::Manifest  1.70      
    ExtUtils::ParseXS   3.31      
    File::Spec          3.75      
    JSON                4.02      
    JSON::PP            2.27300_01
    Module::Build       0.4229    
    Module::Signature   0.87      
    Parse::CPAN::Meta   1.4417_001
    Test::Harness       3.36_01   
    Test::More          1.302188  
    YAML                1.30      
    YAML::Syck          1.34      
    version             0.9929    


--

Summary of my perl5 (revision 5 version 24 subversion 4) configuration:
   
  Platform:
    osname=linux, osvers=4.14.35-1902.7.3.el7uek.x86_64, archname=x86_64-linux-thread-multi
    uname='linux instance-20191218-1736 4.14.35-1902.7.3.el7uek.x86_64 #2 smp thu oct 31 10:06:41 pdt 2019 x86_64 x86_64 x86_64 gnulinux '
    config_args='-de -Dprefix=/home/opc/perl5/perlbrew/perls/perl-5.24.4-thread -Dusedevel -Dusethreads -Accflags=-O2 -W -Wformat=2 -Wswitch -Wshadow -Wwrite-strings -Wuninitialized -Wall -pipe -fomit-frame-pointer -pedantic -D_FORTIFY_SOURCE=2 -Wpointer-arith -Wstrict-prototypes -fstack-protector -Wstack-protector -Wextra -Wbad-function-cast -Wcast-align -Wcast-qual -Wdisabled-optimization -Wendif-labels -Wfloat-equal -Wformat-nonliteral -Winline -Wmissing-declarations -Wmissing-prototypes -Wnested-externs -Wpointer-arith -Wundef -Wformat-security -ftree-vectorize -msse -mfpmath=sse -msse2 -mssse3 -msse4.1 -msse4.2 -maes -mtune=native -march=native -Aeval:scriptdir=/home/opc/perl5/perlbrew/perls/perl-5.24.4-thread/bin'
    hint=recommended, useposix=true, d_sigaction=define
    useithreads=define, usemultiplicity=define
    use64bitint=define, use64bitall=define, uselongdouble=undef
    usemymalloc=n, bincompat5005=undef
  Compiler:
    cc='cc', ccflags ='-D_REENTRANT -D_GNU_SOURCE -O2 -W -Wformat=2 -Wswitch -Wshadow -Wwrite-strings -Wuninitialized -Wall -pipe -fomit-frame-pointer -pedantic -D_FORTIFY_SOURCE=2 -Wpointer-arith -Wstrict-prototypes -fstack-protector -Wstack-protector -Wextra -Wbad-function-cast -Wcast-align -Wcast-qual -Wdisabled-optimization -Wendif-labels -Wfloat-equal -Wformat-nonliteral -Winline -Wmissing-declarations -Wmissing-prototypes -Wnested-externs -Wpointer-arith -Wundef -Wformat-security -ftree-vectorize -msse -mfpmath=sse -msse2 -mssse3 -msse4.1 -msse4.2 -maes -mtune=native -march=native -fwrapv -fno-strict-aliasing -fstack-protector-strong -I/usr/local/include -D_LARGEFILE_SOURCE -D_FILE_OFFSET_BITS=64',
    optimize='-O2',
    cppflags='-D_REENTRANT -D_GNU_SOURCE -O2 -W -Wformat=2 -Wswitch -Wshadow -Wwrite-strings -Wuninitialized -Wall -pipe -fomit-frame-pointer -pedantic -D_FORTIFY_SOURCE=2 -Wpointer-arith -Wstrict-prototypes -fstack-protector -Wstack-protector -Wextra -Wbad-function-cast -Wcast-align -Wcast-qual -Wdisabled-optimization -Wendif-labels -Wfloat-equal -Wformat-nonliteral -Winline -Wmissing-declarations -Wmissing-prototypes -Wnested-externs -Wpointer-arith -Wundef -Wformat-security -ftree-vectorize -msse -mfpmath=sse -msse2 -mssse3 -msse4.1 -msse4.2 -maes -mtune=native -march=native -fwrapv -fno-strict-aliasing -fstack-protector-strong -I/usr/local/include'
    ccversion='', gccversion='4.8.5 20150623 (Red Hat 4.8.5-39.0.3)', gccosandvers=''
    intsize=4, longsize=8, ptrsize=8, doublesize=8, byteorder=12345678, doublekind=3
    d_longlong=define, longlongsize=8, d_longdbl=define, longdblsize=16, longdblkind=3
    ivtype='long', ivsize=8, nvtype='double', nvsize=8, Off_t='off_t', lseeksize=8
    alignbytes=8, prototype=define
  Linker and Libraries:
    ld='cc', ldflags =' -fstack-protector-strong -L/usr/local/lib'
    libpth=/usr/local/lib /usr/lib /lib/../lib64 /usr/lib/../lib64 /lib /lib64 /usr/lib64 /usr/local/lib64
    libs=-lpthread -lnsl -lgdbm -ldb -ldl -lm -lcrypt -lutil -lc -lgdbm_compat
    perllibs=-lpthread -lnsl -ldl -lm -lcrypt -lutil -lc
    libc=libc-2.17.so, so=so, useshrplib=false, libperl=libperl.a
    gnulibc_version='2.17'
  Dynamic Linking:
    dlsrc=dl_dlopen.xs, dlext=so, d_dlsymun=undef, ccdlflags='-Wl,-E'
    cccdlflags='-fPIC', lddlflags='-shared -O2 -L/usr/local/lib -fstack-protector-strong'


Characteristics of this binary (from libperl): 
  Compile-time options: HAS_TIMES MULTIPLICITY PERLIO_LAYERS
                        PERL_COPY_ON_WRITE PERL_DONT_CREATE_GVSV
                        PERL_HASH_FUNC_ONE_AT_A_TIME_HARD
                        PERL_IMPLICIT_CONTEXT PERL_MALLOC_WRAP
                        PERL_PRESERVE_IVUV PERL_USE_DEVEL USE_64_BIT_ALL
                        USE_64_BIT_INT USE_ITHREADS USE_LARGE_FILES
                        USE_LOCALE USE_LOCALE_COLLATE USE_LOCALE_CTYPE
                        USE_LOCALE_NUMERIC USE_LOCALE_TIME USE_PERLIO
                        USE_PERL_ATOF USE_REENTRANT_API
  Locally applied patches:
	Devel::PatchPerl 1.80
  Built under linux
  Compiled at Dec 19 2019 14:49:52
  %ENV:
    PERL5LIB=""
    PERL5OPT=""
    PERL5_CPANPLUS_IS_RUNNING="24032"
    PERL5_CPAN_IS_RUNNING="24032"
    PERLBREW_HOME="/home/opc/.perlbrew"
    PERLBREW_LIB=""
    PERLBREW_MANPATH="/home/opc/perl5/perlbrew/perls/perl-5.24.4-thread/man"
    PERLBREW_PATH="/home/opc/perl5/perlbrew/bin:/home/opc/perl5/perlbrew/perls/perl-5.24.4-thread/bin"
    PERLBREW_PERL="perl-5.24.4-thread"
    PERLBREW_ROOT="/home/opc/perl5/perlbrew"
    PERLBREW_SHELLRC_VERSION="0.92"
    PERLBREW_VERSION="0.92"
    PERL_LOCAL_LIB_ROOT=""
    PERL_MM_USE_DEFAULT="1"
    PERL_USE_UNSAFE_INC="1"
  @INC:
    /home/opc/perl5/perlbrew/perls/perl-5.24.4-thread/lib/site_perl/5.24.4/x86_64-linux-thread-multi
    /home/opc/perl5/perlbrew/perls/perl-5.24.4-thread/lib/site_perl/5.24.4
    /home/opc/perl5/perlbrew/perls/perl-5.24.4-thread/lib/5.24.4/x86_64-linux-thread-multi
    /home/opc/perl5/perlbrew/perls/perl-5.24.4-thread/lib/5.24.4
    .