Catmandu-FedoraCommons v0.3 Perl 5 v5.14.4 amd64-freebsd
- Status
- Pass
- From
- Slaven Rezić (SREZIC)
- Dist
-
Catmandu-FedoraCommons v0.3
- Platform
- Perl 5 v5.14.4 amd64-freebsd
- Date
- 2017-08-31 14:57:24
- ID
- b2eb978c-8e5c-11e7-acf9-ee1e33384d91
This distribution has been tested as part of the CPAN Testers
project, supporting the Perl programming language. See
http://wiki.cpantesters.org/ for more information or email
questions to cpan-testers-discuss@perl.org
--
Dear Patrick Hochstenbach,
This is a computer-generated report for Catmandu-FedoraCommons-0.3
on perl 5.14.4, created by CPAN-Reporter-1.2018.
Thank you for uploading your work to CPAN. Congratulations!
All tests were successful.
Sections of this report:
* Tester comments
* Program output
* Prerequisites
* Environment and other context
------------------------------
TESTER COMMENTS
------------------------------
Additional comments from tester:
none provided
------------------------------
PROGRAM OUTPUT
------------------------------
Output from './Build test':
t/01_load.t .................................................. ok
t/02_access.t ................................................ ok
t/03_modify.t ................................................ ok
t/04_store.t ................................................. ok
t/Catmandu-FedoraCommons-Model-addRelationship.t ............. ok
t/Catmandu-FedoraCommons-Model-datastreamHistory.t ........... ok
t/Catmandu-FedoraCommons-Model-datastreamProfile.t ........... ok
t/Catmandu-FedoraCommons-Model-describeRepository.t .......... ok
t/Catmandu-FedoraCommons-Model-export.t ...................... ok
t/Catmandu-FedoraCommons-Model-findObjects.t ................. ok
t/Catmandu-FedoraCommons-Model-getDatastreamDissemination.t .. ok
t/Catmandu-FedoraCommons-Model-getObjectHistory.t ............ ok
t/Catmandu-FedoraCommons-Model-getObjectProfile.t ............ ok
t/Catmandu-FedoraCommons-Model-getRelationships.t ............ ok
t/Catmandu-FedoraCommons-Model-ingest.t ...................... ok
t/Catmandu-FedoraCommons-Model-listDatastreams.t ............. ok
t/Catmandu-FedoraCommons-Model-listMethods.t ................. ok
t/Catmandu-FedoraCommons-Model-modifyObject.t ................ ok
t/Catmandu-FedoraCommons-Model-pidList.t ..................... ok
t/Catmandu-FedoraCommons-Model-purgeDatastream.t ............. ok
t/Catmandu-FedoraCommons-Model-purgeObject.t ................. ok
t/Catmandu-FedoraCommons-Model-purgeRelationship.t ........... ok
t/Catmandu-FedoraCommons-Model-upload.t ...................... ok
t/Catmandu-FedoraCommons-Model-validate.t .................... ok
t/Catmandu-FedoraCommons-Response.t .......................... ok
t/Catmandu-FedoraCommons.t ................................... ok
t/Catmandu-Store-FedoraCommons-DC.t .......................... ok
t/Catmandu-Store-FedoraCommons.t ............................. ok
t/Catmandu-Store-File-FedoraCommons-Bag.t .................... ok
t/Catmandu-Store-File-FedoraCommons-Index.t .................. ok
t/Catmandu-Store-File-FedoraCommons.t ........................ ok
t/author-pod-syntax.t ........................................ skipped: these tests are for testing by the author
All tests successful.
Files=32, Tests=481, 13 wallclock secs ( 0.02 usr 0.19 sys + 7.91 cusr 0.99 csys = 9.10 CPU)
Result: PASS
------------------------------
PREREQUISITES
------------------------------
Prerequisite modules loaded:
requires:
Module Need Have
---------------------- -------- --------
Catmandu 1.06 1.0602
Data::Validate::Type v1.5.1 1.5.1
Data::Validate::URI 0.06 0.07
Date::Parse 0 2.30
HTTP::Request::Common 6.04 6.13
IO::File::WithFilename 0.01 0.01
IO::Socket::SSL 2.015 2.050
perl v5.14.0 5.014004
RDF::Trine 1.014 1.016
Test::JSON 0.11 0.11
XML::LibXML 2.0121 2.0128
build_requires:
Module Need Have
---------------------- -------- --------
Test::Exception 0.32 0.43
Test::More 1.001003 1.302086
Test::Pod 1.49 1.51
Test::Simple 1.001003 1.302086
configure_requires:
Module Need Have
---------------------- -------- --------
Module::Build::Tiny 0.034 0.039
------------------------------
ENVIRONMENT AND OTHER CONTEXT
------------------------------
Environment variables:
LC_ALL = de_DE.ISO8859-1
PATH = /usr/local/bin:/usr/bin:/bin:/usr/local/sbin:/usr/sbin:/sbin:/home/cpansand/bin/freebsd9.3:/home/cpansand/bin/sh:/home/cpansand/bin:/usr/games:/home/cpansand/devel:/usr/home/eserte/src/srezic-misc/scripts
PERL5LIB =
PERL5OPT =
PERL5_CPANPLUS_IS_RUNNING = 95899
PERL5_CPAN_IS_RUNNING = 95899
PERL5_CPAN_IS_RUNNING_IN_RECURSION = 95853,95899
PERLDOC = -MPod::Perldoc::ToTextOverstrike
PERL_BATCH = yes
PERL_CANARY_STABILITY_NOPROMPT = 1
PERL_CPAN_REPORTER_CONFIG = /var/tmp/cpansmoker-1023/2017083115/cpanreporter_000_config.ini
PERL_EXTUTILS_AUTOINSTALL = --defaultdeps
SHELL = /usr/local/bin/zsh
TERM = screen
TMPDIR = /var/tmp/cpansmoker-1023/2017083115
Perl special variables (and OS-specific diagnostics, for MSWin32):
$^X = /usr/perl5.14.4/bin/perl
$UID/$EUID = 1023 / 1023
$GID = 1023 1023
$EGID = 1023 1023
Perl module toolchain versions installed:
Module Have
------------------- --------
CPAN 2.16
CPAN::Meta 2.150010
Cwd 3.62
ExtUtils::CBuilder 0.280226
ExtUtils::Command 7.24
ExtUtils::Install 2.12
ExtUtils::MakeMaker 7.24
ExtUtils::Manifest 1.70
ExtUtils::ParseXS 3.35
File::Spec 3.62
JSON 2.94
JSON::PP 2.94
Module::Build 0.4224
Module::Signature 0.81
Parse::CPAN::Meta 2.150010
Test::Harness 3.39
Test::More 1.302086
YAML 1.20
YAML::Syck 1.30
version 0.9918
--
Summary of my perl5 (revision 5 version 14 subversion 4) configuration:
Platform:
osname=freebsd, osvers=9.2-release-p4, archname=amd64-freebsd
uname='freebsd cvrsnica-freebsd-92 9.2-release-p4 freebsd 9.2-release-p4 #0: tue apr 8 18:08:22 utc 2014 root@amd64-builder.daemonology.net:usrobjusrsrcsysgeneric amd64 '
config_args='-ds -e -Dprefix=/usr/perl5.14.4'
hint=recommended, useposix=true, d_sigaction=define
useithreads=undef, usemultiplicity=undef
useperlio=define, d_sfio=undef, uselargefiles=define, usesocks=undef
use64bitint=define, use64bitall=define, uselongdouble=undef
usemymalloc=n, bincompat5005=undef
Compiler:
cc='cc', ccflags ='-DHAS_FPSETMASK -DHAS_FLOATINGPOINT_H -fno-strict-aliasing -pipe -fstack-protector -I/usr/local/include',
optimize='-O',
cppflags='-DHAS_FPSETMASK -DHAS_FLOATINGPOINT_H -fno-strict-aliasing -pipe -fstack-protector -I/usr/local/include'
ccversion='', gccversion='4.2.1 20070831 patched [FreeBSD]', gccosandvers=''
intsize=4, longsize=8, ptrsize=8, doublesize=8, byteorder=12345678
d_longlong=define, longlongsize=8, d_longdbl=define, longdblsize=16
ivtype='long', ivsize=8, nvtype='double', nvsize=8, Off_t='off_t', lseeksize=8
alignbytes=8, prototype=define
Linker and Libraries:
ld='cc', ldflags ='-Wl,-E -fstack-protector -L/usr/local/lib'
libpth=/usr/lib /usr/local/lib
libs=-lgdbm -lm -lcrypt -lutil -lc
perllibs=-lm -lcrypt -lutil -lc
libc=, so=so, useshrplib=false, libperl=libperl.a
gnulibc_version=''
Dynamic Linking:
dlsrc=dl_dlopen.xs, dlext=so, d_dlsymun=undef, ccdlflags=' '
cccdlflags='-DPIC -fPIC', lddlflags='-shared -L/usr/local/lib -fstack-protector'
Characteristics of this binary (from libperl):
Compile-time options: PERL_DONT_CREATE_GVSV PERL_MALLOC_WRAP
PERL_PRESERVE_IVUV USE_64_BIT_ALL USE_64_BIT_INT
USE_LARGE_FILES USE_PERLIO USE_PERL_ATOF
Built under freebsd
Compiled at May 16 2014 00:20:44
%ENV:
PERL5LIB=""
PERL5OPT=""
PERL5_CPANPLUS_IS_RUNNING="95899"
PERL5_CPAN_IS_RUNNING="95899"
PERL5_CPAN_IS_RUNNING_IN_RECURSION="95853,95899"
PERLDOC="-MPod::Perldoc::ToTextOverstrike"
PERL_BATCH="yes"
PERL_CANARY_STABILITY_NOPROMPT="1"
PERL_CPAN_REPORTER_CONFIG="/var/tmp/cpansmoker-1023/2017083115/cpanreporter_000_config.ini"
PERL_EXTUTILS_AUTOINSTALL="--defaultdeps"
@INC:
/usr/perl5.14.4/lib/site_perl/5.14.4/amd64-freebsd
/usr/perl5.14.4/lib/site_perl/5.14.4
/usr/perl5.14.4/lib/5.14.4/amd64-freebsd
/usr/perl5.14.4/lib/5.14.4
.