FFI-Platypus v2.09 Perl 5 v5.36.0 x86_64-linux-gnu-thread-multi
- Status
- Pass
- From
- Joenio Marques da Costa
- Dist
-
FFI-Platypus v2.09
- Platform
- Perl 5 v5.36.0 x86_64-linux-gnu-thread-multi
- Date
- 2024-10-08 16:09:26
- ID
- b0f4d15a-858f-11ef-8181-d90ed500a359
This distribution has been tested as part of the CPAN Testers
project, supporting the Perl programming language. See
http://wiki.cpantesters.org/ for more information or email
questions to cpan-testers-discuss@perl.org
--
Dear PLICEASE,
This is a computer-generated report for FFI-Platypus-2.09
on perl 5.36.0, created by App::cpanminus::reporter 0.22 (1.7046).
Thank you for uploading your work to CPAN. Congratulations!
All tests were successful.
Sections of this report:
* Tester comments
* Program output
* Prerequisites
* Environment and other context
------------------------------
TESTER COMMENTS
------------------------------
Additional comments from tester:
none provided
------------------------------
PROGRAM OUTPUT
------------------------------
Output from '':
Building and testing FFI-Platypus-2.09
XX src/dlrun.c
XX bin/
CC src/dlrun.c
LD src/dlrun.o
VV bin/dlrun
UN src/dlrun.o
PR header."stdlib.h"=1
PR header."stdint.h"=1
PR header."sys/types.h"=1
PR header."sys/stat.h"=1
PR header."unistd.h"=1
PR header."alloca.h"=1
PR header."dlfcn.h"=1
PR header."limits.h"=1
PR header."stddef.h"=1
PR header."wchar.h"=1
PR header."signal.h"=1
PR header."inttypes.h"=1
PR header."windows.h"=0
PR header."sys/cygwin.h"=0
PR header."string.h"=1
PR header."psapi.h"=0
PR header."stdio.h"=1
PR header."stdbool.h"=1
PR header."complex.h"=1
PR type.char.align=1
PR type.char.sign=signed
PR type.char.size=1
PR type.signed char.align=1
PR type.signed char.sign=signed
PR type.signed char.size=1
PR type.unsigned char.align=1
PR type.unsigned char.sign=unsigned
PR type.unsigned char.size=1
PR type.short.align=2
PR type.short.sign=signed
PR type.short.size=2
PR type.signed short.align=2
PR type.signed short.sign=signed
PR type.signed short.size=2
PR type.unsigned short.align=2
PR type.unsigned short.sign=unsigned
PR type.unsigned short.size=2
PR type.int.align=4
PR type.int.sign=signed
PR type.int.size=4
PR type.signed int.align=4
PR type.signed int.sign=signed
PR type.signed int.size=4
PR type.unsigned int.align=4
PR type.unsigned int.sign=unsigned
PR type.unsigned int.size=4
PR type.long.align=8
PR type.long.sign=signed
PR type.long.size=8
PR type.signed long.align=8
PR type.signed long.sign=signed
PR type.signed long.size=8
PR type.unsigned long.align=8
PR type.unsigned long.sign=unsigned
PR type.unsigned long.size=8
PR type.uint8_t.align=1
PR type.uint8_t.sign=unsigned
PR type.uint8_t.size=1
PR type.int8_t.align=1
PR type.int8_t.sign=signed
PR type.int8_t.size=1
PR type.uint16_t.align=2
PR type.uint16_t.sign=unsigned
PR type.uint16_t.size=2
PR type.int16_t.align=2
PR type.int16_t.sign=signed
PR type.int16_t.size=2
PR type.uint32_t.align=4
PR type.uint32_t.sign=unsigned
PR type.uint32_t.size=4
PR type.int32_t.align=4
PR type.int32_t.sign=signed
PR type.int32_t.size=4
PR type.uint64_t.align=8
PR type.uint64_t.sign=unsigned
PR type.uint64_t.size=8
PR type.int64_t.align=8
PR type.int64_t.sign=signed
PR type.int64_t.size=8
PR type.size_t.align=8
PR type.size_t.sign=unsigned
PR type.size_t.size=8
PR type.ssize_t.align=8
PR type.ssize_t.sign=signed
PR type.ssize_t.size=8
PR type.float.align=4
PR type.float.size=4
PR type.double.align=8
PR type.double.size=8
PR type.long double.align=16
PR type.long double.size=16
PR type.float complex.align=4
PR type.float complex.size=8
PR type.double complex.align=8
PR type.double complex.size=16
PR type.long double complex.align=16
PR type.long double complex.size=32
PR type.bool.align=1
PR type.bool.sign=unsigned
PR type.bool.size=1
PR type._Bool.align=1
PR type._Bool.sign=unsigned
PR type._Bool.size=1
PR type.pointer.align=8
PR type.pointer.size=8
PR type.uintptr_t.align=8
PR type.uintptr_t.sign=unsigned
PR type.uintptr_t.size=8
PR type.intptr_t.align=8
PR type.intptr_t.sign=signed
PR type.intptr_t.size=8
PR type.enum.align=4
PR type.enum.sign=unsigned
PR type.enum.size=4
PR type.senum.align=4
PR type.senum.sign=signed
PR type.senum.size=4
PR type.intmax_t.align=8
PR type.intmax_t.sign=signed
PR type.intmax_t.size=8
PR type.uintmax_t.align=8
PR type.uintmax_t.sign=unsigned
PR type.uintmax_t.size=8
PR type.long long.align=8
PR type.long long.sign=signed
PR type.long long.size=8
PR type.signed long long.align=8
PR type.signed long long.sign=signed
PR type.signed long long.size=8
PR type.unsigned long long.align=8
PR type.unsigned long long.sign=unsigned
PR type.unsigned long long.size=8
PR type.dev_t.align=8
PR type.dev_t.sign=unsigned
PR type.dev_t.size=8
PR type.ino_t.align=8
PR type.ino_t.sign=unsigned
PR type.ino_t.size=8
PR type.mode_t.align=4
PR type.mode_t.sign=unsigned
PR type.mode_t.size=4
PR type.nlink_t.align=8
PR type.nlink_t.sign=unsigned
PR type.nlink_t.size=8
PR type.uid_t.align=4
PR type.uid_t.sign=unsigned
PR type.uid_t.size=4
PR type.gid_t.align=4
PR type.gid_t.sign=unsigned
PR type.gid_t.size=4
PR type.off_t.align=8
PR type.off_t.sign=signed
PR type.off_t.size=8
PR type.blksize_t.align=8
PR type.blksize_t.sign=signed
PR type.blksize_t.size=8
PR type.blkcnt_t.align=8
PR type.blkcnt_t.sign=signed
PR type.blkcnt_t.size=8
PR type.time_t.align=8
PR type.time_t.sign=signed
PR type.time_t.size=8
PR type.ptrdiff_t.align=8
PR type.ptrdiff_t.sign=signed
PR type.ptrdiff_t.size=8
PR type.wchar_t.align=4
PR type.wchar_t.sign=signed
PR type.wchar_t.size=4
PR type.wint_t.align=4
PR type.wint_t.sign=unsigned
PR type.wint_t.size=4
PR probe.abi=1
PR probe.alloca=1
PR probe.complex=1
PR probe.longdouble=1
PR probe.recordvalue=1
PR probe.strnlen=1
PR probe.variadic=1
PR abi.unix64=2
PR abi.win64=3
PR abi.efi64=3
PR abi.gnuw64=4
PR abi.default_abi=2
cp lib/FFI/Platypus/Memory.pm blib/lib/FFI/Platypus/Memory.pm
cp lib/FFI/Platypus/TypeParser/Version1.pm blib/lib/FFI/Platypus/TypeParser/Version1.pm
cp lib/FFI/Platypus/Function.pm blib/lib/FFI/Platypus/Function.pm
cp lib/FFI/Platypus/TypeParser.pm blib/lib/FFI/Platypus/TypeParser.pm
cp lib/FFI/Platypus/Internal.pm blib/lib/FFI/Platypus/Internal.pm
cp lib/FFI/Platypus.pm blib/lib/FFI/Platypus.pm
cp lib/FFI/Platypus/Type/WideString.pm blib/lib/FFI/Platypus/Type/WideString.pm
cp lib/FFI/Platypus/Bundle.pm blib/lib/FFI/Platypus/Bundle.pm
cp lib/FFI/Platypus/API.pm blib/lib/FFI/Platypus/API.pm
cp lib/FFI/Platypus/Type/StringArray.pm blib/lib/FFI/Platypus/Type/StringArray.pm
cp lib/FFI/Build/File/Base.pm blib/lib/FFI/Build/File/Base.pm
cp lib/FFI/Build.pm blib/lib/FFI/Build.pm
cp lib/FFI/Platypus/Type.pm blib/lib/FFI/Platypus/Type.pm
cp lib/FFI/Build/File/CXX.pm blib/lib/FFI/Build/File/CXX.pm
cp lib/FFI/Platypus/DL.pm blib/lib/FFI/Platypus/DL.pm
cp lib/FFI/Platypus/Buffer.pm blib/lib/FFI/Platypus/Buffer.pm
cp lib/FFI/Platypus/Legacy.pm blib/lib/FFI/Platypus/Legacy.pm
cp lib/FFI/Build/PluginData.pm blib/lib/FFI/Build/PluginData.pm
cp lib/FFI/Platypus/Record/Meta.pm blib/lib/FFI/Platypus/Record/Meta.pm
cp lib/FFI/Platypus/Type/StringPointer.pm blib/lib/FFI/Platypus/Type/StringPointer.pm
cp lib/FFI/Platypus/Lang/C.pm blib/lib/FFI/Platypus/Lang/C.pm
cp lib/FFI/Build/File/Object.pm blib/lib/FFI/Build/File/Object.pm
cp lib/FFI/Build/Platform.pm blib/lib/FFI/Build/Platform.pm
cp lib/FFI/Platypus/Type/PointerSizeBuffer.pm blib/lib/FFI/Platypus/Type/PointerSizeBuffer.pm
cp lib/FFI/Platypus/Lang.pm blib/lib/FFI/Platypus/Lang.pm
cp lib/FFI/Platypus/Lang/ASM.pm blib/lib/FFI/Platypus/Lang/ASM.pm
cp lib/FFI/Build/Plugin.pm blib/lib/FFI/Build/Plugin.pm
cp lib/FFI/Platypus/ShareConfig.pm blib/lib/FFI/Platypus/ShareConfig.pm
cp lib/FFI/Platypus/Record/TieArray.pm blib/lib/FFI/Platypus/Record/TieArray.pm
cp lib/FFI/Build/File/Library.pm blib/lib/FFI/Build/File/Library.pm
cp lib/FFI/Platypus/TypeParser/Version2.pm blib/lib/FFI/Platypus/TypeParser/Version2.pm
cp lib/FFI/Build/File/C.pm blib/lib/FFI/Build/File/C.pm
cp lib/FFI/Platypus/Closure.pm blib/lib/FFI/Platypus/Closure.pm
cp lib/FFI/Build/MM.pm blib/lib/FFI/Build/MM.pm
cp lib/FFI/Platypus/Lang/Win32.pm blib/lib/FFI/Platypus/Lang/Win32.pm
cp lib/FFI/Platypus/Record.pm blib/lib/FFI/Platypus/Record.pm
cp lib/FFI/Platypus/Constant.pm blib/lib/FFI/Platypus/Constant.pm
cp lib/FFI/Platypus/TypeParser/Version0.pm blib/lib/FFI/Platypus/TypeParser/Version0.pm
cp lib/FFI/Probe.pm blib/lib/FFI/Probe.pm
cp lib/FFI/Probe/Runner/Result.pm blib/lib/FFI/Probe/Runner/Result.pm
cp lib/FFI/Probe/Runner.pm blib/lib/FFI/Probe/Runner.pm
cp lib/FFI/Probe/Runner/Builder.pm blib/lib/FFI/Probe/Runner/Builder.pm
cp lib/FFI/Temp.pm blib/lib/FFI/Temp.pm
cp lib/FFI/typemap blib/lib/FFI/typemap
Running Mkbootstrap for lib/FFI/Platypus ()
chmod 644 "lib/FFI/Platypus.bs"
"/usr/bin/perl" -MExtUtils::Command::MM -e 'cp_nonempty' -- lib/FFI/Platypus.bs blib/arch/auto/FFI/Platypus/Platypus.bs 644
"/usr/bin/perl" "/usr/share/perl/5.36/ExtUtils/xsubpp" -typemap '/usr/share/perl/5.36/ExtUtils/typemap' lib/FFI/Platypus.xs > lib/FFI/Platypus.xsc
mv lib/FFI/Platypus.xsc lib/FFI/Platypus.c
"/usr/bin/perl" "/usr/share/perl/5.36/ExtUtils/xsubpp" -typemap '/usr/share/perl/5.36/ExtUtils/typemap' lib/FFI/Platypus.xs > lib/FFI/Platypus.xsc
mv lib/FFI/Platypus.xsc lib/FFI/Platypus.c
x86_64-linux-gnu-gcc -c -Iinclude \
-D_REENTRANT -D_GNU_SOURCE -DDEBIAN -fwrapv -fno-strict-aliasing -pipe -I/usr/local/include -D_LARGEFILE_SOURCE -D_FILE_OFFSET_BITS=64 -O2 -g \
-DVERSION=\"2.09\" \
-DXS_VERSION=\"2.09\" -fPIC "-I/usr/lib/x86_64-linux-gnu/perl/5.36/CORE" lib/FFI/Platypus.c -o lib/FFI/Platypus.o
x86_64-linux-gnu-gcc -c -Iinclude -D_REENTRANT -D_GNU_SOURCE -DDEBIAN -fwrapv -fno-strict-aliasing -pipe -I/usr/local/include -D_LARGEFILE_SOURCE -D_FILE_OFFSET_BITS=64 -O2 -g -DVERSION=\"2.09\" -DXS_VERSION=\"2.09\" -fPIC "-I/usr/lib/x86_64-linux-gnu/perl/5.36/CORE" xs/cast.c -o xs/cast.o
x86_64-linux-gnu-gcc -c -Iinclude -D_REENTRANT -D_GNU_SOURCE -DDEBIAN -fwrapv -fno-strict-aliasing -pipe -I/usr/local/include -D_LARGEFILE_SOURCE -D_FILE_OFFSET_BITS=64 -O2 -g -DVERSION=\"2.09\" -DXS_VERSION=\"2.09\" -fPIC "-I/usr/lib/x86_64-linux-gnu/perl/5.36/CORE" xs/closure.c -o xs/closure.o
x86_64-linux-gnu-gcc -c -Iinclude -D_REENTRANT -D_GNU_SOURCE -DDEBIAN -fwrapv -fno-strict-aliasing -pipe -I/usr/local/include -D_LARGEFILE_SOURCE -D_FILE_OFFSET_BITS=64 -O2 -g -DVERSION=\"2.09\" -DXS_VERSION=\"2.09\" -fPIC "-I/usr/lib/x86_64-linux-gnu/perl/5.36/CORE" xs/complex.c -o xs/complex.o
x86_64-linux-gnu-gcc -c -Iinclude -D_REENTRANT -D_GNU_SOURCE -DDEBIAN -fwrapv -fno-strict-aliasing -pipe -I/usr/local/include -D_LARGEFILE_SOURCE -D_FILE_OFFSET_BITS=64 -O2 -g -DVERSION=\"2.09\" -DXS_VERSION=\"2.09\" -fPIC "-I/usr/lib/x86_64-linux-gnu/perl/5.36/CORE" xs/custom.c -o xs/custom.o
x86_64-linux-gnu-gcc -c -Iinclude -D_REENTRANT -D_GNU_SOURCE -DDEBIAN -fwrapv -fno-strict-aliasing -pipe -I/usr/local/include -D_LARGEFILE_SOURCE -D_FILE_OFFSET_BITS=64 -O2 -g -DVERSION=\"2.09\" -DXS_VERSION=\"2.09\" -fPIC "-I/usr/lib/x86_64-linux-gnu/perl/5.36/CORE" xs/meta.c -o xs/meta.o
x86_64-linux-gnu-gcc -c -Iinclude -D_REENTRANT -D_GNU_SOURCE -DDEBIAN -fwrapv -fno-strict-aliasing -pipe -I/usr/local/include -D_LARGEFILE_SOURCE -D_FILE_OFFSET_BITS=64 -O2 -g -DVERSION=\"2.09\" -DXS_VERSION=\"2.09\" -fPIC "-I/usr/lib/x86_64-linux-gnu/perl/5.36/CORE" xs/names.c -o xs/names.o
x86_64-linux-gnu-gcc -c -Iinclude -D_REENTRANT -D_GNU_SOURCE -DDEBIAN -fwrapv -fno-strict-aliasing -pipe -I/usr/local/include -D_LARGEFILE_SOURCE -D_FILE_OFFSET_BITS=64 -O2 -g -DVERSION=\"2.09\" -DXS_VERSION=\"2.09\" -fPIC "-I/usr/lib/x86_64-linux-gnu/perl/5.36/CORE" xs/perl_math_int64.c -o xs/perl_math_int64.o
x86_64-linux-gnu-gcc -c -Iinclude -D_REENTRANT -D_GNU_SOURCE -DDEBIAN -fwrapv -fno-strict-aliasing -pipe -I/usr/local/include -D_LARGEFILE_SOURCE -D_FILE_OFFSET_BITS=64 -O2 -g -DVERSION=\"2.09\" -DXS_VERSION=\"2.09\" -fPIC "-I/usr/lib/x86_64-linux-gnu/perl/5.36/CORE" xs/record_opaque.c -o xs/record_opaque.o
x86_64-linux-gnu-gcc -c -Iinclude -D_REENTRANT -D_GNU_SOURCE -DDEBIAN -fwrapv -fno-strict-aliasing -pipe -I/usr/local/include -D_LARGEFILE_SOURCE -D_FILE_OFFSET_BITS=64 -O2 -g -DVERSION=\"2.09\" -DXS_VERSION=\"2.09\" -fPIC "-I/usr/lib/x86_64-linux-gnu/perl/5.36/CORE" xs/record_simple.c -o xs/record_simple.o
x86_64-linux-gnu-gcc -c -Iinclude -D_REENTRANT -D_GNU_SOURCE -DDEBIAN -fwrapv -fno-strict-aliasing -pipe -I/usr/local/include -D_LARGEFILE_SOURCE -D_FILE_OFFSET_BITS=64 -O2 -g -DVERSION=\"2.09\" -DXS_VERSION=\"2.09\" -fPIC "-I/usr/lib/x86_64-linux-gnu/perl/5.36/CORE" xs/record_string.c -o xs/record_string.o
x86_64-linux-gnu-gcc -c -Iinclude -D_REENTRANT -D_GNU_SOURCE -DDEBIAN -fwrapv -fno-strict-aliasing -pipe -I/usr/local/include -D_LARGEFILE_SOURCE -D_FILE_OFFSET_BITS=64 -O2 -g -DVERSION=\"2.09\" -DXS_VERSION=\"2.09\" -fPIC "-I/usr/lib/x86_64-linux-gnu/perl/5.36/CORE" xs/windl.c -o xs/windl.o
rm -f blib/arch/auto/FFI/Platypus/Platypus.so
x86_64-linux-gnu-gcc -shared -L/usr/local/lib -fstack-protector-strong lib/FFI/Platypus.o xs/cast.o xs/closure.o xs/complex.o xs/custom.o xs/meta.o xs/names.o xs/perl_math_int64.o xs/record_opaque.o xs/record_simple.o xs/record_string.o xs/windl.o -o blib/arch/auto/FFI/Platypus/Platypus.so \
-lffi \
chmod 755 blib/arch/auto/FFI/Platypus/Platypus.so
CC ffi/constant.c
CC ffi/memory.c
CC ffi/record_meta.c
LD blib/lib/auto/share/dist/FFI-Platypus/lib/libplfill.so
Manifying 33 pod documents
Manifying 10 pod documents
"/usr/bin/perl" -MExtUtils::Command::MM -e 'cp_nonempty' -- lib/FFI/Platypus.bs blib/arch/auto/FFI/Platypus/Platypus.bs 644
CC t/ffi/align.c
CC t/ffi/align_array.c
CC t/ffi/align_fixed.c
CC t/ffi/align_string.c
CC t/ffi/basic.c
CC t/ffi/closure.c
CC t/ffi/color.c
CC t/ffi/complex_double.c
CC t/ffi/complex_float.c
CC t/ffi/double.c
CC t/ffi/float.c
CC t/ffi/gh117.c
CC t/ffi/gh174.c
CC t/ffi/longdouble.c
CC t/ffi/memcmp4.c
CC t/ffi/meta.c
CC t/ffi/pointer.c
CC t/ffi/record.c
CC t/ffi/sint16.c
CC t/ffi/sint32.c
CC t/ffi/sint64.c
CC t/ffi/sint8.c
CC t/ffi/string.c
CC t/ffi/string_array.c
CC t/ffi/uint16.c
CC t/ffi/uint32.c
CC t/ffi/uint64.c
CC t/ffi/uint8.c
CC t/ffi/variadic.c
LD t/ffi/libtest.so
PERL_DL_NONLAZY=1 "/usr/bin/perl" "-MExtUtils::Command::MM" "-MTest::Harness" "-e" "undef *Test::Harness::Switches; test_harness(0, 'blib/lib', 'blib/arch')" t/*.t
#
#
#
# HARNESS_ACTIVE=1
# HARNESS_VERSION=3.44
# LANG=C.UTF-8
# LC_ALL=C.UTF-8
# PERL5LIB=/HOLODEV/.cpanm/work/1728403038.11290/FFI-Platypus-2.09/blib/lib:/HOLODEV/.cpanm/work/1728403038.11290/FFI-Platypus-2.09/blib/arch:/HOLODEV/perl5/lib/perl5/5.36.0/x86_64-linux-gnu-thread-multi:/HOLODEV/perl5/lib/perl5/5.36.0:/HOLODEV/perl5/lib/perl5/x86_64-linux-gnu-thread-multi:/HOLODEV/perl5/lib/perl5:/HOLODEV/perl5/lib/perl5
# PERL_DL_NONLAZY=1
# PERL_LOCAL_LIB_ROOT=/HOLODEV/perl5
# PERL_MB_OPT=--install_base "/HOLODEV/perl5"
# PERL_MM_OPT=INSTALL_BASE=/HOLODEV/perl5
# PERL_MM_USE_DEFAULT=1
# PERL_USE_UNSAFE_INC=1
# SHELL=/bin/bash
#
#
#
# PERL5LIB path
# /HOLODEV/.cpanm/work/1728403038.11290/FFI-Platypus-2.09/blib/lib
# /HOLODEV/.cpanm/work/1728403038.11290/FFI-Platypus-2.09/blib/arch
# /HOLODEV/perl5/lib/perl5/5.36.0/x86_64-linux-gnu-thread-multi
# /HOLODEV/perl5/lib/perl5/5.36.0
# /HOLODEV/perl5/lib/perl5/x86_64-linux-gnu-thread-multi
# /HOLODEV/perl5/lib/perl5
# /HOLODEV/perl5/lib/perl5
#
#
#
# perl 5.036000 linux x86_64-linux-gnu-thread-multi
# Alien::Base 2.83
# Alien::FFI -
# Capture::Tiny 0.48
# Devel::Hide -
# ExtUtils::CBuilder 0.280236
# ExtUtils::MakeMaker 7.64
# ExtUtils::ParseXS 3.45
# FFI::CheckLib 0.31
# File::Spec::Functions 3.84
# IPC::Cmd 1.04
# JSON::PP 4.07
# List::Util 1.66
# Math::LongDouble -
# PkgConfig -
# Test2::API 1.302204
# Test2::V0 1.302204
# autodie 2.34
# constant 1.33
# forks -
# parent 0.238
#
#
#
# mode : system
# Alien::FFI::pkgconfig->VERSION =
# Alien::FFI::pkgconfig->install_type = system
# Alien::FFI::pkgconfig->cflags =
# Alien::FFI::pkgconfig->libs = -lffi
# Alien::FFI::pkgconfig->version = 3.4.4
#
#
#
# ffi.platypus.memory.strdup_impl =libc
# ffi.platypus.memory.strndup_impl=libc
#
#
#
# Types:
# complex_double : double complex
# complex_float : float complex
# complex_longdouble : long double complex
# double : double
# float : float
# longdouble : long double
# sint16 : int16_t, short, signed short
# sint32 : int, int32_t, senum, signed int, wchar_t
# sint64 : blkcnt_t, blksize_t, int64_t, intmax_t, intptr_t, long, long long, off_t, ptrdiff_t, signed long, signed long long, ssize_t, time_t
# sint8 : char, int8_t, signed char
# uint16 : uint16_t, unsigned short, ushort
# uint32 : enum, gid_t, mode_t, uid_t, uint, uint32_t, unsigned int, wint_t
# uint64 : dev_t, ino_t, nlink_t, size_t, uint64_t, uintmax_t, uintptr_t, ulong, unsigned long, unsigned long long
# uint8 : bool, uchar, uint8_t, unsigned char
#
#
#
# ABIs:
# default_abi 2
# efi64 3
# gnuw64 4
# unix64 2
# win64 3
#
#
#
# Probes:
# bigendian 0
# variadic 1
# complex 1
# strnlen 1
# abi 1
# alloca 1
# longdouble 1
# bigendian64 0
# recordvalue 1
#
#
#
# CPU Info:
# model name : Intel(R) Core(TM) i7-10610U CPU @ 1.80GHz
# flags : fpu vme de pse tsc msr pae mce cx8 apic sep mtrr pge mca cmov pat pse36 clflush dts acpi mmx fxsr sse sse2 ss ht tm pbe syscall nx pdpe1gb rdtscp lm constant_tsc art arch_perfmon pebs bts rep_good nopl xtopology nonstop_tsc cpuid aperfmperf pni pclmulqdq dtes64 monitor ds_cpl vmx smx est tm2 ssse3 sdbg fma cx16 xtpr pdcm pcid sse4_1 sse4_2 x2apic movbe popcnt tsc_deadline_timer aes xsave avx f16c rdrand lahf_lm abm 3dnowprefetch cpuid_fault epb ssbd ibrs ibpb stibp ibrs_enhanced tpr_shadow flexpriority ept vpid ept_ad fsgsbase tsc_adjust bmi1 avx2 smep bmi2 erms invpcid mpx rdseed adx smap clflushopt intel_pt xsaveopt xsavec xgetbv1 xsaves dtherm ida arat pln pts hwp hwp_notify hwp_act_window hwp_epp vnmi md_clear flush_l1d arch_capabilities
# address sizes : 39 bits physical, 48 bits virtual
#
#
#
# Distributor ID: Debian
# Description: Debian GNU/Linux 12 (bookworm)
# Release: 12
# Codename: bookworm
#
#
#
# [PLATFORM]
# osname : linux
# cc : x86_64-linux-gnu-gcc
# cxx : x86_64-linux-gnu-g++
# cxxld : x86_64-linux-gnu-g++
# for : ---
# ld : x86_64-linux-gnu-gcc
# ccflags : -fPIC -D_REENTRANT -D_GNU_SOURCE -DDEBIAN -fwrapv -fno-strict-aliasing -pipe -I/usr/local/include -D_LARGEFILE_SOURCE -D_FILE_OFFSET_BITS=64 -O2 -g -I/HOLODEV/.cpanm/work/1728403038.11290/FFI-Platypus-2.09/blib/lib/auto/share/dist/FFI-Platypus/include
# ldflags : -shared -L/usr/local/lib -fstack-protector-strong
# object suffix : .o
# library prefix : lib
# library suffix : .so
# cc mm works : -MM
#
#
#
t/00_diag.t .............................. ok
t/ffi_build.t ............................ ok
t/ffi_build_file_base.t .................. ok
t/ffi_build_file_c.t ..................... ok
t/ffi_build_file_cxx.t ................... ok
t/ffi_build_file_library.t ............... ok
t/ffi_build_file_object.t ................ ok
t/ffi_build_mm.t ......................... ok
t/ffi_build_platform.t ................... ok
t/ffi_build_plugin.t ..................... ok
t/ffi_build_plugindata.t ................. ok
t/ffi_platypus.t ......................... ok
t/ffi_platypus_api.t ..................... ok
t/ffi_platypus_buffer.t .................. ok
t/ffi_platypus_bundle.t .................. ok
t/ffi_platypus_closure.t ................. ok
t/ffi_platypus_constant.t ................ ok
t/ffi_platypus_dl.t ...................... ok
t/ffi_platypus_function.t ................ ok
t/ffi_platypus_function_wrapper.t ........ ok
t/ffi_platypus_internal.t ................ ok
t/ffi_platypus_lang.t .................... ok
t/ffi_platypus_lang_asm.t ................ ok
t/ffi_platypus_lang_c.t .................. ok
t/ffi_platypus_lang_win32.t .............. ok
t/ffi_platypus_legacy.t .................. ok
t/ffi_platypus_memory.t .................. ok
t/ffi_platypus_record.t .................. ok
t/ffi_platypus_record_meta.t ............. ok
t/ffi_platypus_record_tiearray.t ......... ok
t/ffi_platypus_shareconfig.t ............. ok
t/ffi_platypus_type.t .................... ok
t/ffi_platypus_type_pointersizebuffer.t .. ok
t/ffi_platypus_type_stringarray.t ........ ok
t/ffi_platypus_type_stringpointer.t ...... ok
t/ffi_platypus_type_widestring.t ......... ok
t/ffi_platypus_typeparser.t .............. ok
t/ffi_platypus_typeparser_version0.t ..... ok
t/ffi_platypus_typeparser_version1.t ..... ok
t/ffi_platypus_typeparser_version2.t ..... ok
t/ffi_probe.t ............................ ok
t/ffi_probe_runner.t ..................... ok
t/ffi_probe_runner_builder.t ............. ok
t/ffi_probe_runner_result.t .............. ok
t/ffi_temp.t ............................. ok
t/forks.t ................................ skipped: Test requires forks
t/gh117.t ................................ ok
t/gh129.t ................................ ok
t/gh323.t ................................ ok
t/memory.t ............................... skipped: tested only in CI
t/threads.t .............................. ok
t/type_complex_double.t .................. ok
t/type_complex_float.t ................... ok
t/type_custom.t .......................... ok
t/type_double.t .......................... ok
t/type_float.t ........................... ok
t/type_longdouble.t ...................... ok
t/type_longdouble__array.t ............... ok
t/type_longdouble__hide.t ................ skipped: test requires Devel::Hide 0.0010
t/type_longdouble__ptr.t ................. ok
t/type_opaque.t .......................... ok
t/type_record.t .......................... ok
t/type_record_value.t .................... ok
t/type_sint16.t .......................... ok
t/type_sint32.t .......................... ok
t/type_sint64.t .......................... ok
t/type_sint8.t ........................... ok
t/type_string.t .......................... ok
t/type_uint16.t .......................... ok
t/type_uint32.t .......................... ok
t/type_uint64.t .......................... ok
t/type_uint8.t ........................... ok
All tests successful.
Files=72, Tests=320, 8 wallclock secs ( 0.18 usr 0.06 sys + 7.21 cusr 1.18 csys = 8.63 CPU)
Result: PASS
------------------------------
PREREQUISITES
------------------------------
Prerequisite modules loaded:
runtime:
Module Need Have
--------------------- -------- --------
autodie 0 2.34
Capture::Tiny 0 0.48
constant 1.32 1.33
ExtUtils::MakeMaker 7.12 7.64
! FFI::CheckLib 0.05 n/a
File::Spec::Functions 0 3.84
IPC::Cmd 0 1.04
JSON::PP 0 4.07
List::Util 1.45 1.62
parent 0 0.238
perl 5.008004 5.036000
build:
Module Need Have
--------------------- -------- --------
ExtUtils::CBuilder 0 0.280236
configure:
Module Need Have
--------------------- -------- --------
Capture::Tiny 0 0.48
ExtUtils::MakeMaker 7.12 7.64
ExtUtils::ParseXS 3.30 3.45
IPC::Cmd 0 1.04
JSON::PP 0 4.07
parent 0 0.238
------------------------------
ENVIRONMENT AND OTHER CONTEXT
------------------------------
Environment variables:
LANG = C.UTF-8
LC_ALL = C.UTF-8
PATH = /usr/local/bin:/usr/bin:/bin:/usr/local/games:/usr/games
SHELL = /bin/bash
TERM = xterm-256color
Perl special variables (and OS-specific diagnostics, for MSWin32):
EGID = 1000 27 1000
EUID = 1000
EXECUTABLE_NAME = /usr/bin/perl
GID = 1000 27 1000
UID = 1000
Perl module toolchain versions installed:
Module Have
------------------- --------
CPAN 2.33
CPAN::Meta 2.150010
Cwd 3.84
ExtUtils::CBuilder 0.280236
ExtUtils::Command 7.64
ExtUtils::Install 2.20
ExtUtils::MakeMaker 7.64
ExtUtils::Manifest 1.73
ExtUtils::ParseXS 3.45
File::Spec 3.84
JSON 4.10
JSON::PP 4.07
Module::Build 0.4232
Module::Signature 0.88
Parse::CPAN::Meta 2.150010
Test::Harness 3.44
Test::More 1.302190
YAML 1.30
YAML::Syck n/a
version 0.9929
--
Summary of my perl5 (revision 5 version 36 subversion 0) configuration:
Platform:
osname=linux
osvers=4.19.0
archname=x86_64-linux-gnu-thread-multi
uname='linux localhost 4.19.0 #1 smp debian 4.19.0 x86_64 gnulinux '
config_args='-Dmksymlinks -Dusethreads -Duselargefiles -Dcc=x86_64-linux-gnu-gcc -Dcpp=x86_64-linux-gnu-cpp -Dld=x86_64-linux-gnu-gcc -Dccflags=-DDEBIAN -Wdate-time -D_FORTIFY_SOURCE=2 -g -O2 -ffile-prefix-map=/dummy/build/dir=. -fstack-protector-strong -Wformat -Werror=format-security -Dldflags= -Wl,-z,relro -Dlddlflags=-shared -Wl,-z,relro -Dcccdlflags=-fPIC -Darchname=x86_64-linux-gnu -Dprefix=/usr -Dprivlib=/usr/share/perl/5.36 -Darchlib=/usr/lib/x86_64-linux-gnu/perl/5.36 -Dvendorprefix=/usr -Dvendorlib=/usr/share/perl5 -Dvendorarch=/usr/lib/x86_64-linux-gnu/perl5/5.36 -Dsiteprefix=/usr/local -Dsitelib=/usr/local/share/perl/5.36.0 -Dsitearch=/usr/local/lib/x86_64-linux-gnu/perl/5.36.0 -Dman1dir=/usr/share/man/man1 -Dman3dir=/usr/share/man/man3 -Dsiteman1dir=/usr/local/man/man1 -Dsiteman3dir=/usr/local/man/man3 -Duse64bitint -Dman1ext=1 -Dman3ext=3perl -Dpager=/usr/bin/sensible-pager -Uafs -Ud_csh -Ud_ualarm -Uusesfio -Uusenm -Ui_libutil -Ui_xlocale -Uversiononly -DDEBUGGING=-g -Doptimize=-O2 -dEs -Duseshrplib -Dlibperl=libperl.so.5.36.0'
hint=recommended
useposix=true
d_sigaction=define
useithreads=define
usemultiplicity=define
use64bitint=define
use64bitall=define
uselongdouble=undef
usemymalloc=n
default_inc_excludes_dot=define
Compiler:
cc='x86_64-linux-gnu-gcc'
ccflags ='-D_REENTRANT -D_GNU_SOURCE -DDEBIAN -fwrapv -fno-strict-aliasing -pipe -I/usr/local/include -D_LARGEFILE_SOURCE -D_FILE_OFFSET_BITS=64'
optimize='-O2 -g'
cppflags='-D_REENTRANT -D_GNU_SOURCE -DDEBIAN -fwrapv -fno-strict-aliasing -pipe -I/usr/local/include'
ccversion=''
gccversion='12.2.0'
gccosandvers=''
intsize=4
longsize=8
ptrsize=8
doublesize=8
byteorder=12345678
doublekind=3
d_longlong=define
longlongsize=8
d_longdbl=define
longdblsize=16
longdblkind=3
ivtype='long'
ivsize=8
nvtype='double'
nvsize=8
Off_t='off_t'
lseeksize=8
alignbytes=8
prototype=define
Linker and Libraries:
ld='x86_64-linux-gnu-gcc'
ldflags =' -fstack-protector-strong -L/usr/local/lib'
libpth=/usr/local/lib /usr/lib/x86_64-linux-gnu /usr/lib /lib/x86_64-linux-gnu /lib
libs=-lgdbm -lgdbm_compat -ldb -ldl -lm -lpthread -lc -lcrypt
perllibs=-ldl -lm -lpthread -lc -lcrypt
libc=/lib/x86_64-linux-gnu/libc.so.6
so=so
useshrplib=true
libperl=libperl.so.5.36
gnulibc_version='2.36'
Dynamic Linking:
dlsrc=dl_dlopen.xs
dlext=so
d_dlsymun=undef
ccdlflags='-Wl,-E'
cccdlflags='-fPIC'
lddlflags='-shared -L/usr/local/lib -fstack-protector-strong'
Characteristics of this binary (from libperl):
Compile-time options:
HAS_TIMES
MULTIPLICITY
PERLIO_LAYERS
PERL_COPY_ON_WRITE
PERL_DONT_CREATE_GVSV
PERL_MALLOC_WRAP
PERL_OP_PARENT
PERL_PRESERVE_IVUV
USE_64_BIT_ALL
USE_64_BIT_INT
USE_ITHREADS
USE_LARGE_FILES
USE_LOCALE
USE_LOCALE_COLLATE
USE_LOCALE_CTYPE
USE_LOCALE_NUMERIC
USE_LOCALE_TIME
USE_PERLIO
USE_PERL_ATOF
USE_REENTRANT_API
USE_THREAD_SAFE_LOCALE
Locally applied patches:
DEBPKG:debian/cpan_definstalldirs - Provide a sensible INSTALLDIRS default for modules installed from CPAN.
DEBPKG:debian/db_file_ver - https://bugs.debian.org/340047 Remove overly restrictive DB_File version check.
DEBPKG:debian/doc_info - Replace generic man(1) instructions with Debian-specific information.
DEBPKG:debian/enc2xs_inc - https://bugs.debian.org/290336 Tweak enc2xs to follow symlinks and ignore missing @INC directories.
DEBPKG:debian/errno_ver - https://bugs.debian.org/343351 Remove Errno version check due to upgrade problems with long-running processes.
DEBPKG:debian/libperl_embed_doc - https://bugs.debian.org/186778 Note that libperl-dev package is required for embedded linking
DEBPKG:fixes/respect_umask - Respect umask during installation
DEBPKG:debian/writable_site_dirs - Set umask approproately for site install directories
DEBPKG:debian/extutils_set_libperl_path - EU:MM: set location of libperl.a under /usr/lib
DEBPKG:debian/no_packlist_perllocal - Don't install .packlist or perllocal.pod for perl or vendor
DEBPKG:debian/fakeroot - Postpone LD_LIBRARY_PATH evaluation to the binary targets.
DEBPKG:debian/instmodsh_doc - Debian policy doesn't install .packlist files for core or vendor.
DEBPKG:debian/ld_run_path - Remove standard libs from LD_RUN_PATH as per Debian policy.
DEBPKG:debian/libnet_config_path - Set location of libnet.cfg to /etc/perl/Net as /usr may not be writable.
DEBPKG:debian/perlivp - https://bugs.debian.org/510895 Make perlivp skip include directories in /usr/local
DEBPKG:debian/squelch-locale-warnings - https://bugs.debian.org/508764 Squelch locale warnings in Debian package maintainer scripts
DEBPKG:debian/patchlevel - https://bugs.debian.org/567489 List packaged patches for 5.36.0-7+deb12u1 in patchlevel.h
DEBPKG:fixes/document_makemaker_ccflags - https://bugs.debian.org/628522 [rt.cpan.org #68613] Document that CCFLAGS should include $Config{ccflags}
DEBPKG:debian/find_html2text - https://bugs.debian.org/640479 Configure CPAN::Distribution with correct name of html2text
DEBPKG:debian/perl5db-x-terminal-emulator.patch - https://bugs.debian.org/668490 Invoke x-terminal-emulator rather than xterm in perl5db.pl
DEBPKG:debian/cpan-missing-site-dirs - https://bugs.debian.org/688842 Fix CPAN::FirstTime defaults with nonexisting site dirs if a parent is writable
DEBPKG:fixes/memoize_storable_nstore - [rt.cpan.org #77790] https://bugs.debian.org/587650 Memoize::Storable: respect 'nstore' option not respected
DEBPKG:debian/makemaker-pasthru - https://bugs.debian.org/758471 Pass LD settings through to subdirectories
DEBPKG:debian/makemaker-manext - https://bugs.debian.org/247370 Make EU::MakeMaker honour MANnEXT settings in generated manpage headers
DEBPKG:debian/kfreebsd-softupdates - https://bugs.debian.org/796798 Work around Debian Bug#796798
DEBPKG:fixes/memoize-pod - [rt.cpan.org #89441] Fix POD errors in Memoize
DEBPKG:debian/hurd-softupdates - https://bugs.debian.org/822735 Fix t/op/stat.t failures on hurd
DEBPKG:fixes/math_complex_doc_great_circle - https://bugs.debian.org/697567 [rt.cpan.org #114104] Math::Trig: clarify definition of great_circle_midpoint
DEBPKG:fixes/math_complex_doc_see_also - https://bugs.debian.org/697568 [rt.cpan.org #114105] Math::Trig: add missing SEE ALSO
DEBPKG:fixes/math_complex_doc_angle_units - https://bugs.debian.org/731505 [rt.cpan.org #114106] Math::Trig: document angle units
DEBPKG:fixes/cpan_web_link - https://bugs.debian.org/367291 CPAN: Add link to main CPAN web site
DEBPKG:debian/hppa_op_optimize_workaround - https://bugs.debian.org/838613 Temporarily lower the optimization of op.c on hppa due to gcc-6 problems
DEBPKG:debian/installman-utf8 - https://bugs.debian.org/840211 Generate man pages with UTF-8 characters
DEBPKG:debian/hppa_opmini_optimize_workaround - https://bugs.debian.org/869122 Lower the optimization level of opmini.c on hppa
DEBPKG:debian/sh4_op_optimize_workaround - https://bugs.debian.org/869373 Also lower the optimization level of op.c and opmini.c on sh4
DEBPKG:debian/perldoc-pager - https://bugs.debian.org/870340 [rt.cpan.org #120229] Fix perldoc terminal escapes when sensible-pager is less
DEBPKG:debian/prune_libs - https://bugs.debian.org/128355 Prune the list of libraries wanted to what we actually need.
DEBPKG:debian/mod_paths - Tweak @INC ordering for Debian
DEBPKG:debian/deprecate-with-apt - https://bugs.debian.org/747628 Point users to Debian packages of deprecated core modules
DEBPKG:debian/disable-stack-check - https://bugs.debian.org/902779 [GH #16607] Disable debugperl stack extension checks for binary compatibility with perl
DEBPKG:debian/perlbug-editor - https://bugs.debian.org/922609 Use "editor" as the default perlbug editor, as per Debian policy
DEBPKG:debian/eu-mm-perl-base - https://bugs.debian.org/962138 Suppress an ExtUtils::MakeMaker warning about our non-default @INC
DEBPKG:fixes/io_socket_ip_ipv6 - Disable getaddrinfo(3) AI_ADDRCONFIG for localhost and IPv4 numeric addresses
DEBPKG:debian/usrmerge-lib64 - https://bugs.debian.org/914128 Configure / libpth.U: Do not adjust glibpth when /usr/lib64 is present.
DEBPKG:debian/usrmerge-realpath - https://bugs.debian.org/914128 Configure / libpth.U: use realpath --no-symlinks on Debian
DEBPKG:debian/configure-regen - https://bugs.debian.org/762638 Regenerate Configure et al. after probe unit changes
DEBPKG:fixes/x32-io-msg-skip - https://bugs.debian.org/922609 Skip io/msg.t on x32 due to broken System V message queues
DEBPKG:debian/hurd-eumm-workaround - https://bugs.debian.org/1018289 Work around a MakeMaker regression breaking GNU/Hurd hint files
DEBPKG:fixes/json-pp-warnings - https://bugs.debian.org/1019757 Call unimport first to silence warnings
DEBPKG:fixes/readline-stream-errors - [80c1f1e] [GH #6799] https://bugs.debian.org/1016369 only clear the stream error state in readline() for glob()
DEBPKG:fixes/readline-stream-errors-test - [0b60216] [GH #6799] https://bugs.debian.org/1016369 test that <> doesn't clear the stream error state
DEBPKG:fixes/lto-test-fix - [69b4fa3] [GH #20518] https://bugs.debian.org/1015579 skip checking categorization of libperl symbols for LTO builds
DEBPKG:fixes/CVE-2023-47038 - [7047915] https://bugs.debian.org/1056746 Fix read/write past buffer end: perl-security#140
Built under linux
Compiled at Nov 25 2023 20:59:54
@INC:
/etc/perl
/usr/local/lib/x86_64-linux-gnu/perl/5.36.0
/usr/local/share/perl/5.36.0
/usr/lib/x86_64-linux-gnu/perl5/5.36
/usr/share/perl5
/usr/lib/x86_64-linux-gnu/perl-base
/usr/lib/x86_64-linux-gnu/perl/5.36
/usr/share/perl/5.36
/usr/local/lib/site_perl