Text-Conceal v1.05 Perl 5 v5.16.3 darwin-thread-multi-2level
- Status
- Pass
- From
- David Cantrell (DCANTRELL)
- Dist
-
Text-Conceal v1.05
- Platform
- Perl 5 v5.16.3 darwin-thread-multi-2level
- Date
- 2025-02-27 23:29:28
- ID
- b0625bca-f562-11ef-9a1e-d5474e2fd91f
This distribution has been tested as part of the CPAN Testers
project, supporting the Perl programming language. See
http://wiki.cpantesters.org/ for more information or email
questions to cpan-testers-discuss@perl.org
--
Dear Kaz Utashiro,
This is a computer-generated report for Text-Conceal-1.05
on perl 5.16.3, created by CPAN-Reporter-1.2019.
Thank you for uploading your work to CPAN. Congratulations!
All tests were successful.
Sections of this report:
* Tester comments
* Program output
* Prerequisites
* Environment and other context
------------------------------
TESTER COMMENTS
------------------------------
Additional comments from tester:
this report is from an automated smoke testing program
and was not reviewed by a human for accuracy
------------------------------
PROGRAM OUTPUT
------------------------------
Output from './Build test':
t/00_compile.t ............. ok
t/VPrintf/01_simple.t ...... ok
t/VPrintf/02_multi.t ....... ok
t/VPrintf/03_special.t ..... ok
Unknown charname 'KATAKANA LETTER SMALL KI' at (eval 19) line 1.
Unknown charname 'KATAKANA LETTER SMALL KO' at (eval 25) line 1.
Unknown charname 'KATAKANA LETTER SMALL SA' at (eval 27) line 1.
Unknown charname 'KATAKANA LETTER SMALL SE' at (eval 33) line 1.
Unknown charname 'KATAKANA LETTER SMALL SO' at (eval 35) line 1.
Unknown charname 'KATAKANA LETTER SMALL TA' at (eval 37) line 1.
Unknown charname 'KATAKANA LETTER SMALL TI' at (eval 39) line 1.
Unknown charname 'KATAKANA LETTER SMALL TE' at (eval 43) line 1.
Unknown charname 'KATAKANA LETTER SMALL NA' at (eval 47) line 1.
Unknown charname 'KATAKANA LETTER SMALL NI' at (eval 49) line 1.
Unknown charname 'KATAKANA LETTER SMALL NE' at (eval 53) line 1.
Unknown charname 'KATAKANA LETTER SMALL NO' at (eval 55) line 1.
Unknown charname 'KATAKANA LETTER SMALL MA' at (eval 67) line 1.
Unknown charname 'KATAKANA LETTER SMALL MI' at (eval 69) line 1.
Unknown charname 'KATAKANA LETTER SMALL ME' at (eval 73) line 1.
Unknown charname 'KATAKANA LETTER SMALL MO' at (eval 75) line 1.
Unknown charname 'KATAKANA LETTER YI' at (eval 78) line 1.
Unknown charname 'KATAKANA LETTER SMALL YI' at (eval 79) line 1.
Unknown charname 'KATAKANA LETTER YE' at (eval 82) line 1.
Unknown charname 'KATAKANA LETTER SMALL YE' at (eval 83) line 1.
Unknown charname 'KATAKANA LETTER SMALL WI' at (eval 99) line 1.
Unknown charname 'KATAKANA LETTER WU' at (eval 100) line 1.
Unknown charname 'KATAKANA LETTER SMALL WU' at (eval 101) line 1.
Unknown charname 'KATAKANA LETTER SMALL WE' at (eval 103) line 1.
Unknown charname 'KATAKANA LETTER SMALL WO' at (eval 105) line 1.
Unknown charname 'KATAKANA LETTER SMALL GA' at (eval 107) line 1.
Unknown charname 'KATAKANA LETTER SMALL GI' at (eval 109) line 1.
Unknown charname 'KATAKANA LETTER SMALL GU' at (eval 111) line 1.
Unknown charname 'KATAKANA LETTER SMALL GE' at (eval 113) line 1.
Unknown charname 'KATAKANA LETTER SMALL GO' at (eval 115) line 1.
Unknown charname 'KATAKANA LETTER SMALL ZA' at (eval 117) line 1.
Unknown charname 'KATAKANA LETTER SMALL ZI' at (eval 119) line 1.
Unknown charname 'KATAKANA LETTER SMALL ZU' at (eval 121) line 1.
Unknown charname 'KATAKANA LETTER SMALL ZE' at (eval 123) line 1.
Unknown charname 'KATAKANA LETTER SMALL ZO' at (eval 125) line 1.
Unknown charname 'KATAKANA LETTER SMALL DA' at (eval 127) line 1.
Unknown charname 'KATAKANA LETTER SMALL DI' at (eval 129) line 1.
Unknown charname 'KATAKANA LETTER SMALL DU' at (eval 131) line 1.
Unknown charname 'KATAKANA LETTER SMALL DE' at (eval 133) line 1.
Unknown charname 'KATAKANA LETTER SMALL DO' at (eval 135) line 1.
Unknown charname 'KATAKANA LETTER SMALL BA' at (eval 137) line 1.
Unknown charname 'KATAKANA LETTER SMALL BI' at (eval 139) line 1.
Unknown charname 'KATAKANA LETTER SMALL BU' at (eval 141) line 1.
Unknown charname 'KATAKANA LETTER SMALL BE' at (eval 143) line 1.
Unknown charname 'KATAKANA LETTER SMALL BO' at (eval 145) line 1.
Unknown charname 'KATAKANA LETTER SMALL PA' at (eval 147) line 1.
Unknown charname 'KATAKANA LETTER SMALL PI' at (eval 149) line 1.
Unknown charname 'KATAKANA LETTER SMALL PU' at (eval 151) line 1.
Unknown charname 'KATAKANA LETTER SMALL PE' at (eval 153) line 1.
Unknown charname 'KATAKANA LETTER SMALL PO' at (eval 155) line 1.
Unknown charname 'HIRAGANA LETTER SMALL KI' at (eval 169) line 1.
Unknown charname 'HIRAGANA LETTER SMALL KU' at (eval 171) line 1.
Unknown charname 'HIRAGANA LETTER SMALL KO' at (eval 175) line 1.
Unknown charname 'HIRAGANA LETTER SMALL SA' at (eval 177) line 1.
Unknown charname 'HIRAGANA LETTER SMALL SI' at (eval 179) line 1.
Unknown charname 'HIRAGANA LETTER SMALL SU' at (eval 181) line 1.
Unknown charname 'HIRAGANA LETTER SMALL SE' at (eval 183) line 1.
Unknown charname 'HIRAGANA LETTER SMALL SO' at (eval 185) line 1.
Unknown charname 'HIRAGANA LETTER SMALL TA' at (eval 187) line 1.
Unknown charname 'HIRAGANA LETTER SMALL TI' at (eval 189) line 1.
Unknown charname 'HIRAGANA LETTER SMALL TE' at (eval 193) line 1.
Unknown charname 'HIRAGANA LETTER SMALL TO' at (eval 195) line 1.
Unknown charname 'HIRAGANA LETTER SMALL NA' at (eval 197) line 1.
Unknown charname 'HIRAGANA LETTER SMALL NI' at (eval 199) line 1.
Unknown charname 'HIRAGANA LETTER SMALL NU' at (eval 201) line 1.
Unknown charname 'HIRAGANA LETTER SMALL NE' at (eval 203) line 1.
Unknown charname 'HIRAGANA LETTER SMALL NO' at (eval 205) line 1.
Unknown charname 'HIRAGANA LETTER SMALL HA' at (eval 207) line 1.
Unknown charname 'HIRAGANA LETTER SMALL HI' at (eval 209) line 1.
Unknown charname 'HIRAGANA LETTER SMALL HU' at (eval 211) line 1.
Unknown charname 'HIRAGANA LETTER SMALL HE' at (eval 213) line 1.
Unknown charname 'HIRAGANA LETTER SMALL HO' at (eval 215) line 1.
Unknown charname 'HIRAGANA LETTER SMALL MA' at (eval 217) line 1.
Unknown charname 'HIRAGANA LETTER SMALL MI' at (eval 219) line 1.
Unknown charname 'HIRAGANA LETTER SMALL MU' at (eval 221) line 1.
Unknown charname 'HIRAGANA LETTER SMALL ME' at (eval 223) line 1.
Unknown charname 'HIRAGANA LETTER SMALL MO' at (eval 225) line 1.
Unknown charname 'HIRAGANA LETTER YI' at (eval 228) line 1.
Unknown charname 'HIRAGANA LETTER SMALL YI' at (eval 229) line 1.
Unknown charname 'HIRAGANA LETTER YE' at (eval 232) line 1.
Unknown charname 'HIRAGANA LETTER SMALL YE' at (eval 233) line 1.
Unknown charname 'HIRAGANA LETTER SMALL RA' at (eval 237) line 1.
Unknown charname 'HIRAGANA LETTER SMALL RI' at (eval 239) line 1.
Unknown charname 'HIRAGANA LETTER SMALL RU' at (eval 241) line 1.
Unknown charname 'HIRAGANA LETTER SMALL RE' at (eval 243) line 1.
Unknown charname 'HIRAGANA LETTER SMALL RO' at (eval 245) line 1.
Unknown charname 'HIRAGANA LETTER SMALL WI' at (eval 249) line 1.
Unknown charname 'HIRAGANA LETTER WU' at (eval 250) line 1.
Unknown charname 'HIRAGANA LETTER SMALL WU' at (eval 251) line 1.
Unknown charname 'HIRAGANA LETTER SMALL WE' at (eval 253) line 1.
Unknown charname 'HIRAGANA LETTER SMALL WO' at (eval 255) line 1.
Unknown charname 'HIRAGANA LETTER SMALL GA' at (eval 257) line 1.
Unknown charname 'HIRAGANA LETTER SMALL GI' at (eval 259) line 1.
Unknown charname 'HIRAGANA LETTER SMALL GU' at (eval 261) line 1.
Unknown charname 'HIRAGANA LETTER SMALL GE' at (eval 263) line 1.
Unknown charname 'HIRAGANA LETTER SMALL GO' at (eval 265) line 1.
Unknown charname 'HIRAGANA LETTER SMALL ZA' at (eval 267) line 1.
Unknown charname 'HIRAGANA LETTER SMALL ZI' at (eval 269) line 1.
Unknown charname 'HIRAGANA LETTER SMALL ZU' at (eval 271) line 1.
Unknown charname 'HIRAGANA LETTER SMALL ZE' at (eval 273) line 1.
Unknown charname 'HIRAGANA LETTER SMALL ZO' at (eval 275) line 1.
Unknown charname 'HIRAGANA LETTER SMALL DA' at (eval 277) line 1.
Unknown charname 'HIRAGANA LETTER SMALL DI' at (eval 279) line 1.
Unknown charname 'HIRAGANA LETTER SMALL DU' at (eval 281) line 1.
Unknown charname 'HIRAGANA LETTER SMALL DE' at (eval 283) line 1.
Unknown charname 'HIRAGANA LETTER SMALL DO' at (eval 285) line 1.
Unknown charname 'HIRAGANA LETTER SMALL BA' at (eval 287) line 1.
Unknown charname 'HIRAGANA LETTER SMALL BI' at (eval 289) line 1.
Unknown charname 'HIRAGANA LETTER SMALL BU' at (eval 291) line 1.
Unknown charname 'HIRAGANA LETTER SMALL BE' at (eval 293) line 1.
Unknown charname 'HIRAGANA LETTER SMALL BO' at (eval 295) line 1.
Unknown charname 'HIRAGANA LETTER SMALL PA' at (eval 297) line 1.
Unknown charname 'HIRAGANA LETTER SMALL PI' at (eval 299) line 1.
Unknown charname 'HIRAGANA LETTER SMALL PU' at (eval 301) line 1.
Unknown charname 'HIRAGANA LETTER SMALL PE' at (eval 303) line 1.
Unknown charname 'HIRAGANA LETTER SMALL PO' at (eval 305) line 1.
t/VPrintf/04_combined.t .... ok
t/VPrintf/05_filehandle.t .. ok
t/VPrintf/07_backspace.t ... ok
t/VPrintf/08_duplicate.t ... ok
t/VPrintf/09_zerowidth.t ... ok
All tests successful.
Files=9, Tests=587, 6 wallclock secs ( 0.19 usr 0.06 sys + 2.37 cusr 0.42 csys = 3.04 CPU)
Result: PASS
------------------------------
PREREQUISITES
------------------------------
Prerequisite modules loaded:
requires:
Module Need Have
--------------------- ------- --------
perl v5.14.0 5.016003
Text::ANSI::Fold 2.30 2.30
build_requires:
Module Need Have
--------------------- ------- --------
Test::More 0.98 1.302209
Text::VisualWidth::PP 0.08 0.08
configure_requires:
Module Need Have
--------------------- ------- --------
Module::Build::Tiny 0.035 0.051
------------------------------
ENVIRONMENT AND OTHER CONTEXT
------------------------------
Environment variables:
AUTOMATED_TESTING = 1
NONINTERACTIVE_TESTING = 1
PATH = /Users/cpantesting/perl5/perlbrew/bin:/Users/cpantesting/perl5/perlbrew/perls/perl-5.32.0/bin:/usr/local/bin:/System/Cryptexes/App/usr/bin:/usr/bin:/bin:/usr/sbin:/sbin:/var/run/com.apple.security.cryptexd/codex.system/bootstrap/usr/local/bin:/var/run/com.apple.security.cryptexd/codex.system/bootstrap/usr/bin:/var/run/com.apple.security.cryptexd/codex.system/bootstrap/usr/appleinternal/bin:/Library/Apple/usr/bin:/Applications/VMware Fusion.app/Contents/Public:/usr/local/zfs/bin:/Users/cpantesting/.cargo/bin
PERL = 5.16.3
PERL5LIB =
PERL5OPT =
PERL5_CPANPLUS_IS_RUNNING = 40427
PERL5_CPAN_IS_RUNNING = 40427
PERLBREW_HOME = /Users/cpantesting/.perlbrew
PERLBREW_MANPATH = /Users/cpantesting/perl5/perlbrew/perls/perl-5.32.0/man
PERLBREW_PATH = /Users/cpantesting/perl5/perlbrew/bin:/Users/cpantesting/perl5/perlbrew/perls/perl-5.32.0/bin
PERLBREW_PERL = perl-5.32.0
PERLBREW_ROOT = /Users/cpantesting/perl5/perlbrew
PERLBREW_SHELLRC_VERSION = 0.94
PERLBREW_VERSION = 0.94
PERLVER = 5.16.3
PERL_INLINE_DIRECTORY = /Users/cpantesting/.Inline-5.16.3
PERL_MM_USE_DEFAULT = 1
PERL_USE_UNSAFE_INC = 0
SHELL = /bin/bash
TERM = screen
Perl special variables (and OS-specific diagnostics, for MSWin32):
$^X = /Users/cpantesting/cpantesting/perl-5.16.3/bin/perl
$UID/$EUID = 503 / 503
$GID = 20 20 12 61 703 702 701 100
$EGID = 20 20 12 61 703 702 701 100
Perl module toolchain versions installed:
Module Have
------------------- --------
CPAN 1.9800
CPAN::Meta 2.143240
Cwd 3.39_02
ExtUtils::CBuilder 0.280235
ExtUtils::Command 7.58
ExtUtils::Install 2.06
ExtUtils::MakeMaker 7.58
ExtUtils::Manifest 1.70
ExtUtils::ParseXS 3.16
File::Spec 3.39_02
JSON 4.10
JSON::PP 4.05
Module::Build 0.4234
Module::Signature n/a
Parse::CPAN::Meta 1.4414
Test2 1.302209
Test::Harness 3.50
Test::More 1.302209
YAML 1.31
YAML::Syck 1.34
version 0.99
--
Summary of my perl5 (revision 5 version 16 subversion 3) configuration:
Platform:
osname=darwin, osvers=19.6.0, archname=darwin-thread-multi-2level
uname='darwin harrow.local 19.6.0 darwin kernel version 19.6.0: thu oct 29 22:56:45 pdt 2020; root:xnu-6153.141.2.2~1release_x86_64 x86_64 '
config_args='-de -Dusethreads -Dprefix=/Users/cpantesting/cpantesting/perl-5.16.3'
hint=recommended, useposix=true, d_sigaction=define
useithreads=define, usemultiplicity=define
useperlio=define, d_sfio=undef, uselargefiles=define, usesocks=undef
use64bitint=define, use64bitall=define, uselongdouble=undef
usemymalloc=n, bincompat5005=undef
Compiler:
cc='cc', ccflags ='-fno-common -DPERL_DARWIN -fno-strict-aliasing -pipe -fstack-protector -I/usr/local/include',
optimize='-O3',
cppflags='-fno-common -DPERL_DARWIN -fno-strict-aliasing -pipe -fstack-protector -I/usr/local/include'
ccversion='', gccversion='Apple LLVM 12.0.0 (clang-1200.0.32.27)', gccosandvers=''
intsize=4, longsize=8, ptrsize=8, doublesize=8, byteorder=12345678
d_longlong=define, longlongsize=8, d_longdbl=define, longdblsize=16
ivtype='long', ivsize=8, nvtype='double', nvsize=8, Off_t='off_t', lseeksize=8
alignbytes=8, prototype=define
Linker and Libraries:
ld='env MACOSX_DEPLOYMENT_TARGET=10.3 cc', ldflags =' -fstack-protector -L/usr/local/lib'
libpth=/usr/local/lib /usr/lib
libs=-lgdbm -ldbm -ldl -lm -lutil -lc
perllibs=-ldl -lm -lutil -lc
libc=, so=dylib, useshrplib=false, libperl=libperl.a
gnulibc_version=''
Dynamic Linking:
dlsrc=dl_dlopen.xs, dlext=bundle, d_dlsymun=undef, ccdlflags=' '
cccdlflags=' ', lddlflags=' -bundle -undefined dynamic_lookup -L/usr/local/lib -fstack-protector'
Characteristics of this binary (from libperl):
Compile-time options: HAS_TIMES MULTIPLICITY PERLIO_LAYERS
PERL_DONT_CREATE_GVSV PERL_IMPLICIT_CONTEXT
PERL_MALLOC_WRAP PERL_PRESERVE_IVUV USE_64_BIT_ALL
USE_64_BIT_INT USE_ITHREADS USE_LARGE_FILES
USE_LOCALE USE_LOCALE_COLLATE USE_LOCALE_CTYPE
USE_LOCALE_NUMERIC USE_PERLIO USE_PERL_ATOF
USE_REENTRANT_API
Built under darwin
Compiled at Dec 29 2020 22:52:51
%ENV:
PERL="5.16.3"
PERL5LIB=""
PERL5OPT=""
PERL5_CPANPLUS_IS_RUNNING="40427"
PERL5_CPAN_IS_RUNNING="40427"
PERLBREW_HOME="/Users/cpantesting/.perlbrew"
PERLBREW_MANPATH="/Users/cpantesting/perl5/perlbrew/perls/perl-5.32.0/man"
PERLBREW_PATH="/Users/cpantesting/perl5/perlbrew/bin:/Users/cpantesting/perl5/perlbrew/perls/perl-5.32.0/bin"
PERLBREW_PERL="perl-5.32.0"
PERLBREW_ROOT="/Users/cpantesting/perl5/perlbrew"
PERLBREW_SHELLRC_VERSION="0.94"
PERLBREW_VERSION="0.94"
PERLVER="5.16.3"
PERL_INLINE_DIRECTORY="/Users/cpantesting/.Inline-5.16.3"
PERL_MM_USE_DEFAULT="1"
PERL_USE_UNSAFE_INC="0"
@INC:
/Users/cpantesting/cpantesting/perl-5.16.3/lib/site_perl/5.16.3/darwin-thread-multi-2level
/Users/cpantesting/cpantesting/perl-5.16.3/lib/site_perl/5.16.3
/Users/cpantesting/cpantesting/perl-5.16.3/lib/5.16.3/darwin-thread-multi-2level
/Users/cpantesting/cpantesting/perl-5.16.3/lib/5.16.3
.