Moo v2.005005 Perl 5 v5.36.1 darwin-2level
- Status
- Pass
- From
- Dist
-
Moo v2.005005
- Platform
- Perl 5 v5.36.1 darwin-2level
- Date
- 2023-06-14 22:49:15
- ID
- b03e4792-0b05-11ee-95ec-ecd0e682080d
This distribution has been tested as part of the CPAN Testers
project, supporting the Perl programming language. See
http://wiki.cpantesters.org/ for more information or email
questions to cpan-testers-discuss@perl.org
--
Dear HAARG,
This is a computer-generated report for Moo-2.005005
on perl 5.36.1, created by App::cpanminus::reporter 0.20 (1.7046).
Thank you for uploading your work to CPAN. Congratulations!
All tests were successful.
Sections of this report:
* Tester comments
* Program output
* Prerequisites
* Environment and other context
------------------------------
TESTER COMMENTS
------------------------------
Additional comments from tester:
none provided
------------------------------
PROGRAM OUTPUT
------------------------------
Output from '':
Building and testing Moo-2.005005
PERL_DL_NONLAZY=1 "/Users/ether/perl5/perlbrew/perls/36.1/bin/perl" -It/lib "-MTestEnv=" "-MExtUtils::Command::MM" "-MTest::Harness" "-e" "undef *Test::Harness::Switches; test_harness(0, 'blib/lib', 'blib/arch')" t/*.t
t/accessor-default.t ............... ok
t/accessor-coerce.t ................ ok
t/accessor-generator-extension.t ... ok
t/accessor-handles.t ............... ok
t/accessor-mixed.t ................. ok
t/accessor-isa.t ................... ok
t/accessor-reader-writer.t ......... ok
t/accessor-pred-clear.t ............ ok
t/accessor-shortcuts.t ............. ok
t/accessor-roles.t ................. ok
t/accessor-trigger.t ............... ok
t/accessor-weaken-pre-5_8_3.t ...... ok
t/accessor-weaken.t ................ ok
t/buildall-subconstructor.t ........ ok
t/buildargs-error.t ................ ok
t/buildall.t ....................... ok
t/coerce-1.t ....................... ok
t/buildargs.t ...................... ok
t/compose-conflicts.t .............. ok
t/compose-roles.t .................. ok
t/constructor-modify.t ............. ok
t/compose-non-role.t ............... ok
t/demolish-basics.t ................ ok
t/croak-locations.t ................ ok
t/demolish-bugs-eats_mini.t ........ ok
t/demolish-throw.t ................. ok
t/demolish-bugs-eats_exceptions.t .. ok
t/does.t ........................... ok
t/demolish-global_destruction.t .... ok
t/extend-constructor.t ............. ok
t/extends-role.t ................... ok
t/extends-non-moo.t ................ ok
t/foreignbuildargs.t ............... ok
t/global_underscore.t .............. ok
t/has-array.t ...................... ok
t/has-before-extends.t ............. ok
t/has-plus.t ....................... ok
t/isa-interfere.t .................. ok
t/init-arg.t ....................... ok
t/lazy_isa.t ....................... ok
t/load_module.t .................... ok
t/load_module_error.t .............. ok
t/load_module_role_tiny.t .......... ok
t/long-package-name.t .............. ok
t/method-generate-accessor.t ....... ok
t/modifiers.t ...................... ok
t/method-generate-constructor.t .... ok
t/modify_lazy_handlers.t ........... ok
t/moo-accessors.t .................. ok
t/moo-c3.t ......................... ok
t/moo-object.t ..................... ok
t/moo-utils-_name_coderef.t ........ ok
t/moo-utils-_subname-Sub-Name.t .... ok
t/moo-utils-_subname.t ............. ok
t/moo-utils.t ...................... ok
t/moo.t ............................ ok
t/no-build.t ....................... ok
t/mutual-requires.t ................ ok
t/no-moo.t ......................... ok
t/non-moo-extends-c3.t ............. ok
t/not-both.t ....................... ok
t/not-methods.t .................... ok
t/non-moo-extends.t ................ ok
t/overridden-core-funcs.t .......... ok
t/role-conflicts-moox.t ............ ok
t/sub-and-handles.t ................ ok
t/subconstructor.t ................. ok
t/undef-bug.t ...................... ok
t/overloaded-coderefs.t ............ ok
t/use-after-no.t ................... ok
t/zzz-check-breaks.t ............... ok
All tests successful.
Files=71, Tests=841, 2 wallclock secs ( 0.24 usr 0.20 sys + 6.50 cusr 2.07 csys = 9.01 CPU)
Result: PASS
------------------------------
PREREQUISITES
------------------------------
Prerequisite modules loaded:
runtime:
Module Need Have
------------------------ -------- --------
Carp 0 1.52
Class::Method::Modifiers 1.10 2.15
Exporter 0 5.77
perl 5.006 5.036001
Role::Tiny 2.002003 2.002004
Scalar::Util 1.00 1.62
Sub::Defer 2.006006 2.006008
Sub::Quote 2.006006 2.006008
configure:
Module Need Have
------------------------ -------- --------
ExtUtils::MakeMaker 0 7.64
------------------------------
ENVIRONMENT AND OTHER CONTEXT
------------------------------
Environment variables:
HARNESS_OPTIONS = j6:c
LANG = en_CA.UTF-8
LC_ALL = en_CA.UTF-8
LC_CTYPE = en_CA.UTF-8
LDFLAGS = -L/usr/local/opt/mysql@5.7/lib
NO_NETWORK_TESTING = 1
PATH = /Users/ether/.perlbrew/libs/36.1@std/bin:/Users/ether/perl5/perlbrew/bin:/Users/ether/perl5/perlbrew/perls/36.1/bin:/opt/chefdk/bin:/Users/ether/.chefdk/gem/ruby/2.6.0/bin:/opt/chefdk/embedded/bin:/Users/ether/bin:/Users/ether/git/misc/install/curacao/bin:/Users/ether/git/misc/install/generic/bin:/opt/local/bin:/opt/local/sbin:/Users/ether/bin/google-cloud-sdk/bin:/Users/ether/bin/google-cloud-sdk/bin:/usr/local/sessionmanagerplugin/bin:/Users/ether/.cargo/bin:/Users/ether/.pyenv/shims:/Users/ether/.krew/bin:/usr/local/opt/mysql@5.7/bin:/Users/ether/go/bin:/Users/ether/git/git-hub/lib:/usr/local/bin:/System/Cryptexes/App/usr/bin:/usr/bin:/bin:/usr/sbin:/sbin:/Library/Apple/usr/bin:/var/run/com.apple.security.cryptexd/codex.system/bootstrap/usr/local/bin:/var/run/com.apple.security.cryptexd/codex.system/bootstrap/usr/bin:/var/run/com.apple.security.cryptexd/codex.system/bootstrap/usr/appleinternal/bin:/opt/local/share/git-core/contrib/workdir:/Users/ether/node_modules/.bin:/usr/local/google-cloud-sdk/bin:/usr/local/go/bin:/opt/chefdk/gitbin
PERL5LIB = /Users/ether/.perlbrew/libs/36.1@std/lib/perl5
PERLBREW_HOME = /Users/ether/.perlbrew
PERLBREW_LIB = std
PERLBREW_MANPATH = /Users/ether/.perlbrew/libs/36.1@std/man:/Users/ether/perl5/perlbrew/perls/36.1/man
PERLBREW_PATH = /Users/ether/.perlbrew/libs/36.1@std/bin:/Users/ether/perl5/perlbrew/bin:/Users/ether/perl5/perlbrew/perls/36.1/bin
PERLBREW_PERL = 36.1
PERLBREW_ROOT = /Users/ether/perl5/perlbrew
PERLBREW_SHELLRC_VERSION = 0.96
PERLBREW_VERSION = 0.97
PERLDOC = -oman
PERLDOC_PAGER = less -sicMr
PERL_AUTOINSTALL_PREFER_CPAN = 1
PERL_INSTALL_QUIET = 1
PERL_LOCAL_LIB_ROOT = /Users/ether/.perlbrew/libs/36.1@std
PERL_MB_OPT = --install_base /Users/ether/.perlbrew/libs/36.1@std
PERL_MM_OPT = INSTALL_BASE=/Users/ether/.perlbrew/libs/36.1@std
PERL_TEST_HARNESS_ASAP = 1
PERL_USE_UNSAFE_INC = 0
SHELL = /bin/bash
TERM = xterm-color
TMPDIR = /var/folders/k0/tyl0f1_n25x23qdgmcqhds7m0000gn/T/
Perl special variables (and OS-specific diagnostics, for MSWin32):
EGID = 20 20 12 61 79 80 81 98 701 33 100 204 250 395 398 399 400
EUID = 501
EXECUTABLE_NAME = /Users/ether/perl5/perlbrew/perls/36.1/bin/perl
GID = 20 20 12 61 79 80 81 98 701 33 100 204 250 395 398 399 400
UID = 501
Perl module toolchain versions installed:
Module Have
------------------- --------
CPAN 2.33
CPAN::Meta 2.150010
Cwd 3.84
ExtUtils::CBuilder 0.280236
ExtUtils::Command 7.64
ExtUtils::Install 2.20
ExtUtils::MakeMaker 7.64
ExtUtils::Manifest 1.73
ExtUtils::ParseXS 3.45
File::Spec 3.84
JSON n/a
JSON::PP 4.07
Module::Build 0.4234
Module::Signature n/a
Parse::CPAN::Meta 2.150010
Test::Harness 3.44
Test::More 1.302190
YAML n/a
YAML::Syck n/a
version 0.9929
--
Summary of my perl5 (revision 5 version 36 subversion 1) configuration:
Platform:
osname=darwin
osvers=22.5.0
archname=darwin-2level
uname='darwin curacao 22.5.0 darwin kernel version 22.5.0: mon apr 24 20:51:50 pdt 2023; root:xnu-8796.121.2~5release_x86_64 x86_64 '
config_args='-de -Dprefix=/Users/ether/perl5/perlbrew/perls/36.1 -Dman1dir=none -Dman3dir=none -Aeval:scriptdir=/Users/ether/perl5/perlbrew/perls/36.1/bin'
hint=recommended
useposix=true
d_sigaction=define
useithreads=undef
usemultiplicity=undef
use64bitint=define
use64bitall=define
uselongdouble=undef
usemymalloc=n
default_inc_excludes_dot=define
Compiler:
cc='cc'
ccflags ='-fno-common -DPERL_DARWIN -mmacosx-version-min=13.4 -fno-strict-aliasing -pipe -fstack-protector-strong -I/usr/local/include -I/opt/local/include -DPERL_USE_SAFE_PUTENV'
optimize='-O3'
cppflags='-fno-common -DPERL_DARWIN -mmacosx-version-min=13.4 -fno-strict-aliasing -pipe -fstack-protector-strong -I/usr/local/include -I/opt/local/include'
ccversion=''
gccversion='Apple LLVM 14.0.3 (clang-1403.0.22.14.1)'
gccosandvers=''
intsize=4
longsize=8
ptrsize=8
doublesize=8
byteorder=12345678
doublekind=3
d_longlong=define
longlongsize=8
d_longdbl=define
longdblsize=16
longdblkind=3
ivtype='long'
ivsize=8
nvtype='double'
nvsize=8
Off_t='off_t'
lseeksize=8
alignbytes=8
prototype=define
Linker and Libraries:
ld='cc'
ldflags =' -mmacosx-version-min=13.4 -fstack-protector-strong -L/usr/local/lib -L/opt/local/lib'
libpth=/usr/local/lib /Applications/Xcode.app/Contents/Developer/Toolchains/XcodeDefault.xctoolchain/usr/lib/clang/14.0.3/lib /Applications/Xcode.app/Contents/Developer/Platforms/MacOSX.platform/Developer/SDKs/MacOSX.sdk/usr/lib /Applications/Xcode.app/Contents/Developer/Toolchains/XcodeDefault.xctoolchain/usr/lib /opt/local/lib /usr/lib
libs=-lgdbm
perllibs=
libc=
so=dylib
useshrplib=false
libperl=libperl.a
gnulibc_version=''
Dynamic Linking:
dlsrc=dl_dlopen.xs
dlext=bundle
d_dlsymun=undef
ccdlflags=' '
cccdlflags=' '
lddlflags=' -mmacosx-version-min=13.4 -bundle -undefined dynamic_lookup -L/usr/local/lib -L/opt/local/lib -fstack-protector-strong'
Characteristics of this binary (from libperl):
Compile-time options:
HAS_TIMES
PERLIO_LAYERS
PERL_COPY_ON_WRITE
PERL_DONT_CREATE_GVSV
PERL_MALLOC_WRAP
PERL_OP_PARENT
PERL_PRESERVE_IVUV
PERL_USE_SAFE_PUTENV
USE_64_BIT_ALL
USE_64_BIT_INT
USE_LARGE_FILES
USE_LOCALE
USE_LOCALE_COLLATE
USE_LOCALE_CTYPE
USE_LOCALE_NUMERIC
USE_LOCALE_TIME
USE_PERLIO
USE_PERL_ATOF
Built under darwin
Compiled at Jun 13 2023 12:24:05
%ENV:
PERL5LIB="/Users/ether/.perlbrew/libs/36.1@std/lib/perl5"
PERLBREW_HOME="/Users/ether/.perlbrew"
PERLBREW_LIB="std"
PERLBREW_MANPATH="/Users/ether/.perlbrew/libs/36.1@std/man:/Users/ether/perl5/perlbrew/perls/36.1/man"
PERLBREW_PATH="/Users/ether/.perlbrew/libs/36.1@std/bin:/Users/ether/perl5/perlbrew/bin:/Users/ether/perl5/perlbrew/perls/36.1/bin"
PERLBREW_PERL="36.1"
PERLBREW_ROOT="/Users/ether/perl5/perlbrew"
PERLBREW_SHELLRC_VERSION="0.96"
PERLBREW_VERSION="0.97"
PERLDOC="-oman"
PERLDOC_PAGER="less -sicMr"
PERL_AUTOINSTALL_PREFER_CPAN="1"
PERL_INSTALL_QUIET="1"
PERL_LOCAL_LIB_ROOT="/Users/ether/.perlbrew/libs/36.1@std"
PERL_MB_OPT="--install_base /Users/ether/.perlbrew/libs/36.1@std"
PERL_MM_OPT="INSTALL_BASE=/Users/ether/.perlbrew/libs/36.1@std"
PERL_TEST_HARNESS_ASAP="1"
PERL_USE_UNSAFE_INC="0"
@INC:
/Users/ether/.perlbrew/libs/36.1@std/lib/perl5/darwin-2level
/Users/ether/.perlbrew/libs/36.1@std/lib/perl5
/Users/ether/perl5/perlbrew/perls/36.1/lib/site_perl/5.36.1/darwin-2level
/Users/ether/perl5/perlbrew/perls/36.1/lib/site_perl/5.36.1
/Users/ether/perl5/perlbrew/perls/36.1/lib/5.36.1/darwin-2level
/Users/ether/perl5/perlbrew/perls/36.1/lib/5.36.1