App-Greple v9.21 Perl 5 v5.20.1 amd64-freebsd-ld
- Status
- Pass
- From
- Slaven Rezić
- Dist
-
App-Greple v9.21
- Platform
- Perl 5 v5.20.1 amd64-freebsd-ld
- Date
- 2025-01-26 20:25:30
- ID
- afc71852-dc23-11ef-80da-8af66d8775ea
This distribution has been tested as part of the CPAN Testers
project, supporting the Perl programming language. See
http://wiki.cpantesters.org/ for more information or email
questions to cpan-testers-discuss@perl.org
--
Dear Kaz Utashiro,
This is a computer-generated report for App-Greple-9.21
on perl 5.20.1, created by CPAN-Reporter-1.2018.
Thank you for uploading your work to CPAN. Congratulations!
All tests were successful.
Sections of this report:
* Tester comments
* Program output
* Prerequisites
* Environment and other context
------------------------------
TESTER COMMENTS
------------------------------
Additional comments from tester:
none provided
------------------------------
PROGRAM OUTPUT
------------------------------
Output from './Build test':
# Testing App::Greple 9.21, Perl v5.20.1, /usr/perl5.20.1Dp/bin/perl5.20.1
t/00_load.t ............. ok
t/01_run.t .............. ok
t/02_search.t ........... ok
t/03_ja.t ............... ok
t/05_reverse_regions.t .. ok
t/06_matchcount.t ....... ok
t/08_region.t ........... ok
t/09_filter.t ........... ok
Possible unintended interpolation of @2 in string at t/10_select.t line 24.
t/10_select.t ........... ok
t/11_block.t ............ ok
utf8 "\xFE" does not map to Unicode at t/runner/Runner.pm line 53.
utf8 "\xFE" does not map to Unicode at t/runner/Runner.pm line 53.
utf8 "\xFE" does not map to Unicode at t/runner/Runner.pm line 53.
t/12_error.t ............ ok
t/13_max.t .............. ok
t/14_no_color.t ......... ok
t/15_encoding.t ......... ok
t/16_callback.t ......... ok
t/17_style.t ............ ok
t/line/00_load.t ........ ok
t/line/02_search.t ...... ok
t/select/00_load.t ...... ok
t/select/01_select.t .... ok
All tests successful.
Test Summary Report
-------------------
t/09_filter.t (Wstat: 0 Tests: 3 Failed: 0)
TODO passed: 1
Files=20, Tests=174, 18 wallclock secs ( 0.05 usr 0.04 sys + 8.45 cusr 8.96 csys = 17.50 CPU)
Result: PASS
------------------------------
PREREQUISITES
------------------------------
Prerequisite modules loaded:
requires:
Module Need Have
------------------------ ------- --------
Getopt::EX v2.2.1 2.2.1
Hash::Util 0 0.16
List::BinarySearch 0 0.25
List::Util 1.45 1.68
perl v5.18.2 5.020001
Term::ANSIColor::Concise 2.08 2.08
build_requires:
Module Need Have
------------------------ ------- --------
Test::More 0.98 1.302183
configure_requires:
Module Need Have
------------------------ ------- --------
Module::Build::Tiny 0.035 0.039
------------------------------
ENVIRONMENT AND OTHER CONTEXT
------------------------------
Environment variables:
LC_ALL = de_DE.ISO8859-1
PATH = /usr/local/bin:/usr/bin:/bin:/usr/local/sbin:/usr/sbin:/sbin:/home/cpansand/bin/freebsd10.3:/home/cpansand/bin/sh:/home/cpansand/bin:/usr/games:/home/cpansand/devel:/home/eserte/src/srezic-misc/scripts
PERL5LIB = /home/cpansand/.cpan/build/2025012620/Getopt-EX-2.2.1-4YDSm0/blib/arch:/home/cpansand/.cpan/build/2025012620/Getopt-EX-2.2.1-4YDSm0/blib/lib:/home/cpansand/.cpan/build/2025012620/Term-ANSIColor-Concise-2.08-qyUxfm/blib/arch:/home/cpansand/.cpan/build/2025012620/Term-ANSIColor-Concise-2.08-qyUxfm/blib/lib:/home/cpansand/.cpan/build/2025012620/Graphics-ColorNames-v3.5.0-joVsDf/blib/arch:/home/cpansand/.cpan/build/2025012620/Graphics-ColorNames-v3.5.0-joVsDf/blib/lib:/home/cpansand/.cpan/build/2025012620/List-BinarySearch-0.25-55AL0U/blib/arch:/home/cpansand/.cpan/build/2025012620/List-BinarySearch-0.25-55AL0U/blib/lib:/home/cpansand/.cpan/build/2025012620/List-BinarySearch-XS-0.09-o2djG2/blib/arch:/home/cpansand/.cpan/build/2025012620/List-BinarySearch-XS-0.09-o2djG2/blib/lib:/home/cpansand/.cpan/build/2025012620/Scalar-List-Utils-1.68-hE8sP0/blib/arch:/home/cpansand/.cpan/build/2025012620/Scalar-List-Utils-1.68-hE8sP0/blib/lib
PERL5OPT =
PERL5_CPANPLUS_IS_RUNNING = 31705
PERL5_CPAN_IS_RUNNING = 31705
PERL5_CPAN_IS_RUNNING_IN_RECURSION = 28088,31705
PERLDOC = -MPod::Perldoc::ToTextOverstrike
PERL_BATCH = yes
PERL_CANARY_STABILITY_NOPROMPT = 1
PERL_CPAN_REPORTER_CONFIG = /var/tmp/cpansmoker-1023/2025012600/cpanreporter_000_config.ini
PERL_EXTUTILS_AUTOINSTALL = --defaultdeps
SHELL = /usr/local/bin/zsh
TERM = screen
TMPDIR = /var/tmp/cpansmoker-1023/2025012600
Perl special variables (and OS-specific diagnostics, for MSWin32):
$^X = /usr/perl5.20.1Dp/bin/perl5.20.1
$UID/$EUID = 1023 / 1023
$GID = 1023 1023
$EGID = 1023 1023
Perl module toolchain versions installed:
Module Have
------------------- --------
CPAN 2.05
CPAN::Meta 2.143240
Cwd 3.48
ExtUtils::CBuilder 0.280217
ExtUtils::Command 7.58
ExtUtils::Install 2.06
ExtUtils::MakeMaker 7.58
ExtUtils::Manifest 1.70
ExtUtils::ParseXS 3.35
File::Spec 3.48
JSON 2.90
JSON::PP 4.16
Module::Build 0.4211
Module::Signature n/a
Parse::CPAN::Meta 1.4422
Test::Harness 3.30
Test::More 1.302183
YAML 1.14
YAML::Syck 1.29
version 0.9909
--
Summary of my perl5 (revision 5 version 20 subversion 1) configuration:
Platform:
osname=freebsd, osvers=10.1-release, archname=amd64-freebsd-ld
uname='freebsd cvrsnica-freebsd-101.herceg.de 10.1-release freebsd 10.1-release #0 r274401: tue nov 11 21:02:49 utc 2014 root@releng1.nyi.freebsd.org:usrobjusrsrcsysgeneric amd64 '
config_args='-ds -e -Dprefix=/usr/perl5.20.1Dp -Duselongdouble'
hint=recommended, useposix=true, d_sigaction=define
useithreads=undef, usemultiplicity=undef
use64bitint=define, use64bitall=define, uselongdouble=define
usemymalloc=n, bincompat5005=undef
Compiler:
cc='cc', ccflags ='-DHAS_FPSETMASK -DHAS_FLOATINGPOINT_H -fno-strict-aliasing -pipe -fstack-protector -I/usr/local/include',
optimize='-O',
cppflags='-DHAS_FPSETMASK -DHAS_FLOATINGPOINT_H -fno-strict-aliasing -pipe -fstack-protector -I/usr/local/include'
ccversion='', gccversion='4.2.1 Compatible FreeBSD Clang 3.4.1 (tags/RELEASE_34/dot1-final 208032)', gccosandvers=''
intsize=4, longsize=8, ptrsize=8, doublesize=8, byteorder=12345678
d_longlong=define, longlongsize=8, d_longdbl=define, longdblsize=16
ivtype='long', ivsize=8, nvtype='long double', nvsize=16, Off_t='off_t', lseeksize=8
alignbytes=16, prototype=define
Linker and Libraries:
ld='cc', ldflags ='-pthread -Wl,-E -fstack-protector -L/usr/local/lib'
libpth=/usr/lib /usr/local/lib /usr/include/clang/3.4.1 /usr/lib
libs=-lgdbm -lm -lcrypt -lutil -lc
perllibs=-lm -lcrypt -lutil -lc
libc=, so=so, useshrplib=false, libperl=libperl.a
gnulibc_version=''
Dynamic Linking:
dlsrc=dl_dlopen.xs, dlext=so, d_dlsymun=undef, ccdlflags=' '
cccdlflags='-DPIC -fPIC', lddlflags='-shared -L/usr/local/lib -fstack-protector'
Characteristics of this binary (from libperl):
Compile-time options: HAS_TIMES PERLIO_LAYERS PERL_DONT_CREATE_GVSV
PERL_HASH_FUNC_ONE_AT_A_TIME_HARD PERL_MALLOC_WRAP
PERL_NEW_COPY_ON_WRITE PERL_PRESERVE_IVUV
USE_64_BIT_ALL USE_64_BIT_INT USE_LARGE_FILES
USE_LOCALE USE_LOCALE_COLLATE USE_LOCALE_CTYPE
USE_LOCALE_NUMERIC USE_LONG_DOUBLE USE_PERLIO
USE_PERL_ATOF
Built under freebsd
Compiled at Feb 13 2015 08:17:27
%ENV:
PERL5LIB="/home/cpansand/.cpan/build/2025012620/Getopt-EX-2.2.1-4YDSm0/blib/arch:/home/cpansand/.cpan/build/2025012620/Getopt-EX-2.2.1-4YDSm0/blib/lib:/home/cpansand/.cpan/build/2025012620/Term-ANSIColor-Concise-2.08-qyUxfm/blib/arch:/home/cpansand/.cpan/build/2025012620/Term-ANSIColor-Concise-2.08-qyUxfm/blib/lib:/home/cpansand/.cpan/build/2025012620/Graphics-ColorNames-v3.5.0-joVsDf/blib/arch:/home/cpansand/.cpan/build/2025012620/Graphics-ColorNames-v3.5.0-joVsDf/blib/lib:/home/cpansand/.cpan/build/2025012620/List-BinarySearch-0.25-55AL0U/blib/arch:/home/cpansand/.cpan/build/2025012620/List-BinarySearch-0.25-55AL0U/blib/lib:/home/cpansand/.cpan/build/2025012620/List-BinarySearch-XS-0.09-o2djG2/blib/arch:/home/cpansand/.cpan/build/2025012620/List-BinarySearch-XS-0.09-o2djG2/blib/lib:/home/cpansand/.cpan/build/2025012620/Scalar-List-Utils-1.68-hE8sP0/blib/arch:/home/cpansand/.cpan/build/2025012620/Scalar-List-Utils-1.68-hE8sP0/blib/lib"
PERL5OPT=""
PERL5_CPANPLUS_IS_RUNNING="31705"
PERL5_CPAN_IS_RUNNING="31705"
PERL5_CPAN_IS_RUNNING_IN_RECURSION="28088,31705"
PERLDOC="-MPod::Perldoc::ToTextOverstrike"
PERL_BATCH="yes"
PERL_CANARY_STABILITY_NOPROMPT="1"
PERL_CPAN_REPORTER_CONFIG="/var/tmp/cpansmoker-1023/2025012600/cpanreporter_000_config.ini"
PERL_EXTUTILS_AUTOINSTALL="--defaultdeps"
@INC:
/home/cpansand/.cpan/build/2025012620/Getopt-EX-2.2.1-4YDSm0/blib/arch
/home/cpansand/.cpan/build/2025012620/Getopt-EX-2.2.1-4YDSm0/blib/lib
/home/cpansand/.cpan/build/2025012620/Term-ANSIColor-Concise-2.08-qyUxfm/blib/arch
/home/cpansand/.cpan/build/2025012620/Term-ANSIColor-Concise-2.08-qyUxfm/blib/lib
/home/cpansand/.cpan/build/2025012620/Graphics-ColorNames-v3.5.0-joVsDf/blib/arch
/home/cpansand/.cpan/build/2025012620/Graphics-ColorNames-v3.5.0-joVsDf/blib/lib
/home/cpansand/.cpan/build/2025012620/List-BinarySearch-0.25-55AL0U/blib/arch
/home/cpansand/.cpan/build/2025012620/List-BinarySearch-0.25-55AL0U/blib/lib
/home/cpansand/.cpan/build/2025012620/List-BinarySearch-XS-0.09-o2djG2/blib/arch
/home/cpansand/.cpan/build/2025012620/List-BinarySearch-XS-0.09-o2djG2/blib/lib
/home/cpansand/.cpan/build/2025012620/Scalar-List-Utils-1.68-hE8sP0/blib/arch
/home/cpansand/.cpan/build/2025012620/Scalar-List-Utils-1.68-hE8sP0/blib/lib
/usr/perl5.20.1Dp/lib/site_perl/5.20.1/amd64-freebsd-ld
/usr/perl5.20.1Dp/lib/site_perl/5.20.1
/usr/perl5.20.1Dp/lib/5.20.1/amd64-freebsd-ld
/usr/perl5.20.1Dp/lib/5.20.1
.