App-perlimports v0.000050 Perl 5 v5.36.0 darwin-2level

Status
Pass
From
Amory Meltzer
Dist
App-perlimports v0.000050
Platform
Perl 5 v5.36.0 darwin-2level
Date
2023-04-13 16:53:14
ID
ae48c9e6-da1b-11ed-968e-921108a688b7
This distribution has been tested as part of the CPAN Testers
project, supporting the Perl programming language.  See
http://wiki.cpantesters.org/ for more information or email
questions to cpan-testers-discuss@perl.org


--
Dear OALDERS,

This is a computer-generated report for App-perlimports-0.000050
on perl 5.36.0, created by App::cpanminus::reporter 0.18 (1.7046).

Thank you for uploading your work to CPAN.  Congratulations!
All tests were successful.

Sections of this report:

    * Tester comments
    * Program output
    * Prerequisites
    * Environment and other context

------------------------------
TESTER COMMENTS
------------------------------

Additional comments from tester:

none provided

------------------------------
PROGRAM OUTPUT
------------------------------

Output from '':

Building and testing App-perlimports-0.000050
cp lib/App/perlimports/Sandbox.pm blib/lib/App/perlimports/Sandbox.pm
cp lib/App/perlimports/Config.pm blib/lib/App/perlimports/Config.pm
cp lib/App/perlimports/Document.pm blib/lib/App/perlimports/Document.pm
cp lib/App/perlimports/CLI.pm blib/lib/App/perlimports/CLI.pm
cp lib/App/perlimports/Include.pm blib/lib/App/perlimports/Include.pm
cp lib/App/perlimports.pm blib/lib/App/perlimports.pm
cp lib/App/perlimports/Role/Logger.pm blib/lib/App/perlimports/Role/Logger.pm
cp lib/App/perlimports/ExportInspector.pm blib/lib/App/perlimports/ExportInspector.pm
cp lib/App/perlimports/Annotations.pm blib/lib/App/perlimports/Annotations.pm
cp script/dump-perl-exports blib/script/dump-perl-exports
"/Users/Amory/perl5/perlbrew/perls/perl-5.36.0/bin/perl" -MExtUtils::MY -e 'MY->fixin(shift)' -- blib/script/dump-perl-exports
cp script/perlimports blib/script/perlimports
"/Users/Amory/perl5/perlbrew/perls/perl-5.36.0/bin/perl" -MExtUtils::MY -e 'MY->fixin(shift)' -- blib/script/perlimports
Manifying 2 pod documents
Manifying 9 pod documents
PERL_DL_NONLAZY=1 "/Users/Amory/perl5/perlbrew/perls/perl-5.36.0/bin/perl" "-MExtUtils::Command::MM" "-MTest::Harness" "-e" "undef *Test::Harness::Switches; test_harness(0, 'blib/lib', 'blib/arch')" t/*.t t/ExportInspector/*.t t/cpan-modules/*.t
# 
# Versions for all modules listed in MYMETA.json (including optional ones):
# 
# === Configure Requires ===
# 
#     Module                 Want     Have
#     ------------------- ------- --------
#     ExtUtils::MakeMaker     any     7.64
#     perl                v5.10.0 5.036000
# 
# === Build Requires ===
# 
#     Module              Want Have
#     ------------------- ---- ----
#     ExtUtils::MakeMaker  any 7.64
# 
# === Test Requires ===
# 
#     Module                    Want     Have
#     ---------------------- ------- --------
#     ExtUtils::MakeMaker        any     7.64
#     File::Spec                 any     3.84
#     File::pushd                any    1.016
#     Log::Dispatch::Array       any    1.005
#     PPI::Dumper                any    1.276
#     Sub::Exporter              any    0.989
#     Test::Differences          any     0.69
#     Test::Fatal                any    0.017
#     Test::More                 any 1.302190
#     Test::Needs                any 0.002010
#     Test::RequiresInternet     any     0.05
#     Test::Script              1.29     1.29
#     Test::Warnings             any    0.031
#     lib                        any     0.65
#     perl                   v5.18.0 5.036000
# 
# === Test Recommends ===
# 
#     Module         Want     Have
#     ---------- -------- --------
#     CPAN::Meta 2.120900 2.150010
# 
# === Runtime Requires ===
# 
#     Module                           Want     Have
#     ---------------------------- -------- --------
#     Capture::Tiny                     any     0.48
#     Class::Inspector                 1.36     1.36
#     Cpanel::JSON::XS                  any     4.32
#     Data::Dumper                      any    2.184
#     Data::UUID                        any    1.226
#     File::Basename                    any     2.85
#     File::XDG                        1.01     1.02
#     Getopt::Long::Descriptive         any    0.111
#     List::Util                        any     1.62
#     Log::Dispatch                    2.70     2.70
#     Memoize                           any  1.03_01
#     Module::Runtime                   any    0.016
#     Moo                               any 2.005005
#     Moo::Role                         any 2.005005
#     MooX::StrictConstructor           any    0.011
#     PPI                             1.276    1.276
#     PPI::Document                     any    1.276
#     PPIx::Utils::Classification       any    0.003
#     Path::Iterator::Rule              any    1.015
#     Path::Tiny                        any    0.144
#     Perl::Tidy                   20220613 20221112
#     Pod::Usage                        any     2.01
#     Ref::Util                         any    0.204
#     Sereal::Decoder                   any    5.003
#     Sereal::Encoder                   any    5.003
#     Sub::HandlesVia                   any    0.046
#     Symbol::Get                      0.10     0.10
#     TOML::Tiny                        any     0.15
#     Text::Diff                        any     1.45
#     Text::SimpleTable::AutoWidth      any     0.09
#     Try::Tiny                         any     0.31
#     Types::Standard                   any 2.002001
#     feature                           any     1.72
#     perl                         5.018000 5.036000
#     strict                            any     1.12
#     utf8                              any     1.24
#     warnings                          any     1.58
# 
t/00-report-prereqs.t ............ ok
t/after.t ........................ ok
t/annotations.t .................. ok
t/args-in-import.t ............... ok
t/builtin.t ...................... ok
t/carp.t ......................... ok
t/cast-in-regex.t ................ ok
t/cast.t ......................... ok
t/cli-args.t ..................... ok
t/cli.t .......................... ok
t/config-in-import.t ............. ok
t/Config.t ....................... ok
t/cpan-modules/pithub.t .......... skipped: Need Pithub
t/cpan-modules/test2-v0.t ........ ok
t/datetime.t ..................... ok
t/do-block.t ..................... ok
t/Document.t ..................... ok
t/dump-perl-exports.t ............ ok
t/dupes.t ........................ ok
t/english.t ...................... ok
t/explodes.t ..................... ok
t/export-tags.t .................. ok
t/exported-variables.t ........... ok
t/ExportInspector/load.t ......... ok
t/ExportInspector/SubExporter.t .. skipped: Need MetaCPAN::Moose
t/find-bin.t ..................... ok
t/fully-qualified.t .............. ok
t/func-in-use.t .................. ok
t/func-in-var.t .................. ok
t/geo-ip.t ....................... skipped: Need Geo::IP
t/hash-in-regex.t ................ ok
t/hash-key.t ..................... ok
t/heredoc.t ...................... ok
t/ignored-modules.t .............. skipped: Need Geo::IP
t/import-error.t ................. ok
t/interpolation.t ................ ok
t/is-ignored.t ................... ok
t/lookalike-words.t .............. ok
t/memoize.t ...................... skipped: Need MooseX::Types::UUID, UUID
t/meta.t ......................... ok
t/method.t ....................... ok
t/missing-semicolon-in-import.t .. ok
t/module-with-inner-packages.t ... ok
t/moo.t .......................... ok
t/moose-types.t .................. ok
t/moose.t ........................ ok
t/moosex-types-moose.t ........... ok
t/nested-quotes.t ................ ok
t/never-exports.t ................ ok
t/original-imports.t ............. ok
t/padding.t ...................... ok
t/perl-imports.t ................. ok
t/perl.t ......................... ok
t/perlimports.t .................. ok
t/pragma.t ....................... ok
t/preserve-some-padding.t ........ ok
t/preserve-spaces.t .............. ok
t/qualified-bareword.t ........... ok
t/quoted-var.t ................... ok
t/re-export-via-sub-exporter.t ... ok
t/regex-replacement.t ............ skipped: Need IP::Random 1.200230
t/require.t ...................... ok
t/respace-include.t .............. ok
t/Sandbox.t ...................... ok
t/script-with-inner-packages.t ... ok
t/signatures.t ................... ok
t/skip-all.t ..................... skipped: Test is broken
t/socket.t ....................... ok
t/sort-imports.t ................. ok
t/switches-in-import.t ........... ok
t/symbol-as-method-call.t ........ skipped: Need HTML::TableExtract, Object::Tap
t/symbol-in-export.t ............. ok
t/test-builder.t ................. skipped: Need Test::HTML::Lint
t/test-most.t .................... ok
t/typeglob.t ..................... ok
t/unnest-quotes.t ................ ok
t/use-and-require.t .............. ok
t/var-in-hash-key.t .............. ok
t/var-in-regex.t ................. ok
t/variable.t ..................... ok
t/warning.t ...................... ok
t/with-version.t ................. ok
All tests successful.
Files=82, Tests=194, 16 wallclock secs ( 0.07 usr  0.07 sys + 14.07 cusr  1.80 csys = 16.01 CPU)
Result: PASS

------------------------------
PREREQUISITES
------------------------------

Prerequisite modules loaded:

runtime:

    Module                       Need     Have    
    ---------------------------- -------- --------
    Capture::Tiny                0        0.48    
    Class::Inspector             1.36     1.36    
    Cpanel::JSON::XS             0        4.36    
    Data::Dumper                 0        2.184   
    Data::UUID                   0        1.226   
    feature                      0        1.72    
    File::Basename               0        2.85    
    File::XDG                    1.01     1.02    
    Getopt::Long::Descriptive    0        0.111   
    List::Util                   0        1.62    
    Log::Dispatch                2.70     2.71    
    Memoize                      0        1.03_01 
    Module::Runtime              0        0.016   
    Moo                          0        2.005005
    Moo::Role                    0        2.005005
    MooX::StrictConstructor      0        0.011   
    Path::Iterator::Rule         0        1.015   
    Path::Tiny                   0        0.144   
    perl                         5.018000 5.036000
    Perl::Tidy                   20220613 20230309
    Pod::Usage                   0        2.01    
    PPI                          1.276    1.276   
    PPI::Document                0        1.276   
    PPIx::Utils::Classification  0        0.003   
    Ref::Util                    0        0.204   
    Sereal::Decoder              0        5.003   
    Sereal::Encoder              0        5.003   
    strict                       0        1.12    
    Sub::HandlesVia              0        0.050000
    Symbol::Get                  0.10     0.10    
    Text::Diff                   0        1.45    
    Text::SimpleTable::AutoWidth 0        0.09    
    TOML::Tiny                   0        0.15    
    Try::Tiny                    0        0.31    
    Types::Standard              0        2.004000
    utf8                         0        1.24    
    warnings                     0        1.58    

build:

    Module                       Need     Have    
    ---------------------------- -------- --------
    ExtUtils::MakeMaker          0        7.64    

configure:

    Module                       Need     Have    
    ---------------------------- -------- --------
    ExtUtils::MakeMaker          0        7.64    


------------------------------
ENVIRONMENT AND OTHER CONTEXT
------------------------------

Environment variables:

    LANG = en_US.UTF-8
    LC_ALL = C
    PATH = /Users/Amory/bin:/Users/amory/perl5/perlbrew/bin:/Users/amory/perl5/perlbrew/perls/perl-5.36.0/bin:/opt/homebrew/bin:/opt/homebrew/sbin:/opt/homebrew/opt/python@3.11/libexec/bin:/opt/homebrew/opt/python@3.11/Frameworks/Python.framework/Versions/3.11/lib/python3.11/site-packages:/usr/local/bin:/System/Cryptexes/App/usr/bin:/usr/bin:/bin:/usr/sbin:/sbin:/usr/local/MacGPG2/bin:/Library/Apple/usr/bin:/Library/Frameworks/Mono.framework/Versions/Current/Commands:/var/run/com.apple.security.cryptexd/codex.system/bootstrap/usr/local/bin:/var/run/com.apple.security.cryptexd/codex.system/bootstrap/usr/bin:/var/run/com.apple.security.cryptexd/codex.system/bootstrap/usr/appleinternal/bin:/Users/Amory/Documents/git/external/git-extra-commands@unixorn/bin:/Users/Amory/Documents/git/external/tiny-scripts@vitorgalvao:/Users/Amory/Documents/git/personal/lockquote:/Applications/CKAN.app/Contents/MacOS/
    PERL5DB = use Devel::NYTProf
    PERL5_DIR = /Users/Amory/perl5
    PERL5_V = 5.36
    PERLBREW = command perlbrew
    PERLBREW_HOME = /Users/Amory/.perlbrew
    PERLBREW_MANPATH = /Users/amory/perl5/perlbrew/perls/perl-5.36.0/man
    PERLBREW_PATH = /Users/amory/perl5/perlbrew/bin:/Users/amory/perl5/perlbrew/perls/perl-5.36.0/bin
    PERLBREW_PERL = perl-5.36.0
    PERLBREW_ROOT = /Users/amory/perl5/perlbrew
    PERLBREW_SHELLRC_VERSION = 0.96
    PERLBREW_VERSION = 0.96
    PERLDOC_PAGER = sh -c 'col -bx | bat -l man -p'
    PERL_CPANM_OPT = --verify --from https://www.cpan.org
    PERL_MM_USE_DEFAULT = 1
    SHELL = /opt/homebrew/bin/bash
    TERM = xterm-256color
    TMPDIR = /var/folders/3s/yzp_k_q54799t3cx5vg512040000gn/T/

Perl special variables (and OS-specific diagnostics, for MSWin32):

    EGID = 20 20 12 61 79 80 81 98 702 701 33 100 204 250 395 398 399
    EUID = 501
    EXECUTABLE_NAME = /Users/Amory/perl5/perlbrew/perls/perl-5.36.0/bin/perl
    GID = 20 20 12 61 79 80 81 98 702 701 33 100 204 250 395 398 399
    UID = 501

Perl module toolchain versions installed:

    Module              Have    
    ------------------- --------
    CPAN                2.33    
    CPAN::Meta          2.150010
    Cwd                 3.84    
    ExtUtils::CBuilder  0.280236
    ExtUtils::Command   7.64    
    ExtUtils::Install   2.20    
    ExtUtils::MakeMaker 7.64    
    ExtUtils::Manifest  1.73    
    ExtUtils::ParseXS   3.45    
    File::Spec          3.84    
    JSON                4.10    
    JSON::PP            4.07    
    Module::Build       0.4232  
    Module::Signature   0.88    
    Parse::CPAN::Meta   2.150010
    Test::Harness       3.44    
    Test::More          1.302190
    YAML                1.30    
    YAML::Syck          n/a     
    version             0.9929  


--

Summary of my perl5 (revision 5 version 36 subversion 0) configuration:
   
  Platform:
    osname=darwin
    osvers=21.6.0
    archname=darwin-2level
    uname='darwin nayru.fios-router.home 21.6.0 darwin kernel version 21.6.0: wed aug 10 14:28:25 pdt 2022; root:xnu-8020.141.5~2release_arm64_t8110 arm64 '
    config_args='-de -Dprefix=/Users/amory/perl5/perlbrew/perls/perl-5.36.0 -Aeval:scriptdir=/Users/amory/perl5/perlbrew/perls/perl-5.36.0/bin'
    hint=recommended
    useposix=true
    d_sigaction=define
    useithreads=undef
    usemultiplicity=undef
    use64bitint=define
    use64bitall=define
    uselongdouble=undef
    usemymalloc=n
    default_inc_excludes_dot=define
  Compiler:
    cc='cc'
    ccflags ='-fno-common -DPERL_DARWIN -mmacosx-version-min=12.5 -fno-strict-aliasing -pipe -fstack-protector-strong -DPERL_USE_SAFE_PUTENV'
    optimize='-O3'
    cppflags='-fno-common -DPERL_DARWIN -mmacosx-version-min=12.5 -fno-strict-aliasing -pipe -fstack-protector-strong'
    ccversion=''
    gccversion='Apple LLVM 13.1.6 (clang-1316.0.21.2.5)'
    gccosandvers=''
    intsize=4
    longsize=8
    ptrsize=8
    doublesize=8
    byteorder=12345678
    doublekind=3
    d_longlong=define
    longlongsize=8
    d_longdbl=define
    longdblsize=8
    longdblkind=0
    ivtype='long'
    ivsize=8
    nvtype='double'
    nvsize=8
    Off_t='off_t'
    lseeksize=8
    alignbytes=8
    prototype=define
  Linker and Libraries:
    ld='cc'
    ldflags =' -mmacosx-version-min=12.5 -fstack-protector-strong'
    libpth=/Library/Developer/CommandLineTools/usr/lib/clang/13.1.6/lib /Library/Developer/CommandLineTools/SDKs/MacOSX.sdk/usr/lib /Library/Developer/CommandLineTools/usr/lib /usr/lib
    libs= 
    perllibs=
    libc=
    so=dylib
    useshrplib=false
    libperl=libperl.a
    gnulibc_version=''
  Dynamic Linking:
    dlsrc=dl_dlopen.xs
    dlext=bundle
    d_dlsymun=undef
    ccdlflags=' '
    cccdlflags=' '
    lddlflags=' -mmacosx-version-min=12.5 -bundle -undefined dynamic_lookup -fstack-protector-strong'


Characteristics of this binary (from libperl): 
  Compile-time options:
    HAS_TIMES
    PERLIO_LAYERS
    PERL_COPY_ON_WRITE
    PERL_DONT_CREATE_GVSV
    PERL_MALLOC_WRAP
    PERL_OP_PARENT
    PERL_PRESERVE_IVUV
    PERL_USE_SAFE_PUTENV
    USE_64_BIT_ALL
    USE_64_BIT_INT
    USE_LARGE_FILES
    USE_LOCALE
    USE_LOCALE_COLLATE
    USE_LOCALE_CTYPE
    USE_LOCALE_NUMERIC
    USE_LOCALE_TIME
    USE_PERLIO
    USE_PERL_ATOF
  Built under darwin
  Compiled at Sep  6 2022 11:44:09
  %ENV:
    PERL5DB="use Devel::NYTProf"
    PERL5_DIR="/Users/Amory/perl5"
    PERL5_V="5.36"
    PERLBREW="command perlbrew"
    PERLBREW_HOME="/Users/Amory/.perlbrew"
    PERLBREW_MANPATH="/Users/amory/perl5/perlbrew/perls/perl-5.36.0/man"
    PERLBREW_PATH="/Users/amory/perl5/perlbrew/bin:/Users/amory/perl5/perlbrew/perls/perl-5.36.0/bin"
    PERLBREW_PERL="perl-5.36.0"
    PERLBREW_ROOT="/Users/amory/perl5/perlbrew"
    PERLBREW_SHELLRC_VERSION="0.96"
    PERLBREW_VERSION="0.96"
    PERLDOC_PAGER="sh -c 'col -bx | bat -l man -p'"
    PERL_CPANM_OPT="--verify --from https://www.cpan.org"
    PERL_MM_USE_DEFAULT="1"
  @INC:
    /Users/amory/perl5/perlbrew/perls/perl-5.36.0/lib/site_perl/5.36.0/darwin-2level
    /Users/amory/perl5/perlbrew/perls/perl-5.36.0/lib/site_perl/5.36.0
    /Users/amory/perl5/perlbrew/perls/perl-5.36.0/lib/5.36.0/darwin-2level
    /Users/amory/perl5/perlbrew/perls/perl-5.36.0/lib/5.36.0