FFI-Platypus v2.05 Perl 5 v5.36.0 darwin-2level

Status
Pass
From
Dist
FFI-Platypus v2.05
Platform
Perl 5 v5.36.0 darwin-2level
Date
2023-02-14 17:33:18
ID
ab6421aa-ac8d-11ed-afd6-e2fe93d26878
This distribution has been tested as part of the CPAN Testers
project, supporting the Perl programming language.  See
http://wiki.cpantesters.org/ for more information or email
questions to cpan-testers-discuss@perl.org


--
Dear PLICEASE,

This is a computer-generated report for FFI-Platypus-2.05
on perl 5.36.0, created by App::cpanminus::reporter 0.17 (1.7046).

Thank you for uploading your work to CPAN.  Congratulations!
All tests were successful.

Sections of this report:

    * Tester comments
    * Program output
    * Prerequisites
    * Environment and other context

------------------------------
TESTER COMMENTS
------------------------------

Additional comments from tester:

none provided

------------------------------
PROGRAM OUTPUT
------------------------------

Output from '':

Building and testing FFI-Platypus-2.05
XX src/dlrun.c
XX bin/
CC src/dlrun.c
LD src/dlrun.o
VV bin/dlrun
UN src/dlrun.o
PR header."stdlib.h"=1
PR header."stdint.h"=1
PR header."sys/types.h"=1
PR header."sys/stat.h"=1
PR header."unistd.h"=1
PR header."alloca.h"=1
PR header."dlfcn.h"=1
PR header."limits.h"=1
PR header."stddef.h"=1
PR header."wchar.h"=1
PR header."signal.h"=1
PR header."inttypes.h"=1
PR header."windows.h"=0
PR header."sys/cygwin.h"=0
PR header."string.h"=1
PR header."psapi.h"=0
PR header."stdio.h"=1
PR header."stdbool.h"=1
PR header."complex.h"=1
PR type.char.align=1
PR type.char.sign=signed
PR type.char.size=1
PR type.signed char.align=1
PR type.signed char.sign=signed
PR type.signed char.size=1
PR type.unsigned char.align=1
PR type.unsigned char.sign=unsigned
PR type.unsigned char.size=1
PR type.short.align=2
PR type.short.sign=signed
PR type.short.size=2
PR type.signed short.align=2
PR type.signed short.sign=signed
PR type.signed short.size=2
PR type.unsigned short.align=2
PR type.unsigned short.sign=unsigned
PR type.unsigned short.size=2
PR type.int.align=4
PR type.int.sign=signed
PR type.int.size=4
PR type.signed int.align=4
PR type.signed int.sign=signed
PR type.signed int.size=4
PR type.unsigned int.align=4
PR type.unsigned int.sign=unsigned
PR type.unsigned int.size=4
PR type.long.align=8
PR type.long.sign=signed
PR type.long.size=8
PR type.signed long.align=8
PR type.signed long.sign=signed
PR type.signed long.size=8
PR type.unsigned long.align=8
PR type.unsigned long.sign=unsigned
PR type.unsigned long.size=8
PR type.uint8_t.align=1
PR type.uint8_t.sign=unsigned
PR type.uint8_t.size=1
PR type.int8_t.align=1
PR type.int8_t.sign=signed
PR type.int8_t.size=1
PR type.uint16_t.align=2
PR type.uint16_t.sign=unsigned
PR type.uint16_t.size=2
PR type.int16_t.align=2
PR type.int16_t.sign=signed
PR type.int16_t.size=2
PR type.uint32_t.align=4
PR type.uint32_t.sign=unsigned
PR type.uint32_t.size=4
PR type.int32_t.align=4
PR type.int32_t.sign=signed
PR type.int32_t.size=4
PR type.uint64_t.align=8
PR type.uint64_t.sign=unsigned
PR type.uint64_t.size=8
PR type.int64_t.align=8
PR type.int64_t.sign=signed
PR type.int64_t.size=8
PR type.size_t.align=8
PR type.size_t.sign=unsigned
PR type.size_t.size=8
PR type.ssize_t.align=8
PR type.ssize_t.sign=signed
PR type.ssize_t.size=8
PR type.float.align=4
PR type.float.size=4
PR type.double.align=8
PR type.double.size=8
PR type.long double.align=16
PR type.long double.size=16
PR type.float complex.align=4
PR type.float complex.size=8
PR type.double complex.align=8
PR type.double complex.size=16
PR type.long double complex.align=16
PR type.long double complex.size=32
PR type.bool.align=1
PR type.bool.sign=unsigned
PR type.bool.size=1
PR type._Bool.align=1
PR type._Bool.sign=unsigned
PR type._Bool.size=1
PR type.pointer.align=8
PR type.pointer.size=8
PR type.uintptr_t.align=8
PR type.uintptr_t.sign=unsigned
PR type.uintptr_t.size=8
PR type.intptr_t.align=8
PR type.intptr_t.sign=signed
PR type.intptr_t.size=8
PR type.enum.align=4
PR type.enum.sign=unsigned
PR type.enum.size=4
PR type.senum.align=4
PR type.senum.sign=signed
PR type.senum.size=4
PR type.intmax_t.align=8
PR type.intmax_t.sign=signed
PR type.intmax_t.size=8
PR type.uintmax_t.align=8
PR type.uintmax_t.sign=unsigned
PR type.uintmax_t.size=8
PR type.long long.align=8
PR type.long long.sign=signed
PR type.long long.size=8
PR type.signed long long.align=8
PR type.signed long long.sign=signed
PR type.signed long long.size=8
PR type.unsigned long long.align=8
PR type.unsigned long long.sign=unsigned
PR type.unsigned long long.size=8
PR type.dev_t.align=4
PR type.dev_t.sign=signed
PR type.dev_t.size=4
PR type.ino_t.align=8
PR type.ino_t.sign=unsigned
PR type.ino_t.size=8
PR type.mode_t.align=2
PR type.mode_t.sign=unsigned
PR type.mode_t.size=2
PR type.nlink_t.align=2
PR type.nlink_t.sign=unsigned
PR type.nlink_t.size=2
PR type.uid_t.align=4
PR type.uid_t.sign=unsigned
PR type.uid_t.size=4
PR type.gid_t.align=4
PR type.gid_t.sign=unsigned
PR type.gid_t.size=4
PR type.off_t.align=8
PR type.off_t.sign=signed
PR type.off_t.size=8
PR type.blksize_t.align=4
PR type.blksize_t.sign=signed
PR type.blksize_t.size=4
PR type.blkcnt_t.align=8
PR type.blkcnt_t.sign=signed
PR type.blkcnt_t.size=8
PR type.time_t.align=8
PR type.time_t.sign=signed
PR type.time_t.size=8
PR type.ptrdiff_t.align=8
PR type.ptrdiff_t.sign=signed
PR type.ptrdiff_t.size=8
PR type.wchar_t.align=4
PR type.wchar_t.sign=signed
PR type.wchar_t.size=4
PR type.wint_t.align=4
PR type.wint_t.sign=signed
PR type.wint_t.size=4
PR probe.abi=1
PR probe.alloca=1
PR probe.complex=1
PR probe.longdouble=1
PR probe.recordvalue=1
PR probe.strnlen=1
PR probe.variadic=1
PR abi.unix64=2
PR abi.win64=3
PR abi.efi64=3
PR abi.gnuw64=4
PR abi.default_abi=2
Running Mkbootstrap for lib/FFI/Platypus ()
chmod 644 "lib/FFI/Platypus.bs"
"/Users/ether/perl5/perlbrew/perls/36.0/bin/perl" -MExtUtils::Command::MM -e 'cp_nonempty' -- lib/FFI/Platypus.bs blib/arch/auto/FFI/Platypus/Platypus.bs 644
"/Users/ether/perl5/perlbrew/perls/36.0/bin/perl" "/Users/ether/perl5/perlbrew/perls/36.0/lib/5.36.0/ExtUtils/xsubpp"  -typemap '/Users/ether/perl5/perlbrew/perls/36.0/lib/5.36.0/ExtUtils/typemap'  lib/FFI/Platypus.xs > lib/FFI/Platypus.xsc
mv lib/FFI/Platypus.xsc lib/FFI/Platypus.c
"/Users/ether/perl5/perlbrew/perls/36.0/bin/perl" "/Users/ether/perl5/perlbrew/perls/36.0/lib/5.36.0/ExtUtils/xsubpp"  -typemap '/Users/ether/perl5/perlbrew/perls/36.0/lib/5.36.0/ExtUtils/typemap' lib/FFI/Platypus.xs > lib/FFI/Platypus.xsc
mv lib/FFI/Platypus.xsc lib/FFI/Platypus.c
cc -c  -Iinclude -I/opt/local/include \
	-fno-common -DPERL_DARWIN -mmacosx-version-min=11.7 -fno-strict-aliasing -pipe -fstack-protector-strong -I/usr/local/include -I/opt/local/include -DPERL_USE_SAFE_PUTENV -Wno-error=implicit-function-declaration -O3 \
	  -DVERSION=\"2.05\" \
	-DXS_VERSION=\"2.05\"  "-I/Users/ether/perl5/perlbrew/perls/36.0/lib/5.36.0/darwin-2level/CORE"   lib/FFI/Platypus.c -o lib/FFI/Platypus.o
cc -c  -Iinclude -I/opt/local/include -fno-common -DPERL_DARWIN -mmacosx-version-min=11.7 -fno-strict-aliasing -pipe -fstack-protector-strong -I/usr/local/include -I/opt/local/include -DPERL_USE_SAFE_PUTENV -Wno-error=implicit-function-declaration -O3   -DVERSION=\"2.05\" -DXS_VERSION=\"2.05\"  "-I/Users/ether/perl5/perlbrew/perls/36.0/lib/5.36.0/darwin-2level/CORE"   xs/cast.c -o xs/cast.o
cc -c  -Iinclude -I/opt/local/include -fno-common -DPERL_DARWIN -mmacosx-version-min=11.7 -fno-strict-aliasing -pipe -fstack-protector-strong -I/usr/local/include -I/opt/local/include -DPERL_USE_SAFE_PUTENV -Wno-error=implicit-function-declaration -O3   -DVERSION=\"2.05\" -DXS_VERSION=\"2.05\"  "-I/Users/ether/perl5/perlbrew/perls/36.0/lib/5.36.0/darwin-2level/CORE"   xs/closure.c -o xs/closure.o
cc -c  -Iinclude -I/opt/local/include -fno-common -DPERL_DARWIN -mmacosx-version-min=11.7 -fno-strict-aliasing -pipe -fstack-protector-strong -I/usr/local/include -I/opt/local/include -DPERL_USE_SAFE_PUTENV -Wno-error=implicit-function-declaration -O3   -DVERSION=\"2.05\" -DXS_VERSION=\"2.05\"  "-I/Users/ether/perl5/perlbrew/perls/36.0/lib/5.36.0/darwin-2level/CORE"   xs/complex.c -o xs/complex.o
cc -c  -Iinclude -I/opt/local/include -fno-common -DPERL_DARWIN -mmacosx-version-min=11.7 -fno-strict-aliasing -pipe -fstack-protector-strong -I/usr/local/include -I/opt/local/include -DPERL_USE_SAFE_PUTENV -Wno-error=implicit-function-declaration -O3   -DVERSION=\"2.05\" -DXS_VERSION=\"2.05\"  "-I/Users/ether/perl5/perlbrew/perls/36.0/lib/5.36.0/darwin-2level/CORE"   xs/custom.c -o xs/custom.o
cc -c  -Iinclude -I/opt/local/include -fno-common -DPERL_DARWIN -mmacosx-version-min=11.7 -fno-strict-aliasing -pipe -fstack-protector-strong -I/usr/local/include -I/opt/local/include -DPERL_USE_SAFE_PUTENV -Wno-error=implicit-function-declaration -O3   -DVERSION=\"2.05\" -DXS_VERSION=\"2.05\"  "-I/Users/ether/perl5/perlbrew/perls/36.0/lib/5.36.0/darwin-2level/CORE"   xs/meta.c -o xs/meta.o
cc -c  -Iinclude -I/opt/local/include -fno-common -DPERL_DARWIN -mmacosx-version-min=11.7 -fno-strict-aliasing -pipe -fstack-protector-strong -I/usr/local/include -I/opt/local/include -DPERL_USE_SAFE_PUTENV -Wno-error=implicit-function-declaration -O3   -DVERSION=\"2.05\" -DXS_VERSION=\"2.05\"  "-I/Users/ether/perl5/perlbrew/perls/36.0/lib/5.36.0/darwin-2level/CORE"   xs/names.c -o xs/names.o
cc -c  -Iinclude -I/opt/local/include -fno-common -DPERL_DARWIN -mmacosx-version-min=11.7 -fno-strict-aliasing -pipe -fstack-protector-strong -I/usr/local/include -I/opt/local/include -DPERL_USE_SAFE_PUTENV -Wno-error=implicit-function-declaration -O3   -DVERSION=\"2.05\" -DXS_VERSION=\"2.05\"  "-I/Users/ether/perl5/perlbrew/perls/36.0/lib/5.36.0/darwin-2level/CORE"   xs/perl_math_int64.c -o xs/perl_math_int64.o
cc -c  -Iinclude -I/opt/local/include -fno-common -DPERL_DARWIN -mmacosx-version-min=11.7 -fno-strict-aliasing -pipe -fstack-protector-strong -I/usr/local/include -I/opt/local/include -DPERL_USE_SAFE_PUTENV -Wno-error=implicit-function-declaration -O3   -DVERSION=\"2.05\" -DXS_VERSION=\"2.05\"  "-I/Users/ether/perl5/perlbrew/perls/36.0/lib/5.36.0/darwin-2level/CORE"   xs/record_opaque.c -o xs/record_opaque.o
cc -c  -Iinclude -I/opt/local/include -fno-common -DPERL_DARWIN -mmacosx-version-min=11.7 -fno-strict-aliasing -pipe -fstack-protector-strong -I/usr/local/include -I/opt/local/include -DPERL_USE_SAFE_PUTENV -Wno-error=implicit-function-declaration -O3   -DVERSION=\"2.05\" -DXS_VERSION=\"2.05\"  "-I/Users/ether/perl5/perlbrew/perls/36.0/lib/5.36.0/darwin-2level/CORE"   xs/record_simple.c -o xs/record_simple.o
cc -c  -Iinclude -I/opt/local/include -fno-common -DPERL_DARWIN -mmacosx-version-min=11.7 -fno-strict-aliasing -pipe -fstack-protector-strong -I/usr/local/include -I/opt/local/include -DPERL_USE_SAFE_PUTENV -Wno-error=implicit-function-declaration -O3   -DVERSION=\"2.05\" -DXS_VERSION=\"2.05\"  "-I/Users/ether/perl5/perlbrew/perls/36.0/lib/5.36.0/darwin-2level/CORE"   xs/record_string.c -o xs/record_string.o
cc -c  -Iinclude -I/opt/local/include -fno-common -DPERL_DARWIN -mmacosx-version-min=11.7 -fno-strict-aliasing -pipe -fstack-protector-strong -I/usr/local/include -I/opt/local/include -DPERL_USE_SAFE_PUTENV -Wno-error=implicit-function-declaration -O3   -DVERSION=\"2.05\" -DXS_VERSION=\"2.05\"  "-I/Users/ether/perl5/perlbrew/perls/36.0/lib/5.36.0/darwin-2level/CORE"   xs/windl.c -o xs/windl.o
rm -f blib/arch/auto/FFI/Platypus/Platypus.bundle
LD_RUN_PATH="/opt/local/lib" cc -Wl,-rpath,"/opt/local/lib" -L/opt/local/lib  -mmacosx-version-min=11.7 -bundle -undefined dynamic_lookup -L/usr/local/lib -L/opt/local/lib -fstack-protector-strong  lib/FFI/Platypus.o xs/cast.o xs/closure.o xs/complex.o xs/custom.o xs/meta.o xs/names.o xs/perl_math_int64.o xs/record_opaque.o xs/record_simple.o xs/record_string.o xs/windl.o  -o blib/arch/auto/FFI/Platypus/Platypus.bundle  \
	   -L/opt/local/lib -lffi   \
	  
chmod 755 blib/arch/auto/FFI/Platypus/Platypus.bundle
CC ffi/constant.c
CC ffi/memory.c
CC ffi/record_meta.c
LD blib/lib/auto/share/dist/FFI-Platypus/lib/libplfill.dylib
"/Users/ether/perl5/perlbrew/perls/36.0/bin/perl" -MExtUtils::Command::MM -e 'cp_nonempty' -- lib/FFI/Platypus.bs blib/arch/auto/FFI/Platypus/Platypus.bs 644
CC t/ffi/align.c
CC t/ffi/align_array.c
CC t/ffi/align_fixed.c
CC t/ffi/align_string.c
CC t/ffi/basic.c
CC t/ffi/closure.c
CC t/ffi/color.c
CC t/ffi/complex_double.c
CC t/ffi/complex_float.c
CC t/ffi/double.c
CC t/ffi/float.c
CC t/ffi/gh117.c
CC t/ffi/gh174.c
CC t/ffi/longdouble.c
CC t/ffi/memcmp4.c
CC t/ffi/meta.c
CC t/ffi/pointer.c
CC t/ffi/record.c
CC t/ffi/sint16.c
CC t/ffi/sint32.c
CC t/ffi/sint64.c
CC t/ffi/sint8.c
CC t/ffi/string.c
CC t/ffi/string_array.c
CC t/ffi/uint16.c
CC t/ffi/uint32.c
CC t/ffi/uint64.c
CC t/ffi/uint8.c
CC t/ffi/variadic.c
LD t/ffi/libtest.dylib
PERL_DL_NONLAZY=1 "/Users/ether/perl5/perlbrew/perls/36.0/bin/perl" "-MExtUtils::Command::MM" "-MTest::Harness" "-e" "undef *Test::Harness::Switches; test_harness(0, 'blib/lib', 'blib/arch')" t/*.t
# 
# 
# 
# HARNESS_ACTIVE=1
# HARNESS_OPTIONS=
# HARNESS_VERSION=3.44
# LANG=en_CA.UTF-8
# PERL5LIB=/Users/ether/.cpanm/work/1676395730.57019/FFI-Platypus-2.05/blib/lib:/Users/ether/.cpanm/work/1676395730.57019/FFI-Platypus-2.05/blib/arch:/Users/ether/.perlbrew/libs/36.0@std/lib/perl5/darwin-2level:/Users/ether/.perlbrew/libs/36.0@std/lib/perl5:/Users/ether/.perlbrew/libs/36.0@std/lib/perl5
# PERLBREW_HOME=/Users/ether/.perlbrew
# PERLBREW_LIB=std
# PERLBREW_MANPATH=/Users/ether/.perlbrew/libs/36.0@std/man:/Users/ether/perl5/perlbrew/perls/36.0/man
# PERLBREW_PATH=/Users/ether/.perlbrew/libs/36.0@std/bin:/Users/ether/perl5/perlbrew/bin:/Users/ether/perl5/perlbrew/perls/36.0/bin
# PERLBREW_PERL=36.0
# PERLBREW_ROOT=/Users/ether/perl5/perlbrew
# PERLBREW_SHELLRC_VERSION=0.96
# PERLBREW_VERSION=0.96
# PERLDOC=-oman
# PERLDOC_PAGER=less -sicMr
# PERL_AUTOINSTALL_PREFER_CPAN=1
# PERL_DL_NONLAZY=1
# PERL_INSTALL_QUIET=1
# PERL_LOCAL_LIB_ROOT=/Users/ether/.perlbrew/libs/36.0@std
# PERL_MB_OPT=--install_base /Users/ether/.perlbrew/libs/36.0@std
# PERL_MM_OPT=INSTALL_BASE=/Users/ether/.perlbrew/libs/36.0@std
# PERL_MM_USE_DEFAULT=1
# PERL_TEST_HARNESS_ASAP=1
# PERL_USE_UNSAFE_INC=0
# SHELL=/bin/bash
# 
# 
# 
# PERL5LIB path
# /Users/ether/.cpanm/work/1676395730.57019/FFI-Platypus-2.05/blib/lib
# /Users/ether/.cpanm/work/1676395730.57019/FFI-Platypus-2.05/blib/arch
# /Users/ether/.perlbrew/libs/36.0@std/lib/perl5/darwin-2level
# /Users/ether/.perlbrew/libs/36.0@std/lib/perl5
# /Users/ether/.perlbrew/libs/36.0@std/lib/perl5
# 
# 
# 
# perl                  5.036000 darwin darwin-2level
# Alien::Base           -
# Capture::Tiny         0.48
# Devel::Hide           -
# ExtUtils::CBuilder    0.280236
# ExtUtils::MakeMaker   7.64
# ExtUtils::ParseXS     3.45
# FFI::CheckLib         0.31
# File::Spec::Functions 3.84
# IPC::Cmd              1.04
# JSON::PP              4.12
# List::Util            1.62
# Math::LongDouble      -
# PkgConfig             -
# Test2::API            1.302190
# Test2::V0             0.000145
# autodie               2.34
# constant              1.33
# forks                 -
# parent                0.238
# 
# 
# 
# mode : system
# Alien::FFI::pkgconfig->VERSION      = 
# Alien::FFI::pkgconfig->install_type = system
# Alien::FFI::pkgconfig->cflags       = -I/opt/local/include
# Alien::FFI::pkgconfig->libs         = -L/opt/local/lib -lffi
# Alien::FFI::pkgconfig->version      = 3.4.4
# 
# 
# 
# ffi.platypus.memory.strdup_impl =libc
# ffi.platypus.memory.strndup_impl=libc
# 
# 
# 
# Types:
#   double   : double, float complex
#   float    : float
#   longdouble : double complex, long double, long double complex
#   sint16   : int16_t, short, signed short
#   sint32   : blksize_t, dev_t, int, int32_t, senum, signed int, wchar_t, wint_t
#   sint64   : blkcnt_t, int64_t, intmax_t, intptr_t, long, long long, off_t, ptrdiff_t, signed long, signed long long, ssize_t, time_t
#   sint8    : char, int8_t, signed char
#   uint16   : mode_t, nlink_t, uint16_t, unsigned short, ushort
#   uint32   : enum, gid_t, uid_t, uint, uint32_t, unsigned int
#   uint64   : ino_t, size_t, uint64_t, uintmax_t, uintptr_t, ulong, unsigned long, unsigned long long
#   uint8    : bool, uchar, uint8_t, unsigned char
# 
# 
# 
# ABIs:
#   default_abi          2
#   efi64                3
#   gnuw64               4
#   unix64               2
#   win64                3
# 
# 
# 
# Probes:
#   bigendian            0
#   longdouble           1
#   complex              1
#   recordvalue          1
#   bigendian64          0
#   alloca               1
#   abi                  1
#   strnlen              1
#   variadic             1
# 
# 
# 
# [PLATFORM]
# osname            : darwin
# cc                : cc
# cxx               : c++
# cxxld             : c++
# for               : ---
# ld                : cc
# ccflags           : -fno-common -DPERL_DARWIN -mmacosx-version-min=11.7 -fno-strict-aliasing -pipe -fstack-protector-strong -I/usr/local/include -I/opt/local/include -DPERL_USE_SAFE_PUTENV -O3 -I/Users/ether/.cpanm/work/1676395730.57019/FFI-Platypus-2.05/blib/lib/auto/share/dist/FFI-Platypus/include
# ldflags           : -mmacosx-version-min=11.7 -dynamiclib -undefined dynamic_lookup -L/usr/local/lib -L/opt/local/lib -fstack-protector-strong
# object suffix     : .o
# library prefix    : lib
# library suffix    : .dylib,.bundle
# cc mm works       : -MM
# 
# 
# 
t/ffi_build_file_library.t ............... ok
t/00_diag.t .............................. ok
t/ffi_build_file_c.t ..................... ok
t/ffi_build_file_base.t .................. ok
t/ffi_build_plugin.t ..................... ok
t/ffi_build_file_object.t ................ ok
t/ffi_build_plugindata.t ................. ok
t/ffi_platypus_api.t ..................... ok
t/ffi_build_platform.t ................... ok
t/ffi_platypus_buffer.t .................. ok
t/ffi_platypus_closure.t ................. ok
t/ffi_build_mm.t ......................... ok
t/ffi_platypus.t ......................... ok
t/ffi_platypus_dl.t ...................... ok
t/ffi_platypus_function.t ................ ok
t/ffi_platypus_function_wrapper.t ........ ok
t/ffi_platypus_internal.t ................ ok
t/ffi_platypus_constant.t ................ ok
t/ffi_platypus_lang.t .................... ok
t/ffi_platypus_lang_c.t .................. ok
t/ffi_platypus_lang_asm.t ................ ok
t/ffi_platypus_lang_win32.t .............. ok
t/ffi_platypus_legacy.t .................. ok
t/ffi_platypus_memory.t .................. ok
t/ffi_platypus_bundle.t .................. ok
t/ffi_build_file_cxx.t ................... ok
t/ffi_platypus_record_meta.t ............. ok
t/ffi_platypus_record_tiearray.t ......... ok
t/ffi_platypus_shareconfig.t ............. ok
t/ffi_platypus_type.t .................... ok
t/ffi_platypus_type_pointersizebuffer.t .. ok
t/ffi_platypus_record.t .................. ok
t/ffi_platypus_type_stringpointer.t ...... ok
t/ffi_platypus_type_stringarray.t ........ ok
t/ffi_platypus_typeparser.t .............. ok
t/ffi_platypus_typeparser_version0.t ..... ok
t/ffi_platypus_type_widestring.t ......... ok
t/ffi_platypus_typeparser_version1.t ..... ok
t/ffi_platypus_typeparser_version2.t ..... ok
t/ffi_probe_runner_result.t .............. ok
t/ffi_temp.t ............................. ok
t/forks.t ................................ skipped: Test requires forks
t/gh117.t ................................ ok
t/ffi_probe_runner_builder.t ............. ok
t/gh129.t ................................ ok
t/gh323.t ................................ ok
t/memory.t ............................... skipped: tested only in CI
t/ffi_probe_runner.t ..................... ok
t/threads.t .............................. skipped: Test requires a threading Perl
t/ffi_build.t ............................ ok
t/type_custom.t .......................... ok
t/type_complex_double.t .................. ok
t/type_complex_float.t ................... ok
t/type_double.t .......................... ok
t/type_float.t ........................... ok
t/type_longdouble.t ...................... ok
t/type_longdouble__hide.t ................ skipped: test requires Devel::Hide 0.0010
t/type_longdouble__ptr.t ................. ok
t/type_longdouble__array.t ............... ok
t/type_opaque.t .......................... ok
t/type_record.t .......................... ok
t/ffi_probe.t ............................ ok
t/type_record_value.t .................... ok
t/type_sint16.t .......................... ok
t/type_sint32.t .......................... ok
t/type_sint64.t .......................... ok
t/type_sint8.t ........................... ok
t/type_string.t .......................... ok
t/type_uint16.t .......................... ok
t/type_uint32.t .......................... ok
t/type_uint64.t .......................... ok
t/type_uint8.t ........................... ok
All tests successful.
Files=72, Tests=317,  8 wallclock secs ( 0.46 usr  0.25 sys + 18.02 cusr  9.90 csys = 28.63 CPU)
Result: PASS

------------------------------
PREREQUISITES
------------------------------

Prerequisite modules loaded:

    No requirements found

------------------------------
ENVIRONMENT AND OTHER CONTEXT
------------------------------

Environment variables:

    HARNESS_OPTIONS = j6:c
    LANG = en_CA.UTF-8
    LDFLAGS = -L/usr/local/opt/mysql@5.7/lib
    NO_NETWORK_TESTING = 1
    PATH = /opt/chefdk/bin:/Users/ether/.chefdk/gem/ruby/2.6.0/bin:/opt/chefdk/embedded/bin:/Users/ether/bin:/Users/ether/git/misc/install/curacao/bin:/Users/ether/git/misc/install/generic/bin:/Users/ether/.perlbrew/libs/36.0@std/bin:/Users/ether/perl5/perlbrew/bin:/Users/ether/perl5/perlbrew/perls/36.0/bin:/opt/local/bin:/opt/local/sbin:/Users/ether/bin/google-cloud-sdk/bin:/Users/ether/bin/google-cloud-sdk/bin:/usr/local/sessionmanagerplugin/bin:/Users/ether/.cargo/bin:/Users/ether/.pyenv/shims:/Users/ether/.krew/bin:/usr/local/opt/mysql@5.7/bin:/Users/ether/go/bin:/Users/ether/git/git-hub/lib:/usr/local/bin:/usr/bin:/bin:/usr/sbin:/sbin:/Library/Apple/usr/bin:/opt/local/share/git-core/contrib/workdir:/Users/ether/node_modules/.bin:/usr/local/google-cloud-sdk/bin:/usr/local/go/bin:/opt/chefdk/gitbin
    PERL5LIB = /Users/ether/.perlbrew/libs/36.0@std/lib/perl5
    PERLBREW_HOME = /Users/ether/.perlbrew
    PERLBREW_LIB = std
    PERLBREW_MANPATH = /Users/ether/.perlbrew/libs/36.0@std/man:/Users/ether/perl5/perlbrew/perls/36.0/man
    PERLBREW_PATH = /Users/ether/.perlbrew/libs/36.0@std/bin:/Users/ether/perl5/perlbrew/bin:/Users/ether/perl5/perlbrew/perls/36.0/bin
    PERLBREW_PERL = 36.0
    PERLBREW_ROOT = /Users/ether/perl5/perlbrew
    PERLBREW_SHELLRC_VERSION = 0.96
    PERLBREW_VERSION = 0.96
    PERLDOC = -oman
    PERLDOC_PAGER = less -sicMr
    PERL_AUTOINSTALL_PREFER_CPAN = 1
    PERL_INSTALL_QUIET = 1
    PERL_LOCAL_LIB_ROOT = /Users/ether/.perlbrew/libs/36.0@std
    PERL_MB_OPT = --install_base /Users/ether/.perlbrew/libs/36.0@std
    PERL_MM_OPT = INSTALL_BASE=/Users/ether/.perlbrew/libs/36.0@std
    PERL_TEST_HARNESS_ASAP = 1
    PERL_USE_UNSAFE_INC = 0
    SHELL = /bin/bash
    TERM = xterm-color
    TMPDIR = /var/folders/k0/tyl0f1_n25x23qdgmcqhds7m0000gn/T/

Perl special variables (and OS-specific diagnostics, for MSWin32):

    EGID = 20 20 12 61 79 80 81 98 701 33 100 204 250 395 398 399 400
    EUID = 501
    EXECUTABLE_NAME = /Users/ether/perl5/perlbrew/perls/36.0/bin/perl
    GID = 20 20 12 61 79 80 81 98 701 33 100 204 250 395 398 399 400
    UID = 501

Perl module toolchain versions installed:

    Module              Have    
    ------------------- --------
    CPAN                2.33    
    CPAN::Meta          2.150010
    Cwd                 3.84    
    ExtUtils::CBuilder  0.280236
    ExtUtils::Command   7.64    
    ExtUtils::Install   2.20    
    ExtUtils::MakeMaker 7.64    
    ExtUtils::Manifest  1.73    
    ExtUtils::ParseXS   3.45    
    File::Spec          3.84    
    JSON                4.10    
    JSON::PP            4.12    
    Module::Build       0.4232  
    Module::Signature   n/a     
    Parse::CPAN::Meta   2.150010
    Test::Harness       3.44    
    Test::More          1.302190
    YAML                1.30    
    YAML::Syck          n/a     
    version             0.9929  


--

Summary of my perl5 (revision 5 version 36 subversion 0) configuration:
   
  Platform:
    osname=darwin
    osvers=20.6.0
    archname=darwin-2level
    uname='darwin curacao 20.6.0 darwin kernel version 20.6.0: thu sep 29 20:15:11 pdt 2022; root:xnu-7195.141.42~1release_x86_64 x86_64 '
    config_args='-de -Dprefix=/Users/ether/perl5/perlbrew/perls/36.0 -Dman1dir=none -Dman3dir=none -Aeval:scriptdir=/Users/ether/perl5/perlbrew/perls/36.0/bin'
    hint=recommended
    useposix=true
    d_sigaction=define
    useithreads=undef
    usemultiplicity=undef
    use64bitint=define
    use64bitall=define
    uselongdouble=undef
    usemymalloc=n
    default_inc_excludes_dot=define
  Compiler:
    cc='cc'
    ccflags ='-fno-common -DPERL_DARWIN -mmacosx-version-min=11.7 -fno-strict-aliasing -pipe -fstack-protector-strong -I/usr/local/include -I/opt/local/include -DPERL_USE_SAFE_PUTENV'
    optimize='-O3'
    cppflags='-fno-common -DPERL_DARWIN -mmacosx-version-min=11.7 -fno-strict-aliasing -pipe -fstack-protector-strong -I/usr/local/include -I/opt/local/include'
    ccversion=''
    gccversion='Apple LLVM 13.0.0 (clang-1300.0.29.30)'
    gccosandvers=''
    intsize=4
    longsize=8
    ptrsize=8
    doublesize=8
    byteorder=12345678
    doublekind=3
    d_longlong=define
    longlongsize=8
    d_longdbl=define
    longdblsize=16
    longdblkind=3
    ivtype='long'
    ivsize=8
    nvtype='double'
    nvsize=8
    Off_t='off_t'
    lseeksize=8
    alignbytes=8
    prototype=define
  Linker and Libraries:
    ld='cc'
    ldflags =' -mmacosx-version-min=11.7 -fstack-protector-strong -L/usr/local/lib -L/opt/local/lib'
    libpth=/usr/local/lib /Applications/Xcode.app/Contents/Developer/Toolchains/XcodeDefault.xctoolchain/usr/lib/clang/13.0.0/lib /Applications/Xcode.app/Contents/Developer/Platforms/MacOSX.platform/Developer/SDKs/MacOSX.sdk/usr/lib /Applications/Xcode.app/Contents/Developer/Toolchains/XcodeDefault.xctoolchain/usr/lib /opt/local/lib /usr/lib
    libs=-lgdbm
    perllibs=
    libc=
    so=dylib
    useshrplib=false
    libperl=libperl.a
    gnulibc_version=''
  Dynamic Linking:
    dlsrc=dl_dlopen.xs
    dlext=bundle
    d_dlsymun=undef
    ccdlflags=' '
    cccdlflags=' '
    lddlflags=' -mmacosx-version-min=11.7 -bundle -undefined dynamic_lookup -L/usr/local/lib -L/opt/local/lib -fstack-protector-strong'


Characteristics of this binary (from libperl): 
  Compile-time options:
    HAS_TIMES
    PERLIO_LAYERS
    PERL_COPY_ON_WRITE
    PERL_DONT_CREATE_GVSV
    PERL_MALLOC_WRAP
    PERL_OP_PARENT
    PERL_PRESERVE_IVUV
    PERL_USE_SAFE_PUTENV
    USE_64_BIT_ALL
    USE_64_BIT_INT
    USE_LARGE_FILES
    USE_LOCALE
    USE_LOCALE_COLLATE
    USE_LOCALE_CTYPE
    USE_LOCALE_NUMERIC
    USE_LOCALE_TIME
    USE_PERLIO
    USE_PERL_ATOF
  Built under darwin
  Compiled at Dec 14 2022 14:50:35
  %ENV:
    PERL5LIB="/Users/ether/.perlbrew/libs/36.0@std/lib/perl5"
    PERLBREW_HOME="/Users/ether/.perlbrew"
    PERLBREW_LIB="std"
    PERLBREW_MANPATH="/Users/ether/.perlbrew/libs/36.0@std/man:/Users/ether/perl5/perlbrew/perls/36.0/man"
    PERLBREW_PATH="/Users/ether/.perlbrew/libs/36.0@std/bin:/Users/ether/perl5/perlbrew/bin:/Users/ether/perl5/perlbrew/perls/36.0/bin"
    PERLBREW_PERL="36.0"
    PERLBREW_ROOT="/Users/ether/perl5/perlbrew"
    PERLBREW_SHELLRC_VERSION="0.96"
    PERLBREW_VERSION="0.96"
    PERLDOC="-oman"
    PERLDOC_PAGER="less -sicMr"
    PERL_AUTOINSTALL_PREFER_CPAN="1"
    PERL_INSTALL_QUIET="1"
    PERL_LOCAL_LIB_ROOT="/Users/ether/.perlbrew/libs/36.0@std"
    PERL_MB_OPT="--install_base /Users/ether/.perlbrew/libs/36.0@std"
    PERL_MM_OPT="INSTALL_BASE=/Users/ether/.perlbrew/libs/36.0@std"
    PERL_TEST_HARNESS_ASAP="1"
    PERL_USE_UNSAFE_INC="0"
  @INC:
    /Users/ether/.perlbrew/libs/36.0@std/lib/perl5/darwin-2level
    /Users/ether/.perlbrew/libs/36.0@std/lib/perl5
    /Users/ether/perl5/perlbrew/perls/36.0/lib/site_perl/5.36.0/darwin-2level
    /Users/ether/perl5/perlbrew/perls/36.0/lib/site_perl/5.36.0
    /Users/ether/perl5/perlbrew/perls/36.0/lib/5.36.0/darwin-2level
    /Users/ether/perl5/perlbrew/perls/36.0/lib/5.36.0