Path-Tiny v0.144 Perl 5 v5.26.1 x86_64-linux-thread-multi
- Status
- Pass
- From
- Michael Roberts
- Dist
-
Path-Tiny v0.144
- Platform
- Perl 5 v5.26.1 x86_64-linux-thread-multi
- Date
- 2024-03-14 08:34:27
- ID
- ab637e5e-e1dd-11ee-944d-41db7b4e2a5c
This distribution has been tested as part of the CPAN Testers
project, supporting the Perl programming language. See
http://wiki.cpantesters.org/ for more information or email
questions to cpan-testers-discuss@perl.org
--
Dear David Golden,
This is a computer-generated report for Path-Tiny-0.144
on perl 5.26.1, created by CPAN-Reporter-1.2019.
Thank you for uploading your work to CPAN. Congratulations!
All tests were successful.
Sections of this report:
* Tester comments
* Program output
* Prerequisites
* Environment and other context
------------------------------
TESTER COMMENTS
------------------------------
Additional comments from tester:
none provided
------------------------------
PROGRAM OUTPUT
------------------------------
Output from '/usr/bin/make test':
PERL_DL_NONLAZY=1 "/usr/bin/perl" "-MExtUtils::Command::MM" "-MTest::Harness" "-e" "undef *Test::Harness::Switches; test_harness(0, 'blib/lib', 'blib/arch')" t/*.t
#
# Versions for all modules listed in MYMETA.json (including optional ones):
#
# === Configure Requires ===
#
# Module Want Have
# ------------------- ---- ----
# ExtUtils::MakeMaker 6.17 7.70
#
# === Configure Suggests ===
#
# Module Want Have
# -------- ------- ----
# JSON::PP 2.27300 4.16
#
# === Build Requires ===
#
# Module Want Have
# ------------------- ---- ----
# ExtUtils::MakeMaker any 7.70
#
# === Test Requires ===
#
# Module Want Have
# --------------------- ---- --------
# Digest::MD5 any 2.59
# ExtUtils::MakeMaker any 7.70
# File::Basename any 2.85
# File::Spec 0.86 3.75
# File::Spec::Functions any 3.75
# File::Spec::Unix any 3.75
# File::Temp 0.19 0.2311
# Test::More 0.96 1.302198
# lib any 0.64
# open any 1.11
#
# === Test Recommends ===
#
# Module Want Have
# ------------------ -------- --------
# CPAN::Meta 2.120900 2.150010
# Test::FailWarnings any 0.008
# Test::MockRandom any 1.01
#
# === Runtime Requires ===
#
# Module Want Have
# ------------------ ---- ------
# Carp any 1.50
# Cwd any 3.75
# Digest 1.03 1.20
# Digest::SHA 5.45 6.04
# Encode any 3.21
# Exporter 5.57 5.78
# Fcntl any 1.13
# File::Compare any 1.1006
# File::Copy any 2.32
# File::Glob any 1.28
# File::Path 2.07 2.18
# File::Spec 0.86 3.75
# File::Temp 0.19 0.2311
# File::stat any 1.07
# constant any 1.33
# overload any 1.28
# strict any 1.11
# warnings any 1.37
# warnings::register any 1.04
#
# === Runtime Recommends ===
#
# Module Want Have
# ------------- ---- ----
# Unicode::UTF8 0.58 0.62
#
t/00-report-prereqs.t ............. ok
t/basename.t ...................... ok
t/basic.t ......................... ok
t/children.t ...................... ok
t/chmod.t ......................... ok
t/digest.t ........................ ok
t/exception.t ..................... ok
t/exports.t ....................... ok
t/filesystem.t .................... ok
t/has_same_bytes.t ................ ok
t/input_output.t .................. ok
t/input_output_no_PU_UU.t ......... ok
t/input_output_no_UU.t ............ ok
t/locking.t ....................... ok
t/mkdir.t ......................... ok
t/mkpath.t ........................ ok
t/mutable_tree_while_iterating.t .. ok
t/normalize.t ..................... ok
t/overloading.t ................... ok
t/parent.t ........................ ok
t/recurse.t ....................... ok
t/rel-abs.t ....................... ok
t/sig_die.t ....................... ok
t/size.t .......................... ok
t/subsumes.t ...................... ok
t/symlinks.t ...................... ok
t/temp.t .......................... ok
t/visit.t ......................... ok
t/zz-atomic.t ..................... ok
t/zzz-spec.t ...................... ok
All tests successful.
Files=30, Tests=1770, 2 wallclock secs ( 0.17 usr 0.01 sys + 1.74 cusr 0.23 csys = 2.15 CPU)
Result: PASS
------------------------------
PREREQUISITES
------------------------------
Prerequisite modules loaded:
requires:
Module Need Have
--------------------- -------- --------
Carp 0 1.50
constant 0 1.33
Cwd 0 3.75
Digest 1.03 1.20
Digest::SHA 5.45 6.04
Encode 0 3.21
Exporter 5.57 5.78
Fcntl 0 1.13
File::Compare 0 1.1006
File::Copy 0 2.32
File::Glob 0 1.28
File::Path 2.07 2.18
File::Spec 0.86 3.75
File::stat 0 1.07
File::Temp 0.19 0.2311
overload 0 1.28
perl 5.008001 5.026001
strict 0 1.11
warnings 0 1.37
warnings::register 0 1.04
build_requires:
Module Need Have
--------------------- -------- --------
Digest::MD5 0 2.59
ExtUtils::MakeMaker 0 7.70
File::Basename 0 2.85
File::Spec 0.86 3.75
File::Spec::Functions 0 3.75
File::Spec::Unix 0 3.75
File::Temp 0.19 0.2311
lib 0 0.64
open 0 1.11
Test::More 0.96 1.302198
configure_requires:
Module Need Have
--------------------- -------- --------
ExtUtils::MakeMaker 6.17 7.70
perl 5.008001 5.026001
opt_requires:
Module Need Have
--------------------- -------- --------
Unicode::UTF8 0.58 0.62
opt_build_requires:
Module Need Have
--------------------- -------- --------
CPAN::Meta 2.120900 2.150010
Test::FailWarnings 0 0.008
Test::MockRandom 0 1.01
------------------------------
ENVIRONMENT AND OTHER CONTEXT
------------------------------
Environment variables:
LANG = en_GB.UTF-8
LANGUAGE =
NONINTERACTIVE_TESTING = 1
PATH = /home/mike/bin:/usr/local/bin:/usr/bin:/bin
PERL5LIB =
PERL5OPT =
PERL5_CPANPLUS_IS_RUNNING = 29064
PERL5_CPAN_IS_RUNNING = 29064
PERL_MM_USE_DEFAULT = 1
PERL_USE_UNSAFE_INC = 1
SHELL = /bin/bash
TERM = xterm-256color
Perl special variables (and OS-specific diagnostics, for MSWin32):
$^X = /usr/bin/perl
$UID/$EUID = 1000 / 1000
$GID = 100 100 471 487
$EGID = 100 100 471 487
Perl module toolchain versions installed:
Module Have
------------------- --------
CPAN 2.36
CPAN::Meta 2.150010
Cwd 3.75
ExtUtils::CBuilder 0.280236
ExtUtils::Command 7.70
ExtUtils::Install 2.22
ExtUtils::MakeMaker 7.70
ExtUtils::Manifest 1.75
ExtUtils::ParseXS 3.51
File::Spec 3.75
JSON 4.10
JSON::PP 4.16
Module::Build 0.4234
Module::Signature 0.88
Parse::CPAN::Meta 2.150010
Test2 1.302198
Test::Harness 3.48
Test::More 1.302198
YAML 1.31
YAML::Syck n/a
version 0.9930
--
Summary of my perl5 (revision 5 version 26 subversion 1) configuration:
Platform:
osname=linux
osvers=5.3.18-150300.59.90-default
archname=x86_64-linux-thread-multi
uname='reproducible'
config_args='-ds -e -Dprefix=/usr -Dvendorprefix=/usr -Dinstallusrbinperl -Dusethreads -Di_db -Di_dbm -Di_ndbm -Di_gdbm -Dd_dbm_open -Duseshrplib=true -Doptimize=-fmessage-length=0 -grecord-gcc-switches -O2 -Wall -D_FORTIFY_SOURCE=2 -fstack-protector-strong -funwind-tables -fasynchronous-unwind-tables -fstack-clash-protection -g -Wall -pipe -Accflags=-DPERL_USE_SAFE_PUTENV -Dotherlibdirs=/usr/lib/perl5/site_perl -Dinc_version_list=none'
hint=recommended
useposix=true
d_sigaction=define
useithreads=define
usemultiplicity=define
use64bitint=define
use64bitall=define
uselongdouble=undef
usemymalloc=n
default_inc_excludes_dot=define
bincompat5005=undef
Compiler:
cc='cc'
ccflags ='-D_REENTRANT -D_GNU_SOURCE -DPERL_USE_SAFE_PUTENV -fwrapv -fno-strict-aliasing -pipe -fstack-protector-strong -D_LARGEFILE_SOURCE -D_FILE_OFFSET_BITS=64'
optimize='-fmessage-length=0 -grecord-gcc-switches -O2 -Wall -D_FORTIFY_SOURCE=2 -fstack-protector-strong -funwind-tables -fasynchronous-unwind-tables -fstack-clash-protection -g -Wall -pipe'
cppflags='-D_REENTRANT -D_GNU_SOURCE -DPERL_USE_SAFE_PUTENV -fwrapv -fno-strict-aliasing -pipe -fstack-protector-strong'
ccversion=''
gccversion='7.5.0'
gccosandvers=''
intsize=4
longsize=8
ptrsize=8
doublesize=8
byteorder=12345678
doublekind=3
d_longlong=define
longlongsize=8
d_longdbl=define
longdblsize=16
longdblkind=3
ivtype='long'
ivsize=8
nvtype='double'
nvsize=8
Off_t='off_t'
lseeksize=8
alignbytes=8
prototype=define
Linker and Libraries:
ld='cc'
ldflags =' -L/usr/local/lib64 -fstack-protector-strong'
libpth=/usr/local/lib /usr/lib64/gcc/x86_64-suse-linux/7/include-fixed /usr/lib64/gcc/x86_64-suse-linux/7/../../../../x86_64-suse-linux/lib /usr/lib /lib/../lib64 /usr/lib/../lib64 /lib /lib64 /usr/lib64 /usr/local/lib64
libs=-lm -ldl -lcrypt -lpthread
perllibs=-lm -ldl -lcrypt -lpthread
libc=/lib64/libc-2.31.so
so=so
useshrplib=true
libperl=libperl.so
gnulibc_version='2.31'
Dynamic Linking:
dlsrc=dl_dlopen.xs
dlext=so
d_dlsymun=undef
ccdlflags='-Wl,-E -Wl,-rpath,/usr/lib/perl5/5.26.1/x86_64-linux-thread-multi/CORE'
cccdlflags='-fPIC'
lddlflags='-shared -L/usr/local/lib64 -fstack-protector-strong'
Characteristics of this binary (from libperl):
Compile-time options:
HAS_TIMES
MULTIPLICITY
PERLIO_LAYERS
PERL_COPY_ON_WRITE
PERL_DONT_CREATE_GVSV
PERL_IMPLICIT_CONTEXT
PERL_MALLOC_WRAP
PERL_OP_PARENT
PERL_PRESERVE_IVUV
PERL_USE_SAFE_PUTENV
USE_64_BIT_ALL
USE_64_BIT_INT
USE_ITHREADS
USE_LARGE_FILES
USE_LOCALE
USE_LOCALE_COLLATE
USE_LOCALE_CTYPE
USE_LOCALE_NUMERIC
USE_LOCALE_TIME
USE_PERLIO
USE_PERL_ATOF
USE_REENTRANT_API
Built under linux
Compiled at Sep 2 2022 12:00:00
%ENV:
PERL5LIB=""
PERL5OPT=""
PERL5_CPANPLUS_IS_RUNNING="29064"
PERL5_CPAN_IS_RUNNING="29064"
PERL_MM_USE_DEFAULT="1"
PERL_USE_UNSAFE_INC="1"
@INC:
/usr/lib/perl5/site_perl/5.26.1/x86_64-linux-thread-multi
/usr/lib/perl5/site_perl/5.26.1
/usr/lib/perl5/vendor_perl/5.26.1/x86_64-linux-thread-multi
/usr/lib/perl5/vendor_perl/5.26.1
/usr/lib/perl5/5.26.1/x86_64-linux-thread-multi
/usr/lib/perl5/5.26.1
/usr/lib/perl5/site_perl
.