Portable-Dist v1.06 Perl 5 v5.24.3 x86_64-linux-ld

Status
Pass
From
Andreas J. König (ANDK)
Dist
Portable-Dist v1.06
Platform
Perl 5 v5.24.3 x86_64-linux-ld
Date
2017-10-01 07:32:23
ID
aa5ec1da-a67a-11e7-9f4f-842a810dac4e
This distribution has been tested as part of the CPAN Testers
project, supporting the Perl programming language.  See
http://wiki.cpantesters.org/ for more information or email
questions to cpan-testers-discuss@perl.org


--
Dear kmx,

This is a computer-generated report for Portable-Dist-1.06
on perl 5.24.3, created by CPAN-Reporter-1.2018.

Thank you for uploading your work to CPAN.  Congratulations!
All tests were successful.

Sections of this report:

    * Tester comments
    * Program output
    * Prerequisites
    * Environment and other context

------------------------------
TESTER COMMENTS
------------------------------

Additional comments from tester:

this report is from an automated smoke testing program
and was not reviewed by a human for accuracy

------------------------------
PROGRAM OUTPUT
------------------------------

Output from '/usr/bin/make test':

PERL_DL_NONLAZY=1 "/home/sand/src/perl/repoperls/installed-perls/host/k93msid/v5.24.3/0a29/bin/perl" "-MExtUtils::Command::MM" "-MTest::Harness" "-e" "undef *Test::Harness::Switches; test_harness(0, 'inc', 'blib/lib', 'blib/arch')" t/*.t
t/01_compile.t .. ok
$UMASK being true is deprecated it will be false by default in the future. This change is being made because this not the behavior of the unix command `chmod`. This warning can be disabled by putting explicitly setting $File::chmod::UMASK to false (0) to act like system chmod, or any non 2 true value see Github issue #5  at t/02_run.t line 40.
$UMASK being true is deprecated it will be false by default in the future. This change is being made because this not the behavior of the unix command `chmod`. This warning can be disabled by putting explicitly setting $File::chmod::UMASK to false (0) to act like system chmod, or any non 2 true value see Github issue #5  at t/02_run.t line 40.
$UMASK being true is deprecated it will be false by default in the future. This change is being made because this not the behavior of the unix command `chmod`. This warning can be disabled by putting explicitly setting $File::chmod::UMASK to false (0) to act like system chmod, or any non 2 true value see Github issue #5  at t/02_run.t line 40.
$UMASK being true is deprecated it will be false by default in the future. This change is being made because this not the behavior of the unix command `chmod`. This warning can be disabled by putting explicitly setting $File::chmod::UMASK to false (0) to act like system chmod, or any non 2 true value see Github issue #5  at t/02_run.t line 40.
$UMASK being true is deprecated it will be false by default in the future. This change is being made because this not the behavior of the unix command `chmod`. This warning can be disabled by putting explicitly setting $File::chmod::UMASK to false (0) to act like system chmod, or any non 2 true value see Github issue #5  at t/02_run.t line 40.
$UMASK being true is deprecated it will be false by default in the future. This change is being made because this not the behavior of the unix command `chmod`. This warning can be disabled by putting explicitly setting $File::chmod::UMASK to false (0) to act like system chmod, or any non 2 true value see Github issue #5  at t/02_run.t line 40.
$UMASK being true is deprecated it will be false by default in the future. This change is being made because this not the behavior of the unix command `chmod`. This warning can be disabled by putting explicitly setting $File::chmod::UMASK to false (0) to act like system chmod, or any non 2 true value see Github issue #5  at t/02_run.t line 40.
$UMASK being true is deprecated it will be false by default in the future. This change is being made because this not the behavior of the unix command `chmod`. This warning can be disabled by putting explicitly setting $File::chmod::UMASK to false (0) to act like system chmod, or any non 2 true value see Github issue #5  at t/02_run.t line 40.
$UMASK being true is deprecated it will be false by default in the future. This change is being made because this not the behavior of the unix command `chmod`. This warning can be disabled by putting explicitly setting $File::chmod::UMASK to false (0) to act like system chmod, or any non 2 true value see Github issue #5  at /tmp/loop_over_bdir-26976-f_sd2E/File-IgnoreReadonly-0.01-0/blib/lib/File/IgnoreReadonly.pm line 111.
sysread() is deprecated on :utf8 handles at /home/sand/src/perl/repoperls/installed-perls/host/k93msid/v5.24.3/0a29/lib/site_perl/5.24.3/File/Slurp.pm line 225.
syswrite() is deprecated on :utf8 handles at /home/sand/src/perl/repoperls/installed-perls/host/k93msid/v5.24.3/0a29/lib/site_perl/5.24.3/File/Slurp.pm line 506.
$UMASK being true is deprecated it will be false by default in the future. This change is being made because this not the behavior of the unix command `chmod`. This warning can be disabled by putting explicitly setting $File::chmod::UMASK to false (0) to act like system chmod, or any non 2 true value see Github issue #5  at /tmp/loop_over_bdir-26976-f_sd2E/File-IgnoreReadonly-0.01-0/blib/lib/File/IgnoreReadonly.pm line 111.
sysread() is deprecated on :utf8 handles at /home/sand/src/perl/repoperls/installed-perls/host/k93msid/v5.24.3/0a29/lib/site_perl/5.24.3/File/Slurp.pm line 225.
syswrite() is deprecated on :utf8 handles at /home/sand/src/perl/repoperls/installed-perls/host/k93msid/v5.24.3/0a29/lib/site_perl/5.24.3/File/Slurp.pm line 506.
$UMASK being true is deprecated it will be false by default in the future. This change is being made because this not the behavior of the unix command `chmod`. This warning can be disabled by putting explicitly setting $File::chmod::UMASK to false (0) to act like system chmod, or any non 2 true value see Github issue #5  at /tmp/loop_over_bdir-26976-f_sd2E/File-IgnoreReadonly-0.01-0/blib/lib/File/IgnoreReadonly.pm line 111.
sysread() is deprecated on :utf8 handles at /home/sand/src/perl/repoperls/installed-perls/host/k93msid/v5.24.3/0a29/lib/site_perl/5.24.3/File/Slurp.pm line 225.
syswrite() is deprecated on :utf8 handles at /home/sand/src/perl/repoperls/installed-perls/host/k93msid/v5.24.3/0a29/lib/site_perl/5.24.3/File/Slurp.pm line 506.
$UMASK being true is deprecated it will be false by default in the future. This change is being made because this not the behavior of the unix command `chmod`. This warning can be disabled by putting explicitly setting $File::chmod::UMASK to false (0) to act like system chmod, or any non 2 true value see Github issue #5  at /tmp/loop_over_bdir-26976-f_sd2E/Portable-Dist-1.06-0/blib/lib/Portable/Dist.pm line 241.
$UMASK being true is deprecated it will be false by default in the future. This change is being made because this not the behavior of the unix command `chmod`. This warning can be disabled by putting explicitly setting $File::chmod::UMASK to false (0) to act like system chmod, or any non 2 true value see Github issue #5  at /tmp/loop_over_bdir-26976-f_sd2E/File-IgnoreReadonly-0.01-0/blib/lib/File/IgnoreReadonly.pm line 111.
sysread() is deprecated on :utf8 handles at /home/sand/src/perl/repoperls/installed-perls/host/k93msid/v5.24.3/0a29/lib/site_perl/5.24.3/File/Slurp.pm line 225.
syswrite() is deprecated on :utf8 handles at /home/sand/src/perl/repoperls/installed-perls/host/k93msid/v5.24.3/0a29/lib/site_perl/5.24.3/File/Slurp.pm line 506.
$UMASK being true is deprecated it will be false by default in the future. This change is being made because this not the behavior of the unix command `chmod`. This warning can be disabled by putting explicitly setting $File::chmod::UMASK to false (0) to act like system chmod, or any non 2 true value see Github issue #5  at /tmp/loop_over_bdir-26976-f_sd2E/File-IgnoreReadonly-0.01-0/blib/lib/File/IgnoreReadonly.pm line 111.
sysread() is deprecated on :utf8 handles at /home/sand/src/perl/repoperls/installed-perls/host/k93msid/v5.24.3/0a29/lib/site_perl/5.24.3/File/Slurp.pm line 225.
syswrite() is deprecated on :utf8 handles at /home/sand/src/perl/repoperls/installed-perls/host/k93msid/v5.24.3/0a29/lib/site_perl/5.24.3/File/Slurp.pm line 506.
$UMASK being true is deprecated it will be false by default in the future. This change is being made because this not the behavior of the unix command `chmod`. This warning can be disabled by putting explicitly setting $File::chmod::UMASK to false (0) to act like system chmod, or any non 2 true value see Github issue #5  at /tmp/loop_over_bdir-26976-f_sd2E/File-IgnoreReadonly-0.01-0/blib/lib/File/IgnoreReadonly.pm line 111.
sysread() is deprecated on :utf8 handles at /home/sand/src/perl/repoperls/installed-perls/host/k93msid/v5.24.3/0a29/lib/site_perl/5.24.3/File/Slurp.pm line 225.
syswrite() is deprecated on :utf8 handles at /home/sand/src/perl/repoperls/installed-perls/host/k93msid/v5.24.3/0a29/lib/site_perl/5.24.3/File/Slurp.pm line 506.
$UMASK being true is deprecated it will be false by default in the future. This change is being made because this not the behavior of the unix command `chmod`. This warning can be disabled by putting explicitly setting $File::chmod::UMASK to false (0) to act like system chmod, or any non 2 true value see Github issue #5  at /tmp/loop_over_bdir-26976-f_sd2E/File-IgnoreReadonly-0.01-0/blib/lib/File/IgnoreReadonly.pm line 111.
sysread() is deprecated on :utf8 handles at /home/sand/src/perl/repoperls/installed-perls/host/k93msid/v5.24.3/0a29/lib/site_perl/5.24.3/File/Slurp.pm line 225.
syswrite() is deprecated on :utf8 handles at /home/sand/src/perl/repoperls/installed-perls/host/k93msid/v5.24.3/0a29/lib/site_perl/5.24.3/File/Slurp.pm line 506.
$UMASK being true is deprecated it will be false by default in the future. This change is being made because this not the behavior of the unix command `chmod`. This warning can be disabled by putting explicitly setting $File::chmod::UMASK to false (0) to act like system chmod, or any non 2 true value see Github issue #5  at /tmp/loop_over_bdir-26976-f_sd2E/File-IgnoreReadonly-0.01-0/blib/lib/File/IgnoreReadonly.pm line 111.
sysread() is deprecated on :utf8 handles at /home/sand/src/perl/repoperls/installed-perls/host/k93msid/v5.24.3/0a29/lib/site_perl/5.24.3/File/Slurp.pm line 225.
syswrite() is deprecated on :utf8 handles at /home/sand/src/perl/repoperls/installed-perls/host/k93msid/v5.24.3/0a29/lib/site_perl/5.24.3/File/Slurp.pm line 506.
t/02_run.t ...... ok
t/03_batch.t .... skipped: Tests only runnable on Win32
All tests successful.
Files=3, Tests=44,  1 wallclock secs ( 0.04 usr  0.01 sys +  0.25 cusr  0.11 csys =  0.41 CPU)
Result: PASS

------------------------------
PREREQUISITES
------------------------------

Prerequisite modules loaded:

requires:

    Module                Need    Have    
    --------------------- ------- --------
    File::chmod           0.32    0.42    
    File::Find::Rule      0.30    0.34    
    File::IgnoreReadonly  0.01    0.01    
    File::Slurp           9999.13 9999.19 
    File::Spec            0.80    3.63_01 
    Object::Tiny          1.04    1.08    
    Params::Util          0.31    1.07    
    perl                  5.008   5.024003

build_requires:

    Module                Need    Have    
    --------------------- ------- --------
    ExtUtils::MakeMaker   6.59    7.30    
    File::Copy::Recursive 0.35    0.38    
    File::Remove          1.42    1.57    
    Test::More            0.47    1.302096

configure_requires:

    Module                Need    Have    
    --------------------- ------- --------
    ExtUtils::MakeMaker   6.59    7.30    


------------------------------
ENVIRONMENT AND OTHER CONTEXT
------------------------------

Environment variables:

    AUTOMATED_TESTING = 1
    LANG = en_US.UTF-8
    PATH = /home/sand/bin:/usr/local/bin:/usr/bin:/bin:/usr/games:/usr/local/perl/bin:/usr/X11/bin:/sbin:/usr/sbin
    PERL5LIB = /tmp/loop_over_bdir-26976-f_sd2E/Object-Tiny-1.08-0/blib/arch:/tmp/loop_over_bdir-26976-f_sd2E/Object-Tiny-1.08-0/blib/lib:/tmp/loop_over_bdir-26976-f_sd2E/File-IgnoreReadonly-0.01-0/blib/arch:/tmp/loop_over_bdir-26976-f_sd2E/File-IgnoreReadonly-0.01-0/blib/lib:/tmp/loop_over_bdir-26976-f_sd2E/File-chmod-0.42-0/blib/arch:/tmp/loop_over_bdir-26976-f_sd2E/File-chmod-0.42-0/blib/lib
    PERL5OPT = 
    PERL5_CPANPLUS_IS_RUNNING = 26987
    PERL5_CPAN_IS_RUNNING = 26987
    PERL5_CPAN_IS_RUNNING_IN_RECURSION = 5668,26987
    PERL_CANARY_STABILITY_NOPROMPT = 1
    PERL_MM_USE_DEFAULT = 1
    PERL_USE_UNSAFE_INC = 1
    SHELL = /usr/bin/zsh
    TERM = screen

Perl special variables (and OS-specific diagnostics, for MSWin32):

    $^X = /home/sand/src/perl/repoperls/installed-perls/host/k93msid/v5.24.3/0a29/bin/perl
    $UID/$EUID = 1005 / 1005
    $GID = 1005 1005
    $EGID = 1005 1005

Perl module toolchain versions installed:

    Module              Have      
    ------------------- ----------
    CPAN                2.18      
    CPAN::Meta          2.150010  
    Cwd                 3.63_01   
    ExtUtils::CBuilder  0.280226  
    ExtUtils::Command   7.30      
    ExtUtils::Install   2.06      
    ExtUtils::MakeMaker 7.30      
    ExtUtils::Manifest  1.70      
    ExtUtils::ParseXS   3.31      
    File::Spec          3.63_01   
    JSON                2.94      
    JSON::PP            2.27300_01
    Module::Build       0.4224    
    Module::Signature   0.81      
    Parse::CPAN::Meta   2.150010  
    Test::Harness       3.39      
    Test::More          1.302096  
    YAML                1.23      
    YAML::Syck          1.30      
    version             0.9916    


--

Summary of my perl5 (revision 5 version 24 subversion 3) configuration:
  Derived from: 9f1d3884c227a955e9ecaaadba4cba3280c47e3a
  Platform:
    osname=linux, osvers=4.9.0-2-amd64, archname=x86_64-linux-ld
    uname='linux k93msid 4.9.0-2-amd64 #1 smp debian 4.9.18-1 (2017-03-30) x86_64 gnulinux '
    config_args='-Dprefix=/home/sand/src/perl/repoperls/installed-perls/host/k93msid/v5.24.3/0a29 -Dmyhostname=k93msid -Dinstallusrbinperl=n -Uversiononly -Dusedevel -des -Ui_db -Dlibswanted=cl pthread socket inet nsl gdbm dbm malloc dl ld sun m crypt sec util c cposix posix ucb BSD gdbm_compat -Uuseithreads -Duselongdouble -DDEBUGGING=both'
    hint=recommended, useposix=true, d_sigaction=define
    useithreads=undef, usemultiplicity=undef
    use64bitint=define, use64bitall=define, uselongdouble=define
    usemymalloc=n, bincompat5005=undef
  Compiler:
    cc='cc', ccflags ='-fwrapv -DDEBUGGING -fno-strict-aliasing -pipe -fstack-protector-strong -I/usr/local/include -D_LARGEFILE_SOURCE -D_FILE_OFFSET_BITS=64 -D_FORTIFY_SOURCE=2',
    optimize='-O2 -g',
    cppflags='-fwrapv -DDEBUGGING -fno-strict-aliasing -pipe -fstack-protector-strong -I/usr/local/include'
    ccversion='', gccversion='6.3.0 20170406', gccosandvers=''
    intsize=4, longsize=8, ptrsize=8, doublesize=8, byteorder=12345678, doublekind=3
    d_longlong=define, longlongsize=8, d_longdbl=define, longdblsize=16, longdblkind=3
    ivtype='long', ivsize=8, nvtype='long double', nvsize=16, Off_t='off_t', lseeksize=8
    alignbytes=16, prototype=define
  Linker and Libraries:
    ld='cc', ldflags =' -fstack-protector-strong -L/usr/local/lib'
    libpth=/usr/local/lib /usr/lib/gcc/x86_64-linux-gnu/6/include-fixed /usr/include/x86_64-linux-gnu /usr/lib /lib/x86_64-linux-gnu /lib/../lib /usr/lib/x86_64-linux-gnu /usr/lib/../lib /lib
    libs=-lpthread -lnsl -ldl -lm -lcrypt -lutil -lc
    perllibs=-lpthread -lnsl -ldl -lm -lcrypt -lutil -lc
    libc=libc-2.24.so, so=so, useshrplib=false, libperl=libperl.a
    gnulibc_version='2.24'
  Dynamic Linking:
    dlsrc=dl_dlopen.xs, dlext=so, d_dlsymun=undef, ccdlflags='-Wl,-E'
    cccdlflags='-fPIC', lddlflags='-shared -O2 -g -L/usr/local/lib -fstack-protector-strong'


Characteristics of this binary (from libperl): 
  Compile-time options: DEBUGGING HAS_TIMES PERLIO_LAYERS PERL_COPY_ON_WRITE
                        PERL_DONT_CREATE_GVSV
                        PERL_HASH_FUNC_ONE_AT_A_TIME_HARD PERL_MALLOC_WRAP
                        PERL_PRESERVE_IVUV PERL_USE_DEVEL USE_64_BIT_ALL
                        USE_64_BIT_INT USE_LARGE_FILES USE_LOCALE
                        USE_LOCALE_COLLATE USE_LOCALE_CTYPE
                        USE_LOCALE_NUMERIC USE_LOCALE_TIME USE_LONG_DOUBLE
                        USE_PERLIO USE_PERL_ATOF
  Locally applied patches:
	uncommitted-changes
  Built under linux
  Compiled at Sep 24 2017 00:20:45
  %ENV:
    PERL5LIB="/tmp/loop_over_bdir-26976-f_sd2E/Object-Tiny-1.08-0/blib/arch:/tmp/loop_over_bdir-26976-f_sd2E/Object-Tiny-1.08-0/blib/lib:/tmp/loop_over_bdir-26976-f_sd2E/File-IgnoreReadonly-0.01-0/blib/arch:/tmp/loop_over_bdir-26976-f_sd2E/File-IgnoreReadonly-0.01-0/blib/lib:/tmp/loop_over_bdir-26976-f_sd2E/File-chmod-0.42-0/blib/arch:/tmp/loop_over_bdir-26976-f_sd2E/File-chmod-0.42-0/blib/lib"
    PERL5OPT=""
    PERL5_CPANPLUS_IS_RUNNING="26987"
    PERL5_CPAN_IS_RUNNING="26987"
    PERL5_CPAN_IS_RUNNING_IN_RECURSION="5668,26987"
    PERL_CANARY_STABILITY_NOPROMPT="1"
    PERL_MM_USE_DEFAULT="1"
    PERL_USE_UNSAFE_INC="1"
  @INC:
    /tmp/loop_over_bdir-26976-f_sd2E/Object-Tiny-1.08-0/blib/arch
    /tmp/loop_over_bdir-26976-f_sd2E/Object-Tiny-1.08-0/blib/lib
    /tmp/loop_over_bdir-26976-f_sd2E/File-IgnoreReadonly-0.01-0/blib/arch
    /tmp/loop_over_bdir-26976-f_sd2E/File-IgnoreReadonly-0.01-0/blib/lib
    /tmp/loop_over_bdir-26976-f_sd2E/File-chmod-0.42-0/blib/arch
    /tmp/loop_over_bdir-26976-f_sd2E/File-chmod-0.42-0/blib/lib
    /home/sand/src/perl/repoperls/installed-perls/host/k93msid/v5.24.3/0a29/lib/site_perl/5.24.3/x86_64-linux-ld
    /home/sand/src/perl/repoperls/installed-perls/host/k93msid/v5.24.3/0a29/lib/site_perl/5.24.3
    /home/sand/src/perl/repoperls/installed-perls/host/k93msid/v5.24.3/0a29/lib/5.24.3/x86_64-linux-ld
    /home/sand/src/perl/repoperls/installed-perls/host/k93msid/v5.24.3/0a29/lib/5.24.3
    .