Encode v3.16 Perl 5 v5.16.3 x86_64-linux-thread-multi
- Status
- Pass
- From
- Andreas J. König (ANDK)
- Dist
-
Encode v3.16
- Platform
- Perl 5 v5.16.3 x86_64-linux-thread-multi
- Date
- 2022-01-07 08:49:03
- ID
- aa11bcfc-6f96-11ec-8d5c-d92b1d72ee1c
This distribution has been tested as part of the CPAN Testers
project, supporting the Perl programming language. See
http://wiki.cpantesters.org/ for more information or email
questions to cpan-testers-discuss@perl.org
--
Dear Dan Kogai,
This is a computer-generated report for Encode-3.16
on perl 5.16.3, created by CPAN-Reporter-1.2018.
Thank you for uploading your work to CPAN. Congratulations!
All tests were successful.
Sections of this report:
* Tester comments
* Program output
* Prerequisites
* Environment and other context
------------------------------
TESTER COMMENTS
------------------------------
Additional comments from tester:
this report is from an automated smoke testing program
and was not reviewed by a human for accuracy
------------------------------
PROGRAM OUTPUT
------------------------------
Output from '/usr/bin/make test':
"/home/sand/src/perl/repoperls/installed-perls/host/k93bionic/v5.16.3/7ee9/bin/perl" -MExtUtils::Command::MM -e 'cp_nonempty' -- Encode.bs blib/arch/auto/Encode/Encode.bs 644
make[1]: Entering directory '/tmp/loop_over_bdir-16643-4whgu9/Encode-3.16-cw8ydk/Byte'
"/home/sand/src/perl/repoperls/installed-perls/host/k93bionic/v5.16.3/7ee9/bin/perl" -MExtUtils::Command::MM -e 'cp_nonempty' -- Byte.bs ../blib/arch/auto/Encode/Byte/Byte.bs 644
make[1]: Leaving directory '/tmp/loop_over_bdir-16643-4whgu9/Encode-3.16-cw8ydk/Byte'
make[1]: Entering directory '/tmp/loop_over_bdir-16643-4whgu9/Encode-3.16-cw8ydk/CN'
"/home/sand/src/perl/repoperls/installed-perls/host/k93bionic/v5.16.3/7ee9/bin/perl" -MExtUtils::Command::MM -e 'cp_nonempty' -- CN.bs ../blib/arch/auto/Encode/CN/CN.bs 644
make[1]: Leaving directory '/tmp/loop_over_bdir-16643-4whgu9/Encode-3.16-cw8ydk/CN'
make[1]: Entering directory '/tmp/loop_over_bdir-16643-4whgu9/Encode-3.16-cw8ydk/EBCDIC'
"/home/sand/src/perl/repoperls/installed-perls/host/k93bionic/v5.16.3/7ee9/bin/perl" -MExtUtils::Command::MM -e 'cp_nonempty' -- EBCDIC.bs ../blib/arch/auto/Encode/EBCDIC/EBCDIC.bs 644
make[1]: Leaving directory '/tmp/loop_over_bdir-16643-4whgu9/Encode-3.16-cw8ydk/EBCDIC'
make[1]: Entering directory '/tmp/loop_over_bdir-16643-4whgu9/Encode-3.16-cw8ydk/JP'
"/home/sand/src/perl/repoperls/installed-perls/host/k93bionic/v5.16.3/7ee9/bin/perl" -MExtUtils::Command::MM -e 'cp_nonempty' -- JP.bs ../blib/arch/auto/Encode/JP/JP.bs 644
make[1]: Leaving directory '/tmp/loop_over_bdir-16643-4whgu9/Encode-3.16-cw8ydk/JP'
make[1]: Entering directory '/tmp/loop_over_bdir-16643-4whgu9/Encode-3.16-cw8ydk/KR'
"/home/sand/src/perl/repoperls/installed-perls/host/k93bionic/v5.16.3/7ee9/bin/perl" -MExtUtils::Command::MM -e 'cp_nonempty' -- KR.bs ../blib/arch/auto/Encode/KR/KR.bs 644
make[1]: Leaving directory '/tmp/loop_over_bdir-16643-4whgu9/Encode-3.16-cw8ydk/KR'
make[1]: Entering directory '/tmp/loop_over_bdir-16643-4whgu9/Encode-3.16-cw8ydk/Symbol'
"/home/sand/src/perl/repoperls/installed-perls/host/k93bionic/v5.16.3/7ee9/bin/perl" -MExtUtils::Command::MM -e 'cp_nonempty' -- Symbol.bs ../blib/arch/auto/Encode/Symbol/Symbol.bs 644
make[1]: Leaving directory '/tmp/loop_over_bdir-16643-4whgu9/Encode-3.16-cw8ydk/Symbol'
make[1]: Entering directory '/tmp/loop_over_bdir-16643-4whgu9/Encode-3.16-cw8ydk/TW'
"/home/sand/src/perl/repoperls/installed-perls/host/k93bionic/v5.16.3/7ee9/bin/perl" -MExtUtils::Command::MM -e 'cp_nonempty' -- TW.bs ../blib/arch/auto/Encode/TW/TW.bs 644
make[1]: Leaving directory '/tmp/loop_over_bdir-16643-4whgu9/Encode-3.16-cw8ydk/TW'
make[1]: Entering directory '/tmp/loop_over_bdir-16643-4whgu9/Encode-3.16-cw8ydk/Unicode'
"/home/sand/src/perl/repoperls/installed-perls/host/k93bionic/v5.16.3/7ee9/bin/perl" -MExtUtils::Command::MM -e 'cp_nonempty' -- Unicode.bs ../blib/arch/auto/Encode/Unicode/Unicode.bs 644
make[1]: Leaving directory '/tmp/loop_over_bdir-16643-4whgu9/Encode-3.16-cw8ydk/Unicode'
make[1]: Entering directory '/tmp/loop_over_bdir-16643-4whgu9/Encode-3.16-cw8ydk/Byte'
"/home/sand/src/perl/repoperls/installed-perls/host/k93bionic/v5.16.3/7ee9/bin/perl" -MExtUtils::Command::MM -e 'cp_nonempty' -- Byte.bs ../blib/arch/auto/Encode/Byte/Byte.bs 644
No tests defined for Encode::Byte extension.
make[1]: Leaving directory '/tmp/loop_over_bdir-16643-4whgu9/Encode-3.16-cw8ydk/Byte'
make[1]: Entering directory '/tmp/loop_over_bdir-16643-4whgu9/Encode-3.16-cw8ydk/CN'
"/home/sand/src/perl/repoperls/installed-perls/host/k93bionic/v5.16.3/7ee9/bin/perl" -MExtUtils::Command::MM -e 'cp_nonempty' -- CN.bs ../blib/arch/auto/Encode/CN/CN.bs 644
No tests defined for Encode::CN extension.
make[1]: Leaving directory '/tmp/loop_over_bdir-16643-4whgu9/Encode-3.16-cw8ydk/CN'
make[1]: Entering directory '/tmp/loop_over_bdir-16643-4whgu9/Encode-3.16-cw8ydk/EBCDIC'
"/home/sand/src/perl/repoperls/installed-perls/host/k93bionic/v5.16.3/7ee9/bin/perl" -MExtUtils::Command::MM -e 'cp_nonempty' -- EBCDIC.bs ../blib/arch/auto/Encode/EBCDIC/EBCDIC.bs 644
No tests defined for Encode::EBCDIC extension.
make[1]: Leaving directory '/tmp/loop_over_bdir-16643-4whgu9/Encode-3.16-cw8ydk/EBCDIC'
make[1]: Entering directory '/tmp/loop_over_bdir-16643-4whgu9/Encode-3.16-cw8ydk/JP'
"/home/sand/src/perl/repoperls/installed-perls/host/k93bionic/v5.16.3/7ee9/bin/perl" -MExtUtils::Command::MM -e 'cp_nonempty' -- JP.bs ../blib/arch/auto/Encode/JP/JP.bs 644
No tests defined for Encode::JP extension.
make[1]: Leaving directory '/tmp/loop_over_bdir-16643-4whgu9/Encode-3.16-cw8ydk/JP'
make[1]: Entering directory '/tmp/loop_over_bdir-16643-4whgu9/Encode-3.16-cw8ydk/KR'
"/home/sand/src/perl/repoperls/installed-perls/host/k93bionic/v5.16.3/7ee9/bin/perl" -MExtUtils::Command::MM -e 'cp_nonempty' -- KR.bs ../blib/arch/auto/Encode/KR/KR.bs 644
No tests defined for Encode::KR extension.
make[1]: Leaving directory '/tmp/loop_over_bdir-16643-4whgu9/Encode-3.16-cw8ydk/KR'
make[1]: Entering directory '/tmp/loop_over_bdir-16643-4whgu9/Encode-3.16-cw8ydk/Symbol'
"/home/sand/src/perl/repoperls/installed-perls/host/k93bionic/v5.16.3/7ee9/bin/perl" -MExtUtils::Command::MM -e 'cp_nonempty' -- Symbol.bs ../blib/arch/auto/Encode/Symbol/Symbol.bs 644
No tests defined for Encode::Symbol extension.
make[1]: Leaving directory '/tmp/loop_over_bdir-16643-4whgu9/Encode-3.16-cw8ydk/Symbol'
make[1]: Entering directory '/tmp/loop_over_bdir-16643-4whgu9/Encode-3.16-cw8ydk/TW'
"/home/sand/src/perl/repoperls/installed-perls/host/k93bionic/v5.16.3/7ee9/bin/perl" -MExtUtils::Command::MM -e 'cp_nonempty' -- TW.bs ../blib/arch/auto/Encode/TW/TW.bs 644
No tests defined for Encode::TW extension.
make[1]: Leaving directory '/tmp/loop_over_bdir-16643-4whgu9/Encode-3.16-cw8ydk/TW'
make[1]: Entering directory '/tmp/loop_over_bdir-16643-4whgu9/Encode-3.16-cw8ydk/Unicode'
"/home/sand/src/perl/repoperls/installed-perls/host/k93bionic/v5.16.3/7ee9/bin/perl" -MExtUtils::Command::MM -e 'cp_nonempty' -- Unicode.bs ../blib/arch/auto/Encode/Unicode/Unicode.bs 644
No tests defined for Encode::Unicode extension.
make[1]: Leaving directory '/tmp/loop_over_bdir-16643-4whgu9/Encode-3.16-cw8ydk/Unicode'
PERL_DL_NONLAZY=1 "/home/sand/src/perl/repoperls/installed-perls/host/k93bionic/v5.16.3/7ee9/bin/perl" "-MExtUtils::Command::MM" "-MTest::Harness" "-e" "undef *Test::Harness::Switches; test_harness(0, 'blib/lib', 'blib/arch')" t/*.t
t/Aliases.t ................ ok
t/at-cn.t .................. ok
t/at-tw.t .................. ok
t/CJKT.t ................... ok
t/cow.t .................... ok
t/decode.t ................. ok
t/enc_data.t ............... ok
t/enc_eucjp.t .............. ok
t/enc_module.t ............. ok
t/enc_utf8.t ............... ok
t/Encode.t ................. ok
t/Encoder.t ................ ok
t/encoding-locale.t ........ ok
t/encoding.t ............... ok
t/fallback.t ............... ok
t/from_to.t ................ ok
t/grow.t ................... ok
t/gsm0338.t ................ ok
t/guess.t .................. ok
t/isa.t .................... ok
t/jis7-fallback.t .......... ok
t/jperl.t .................. ok
t/magic.t .................. ok
t/mime-header.t ............ ok
t/mime-name.t .............. ok
t/mime_header_iso2022jp.t .. ok
t/perlio.t ................. ok
t/piconv.t ................. ok
t/rt113164.t ............... ok
t/rt65541.t ................ ok
t/rt76824.t ................ ok
t/rt85489.t ................ ok
t/rt86327.t ................ ok
t/taint.t .................. ok
t/truncated_utf8.t ......... ok
t/undef.t .................. ok
t/Unicode.t ................ ok
# temp file: /tmp/ZPcJqPtxTb
t/Unicode_trailing_nul.t ... ok
t/use-Encode-Alias.t ....... ok
t/utf8ref.t ................ ok
t/utf8strict.t ............. ok
t/utf8warnings.t ........... ok
t/whatwg-aliases.t ......... skipped: For maintainers only
t/xml.t .................... ok
All tests successful.
Test Summary Report
-------------------
t/truncated_utf8.t (Wstat: 0 Tests: 9 Failed: 0)
TODO passed: 9
Files=44, Tests=7778, 10 wallclock secs ( 0.44 usr 0.27 sys + 5.11 cusr 1.12 csys = 6.94 CPU)
Result: PASS
------------------------------
PREREQUISITES
------------------------------
Prerequisite modules loaded:
requires:
Module Need Have
------------------- ----- --------
Exporter 5.57 5.66
parent 0.221 0.225
Storable 0 2.34
build_requires:
Module Need Have
------------------- ----- --------
ExtUtils::MakeMaker 0 7.34
Test::More 0.92 1.302160
configure_requires:
Module Need Have
------------------- ----- --------
ExtUtils::MakeMaker 0 7.34
------------------------------
ENVIRONMENT AND OTHER CONTEXT
------------------------------
Environment variables:
AUTOMATED_TESTING = 1
LANG = en_US.utf8
PATH = /home/sand/bin:/usr/local/bin:/usr/local/sbin:/usr/sbin:/usr/bin:/sbin:/bin:/usr/games:/usr/local/games:/snap/bin:/usr/local/perl/bin:/usr/X11/bin
PERL5LIB =
PERL5OPT =
PERL5_CPANPLUS_IS_RUNNING = 16651
PERL5_CPAN_IS_RUNNING = 16651
PERL_CANARY_STABILITY_NOPROMPT = 1
PERL_MM_USE_DEFAULT = 1
SHELL = /usr/bin/zsh
TERM = screen
Perl special variables (and OS-specific diagnostics, for MSWin32):
$^X = /home/sand/src/perl/repoperls/installed-perls/host/k93bionic/v5.16.3/7ee9/bin/perl
$UID/$EUID = 1005 / 1005
$GID = 1005 1005
$EGID = 1005 1005
Perl module toolchain versions installed:
Module Have
------------------- --------
CPAN 1.9800
CPAN::Meta 2.150010
Cwd 3.39_02
ExtUtils::CBuilder 0.280206
ExtUtils::Command 7.34
ExtUtils::Install 2.06
ExtUtils::MakeMaker 7.34
ExtUtils::Manifest 1.70
ExtUtils::ParseXS 3.16
File::Spec 3.39_02
JSON n/a
JSON::PP 4.00
Module::Build 0.4224
Module::Signature 0.87
Parse::CPAN::Meta 2.150010
Test::Harness 3.42
Test::More 1.302160
YAML 1.27
YAML::Syck 1.31
version 0.9924
--
Summary of my perl5 (revision 5 version 16 subversion 3) configuration:
Derived from: fd04d42d38f4751b981eb6e9213ee1ab8ef11ea6
Platform:
osname=linux, osvers=4.15.0-43-generic, archname=x86_64-linux-thread-multi
uname='linux k93bionic 4.15.0-43-generic #46-ubuntu smp thu dec 6 14:45:28 utc 2018 x86_64 x86_64 x86_64 gnulinux '
config_args='-Dprefix=/home/sand/src/perl/repoperls/installed-perls/host/k93bionic/v5.16.3/7ee9 -Dmyhostname=k93bionic -Dinstallusrbinperl=n -Uversiononly -Dusedevel -des -Ui_db -Dlibswanted=cl pthread socket inet nsl gdbm dbm malloc dl ld sun m crypt sec util c cposix posix ucb BSD gdbm_compat -Duseithreads -Uuselongdouble -DEBUGGING=-g'
hint=recommended, useposix=true, d_sigaction=define
useithreads=define, usemultiplicity=define
useperlio=define, d_sfio=undef, uselargefiles=define, usesocks=undef
use64bitint=define, use64bitall=define, uselongdouble=undef
usemymalloc=n, bincompat5005=undef
Compiler:
cc='cc', ccflags ='-D_REENTRANT -D_GNU_SOURCE -fno-strict-aliasing -pipe -fstack-protector -I/usr/local/include -D_LARGEFILE_SOURCE -D_FILE_OFFSET_BITS=64',
optimize='-O2 -g',
cppflags='-D_REENTRANT -D_GNU_SOURCE -fno-strict-aliasing -pipe -fstack-protector -I/usr/local/include'
ccversion='', gccversion='7.3.0', gccosandvers=''
intsize=4, longsize=8, ptrsize=8, doublesize=8, byteorder=12345678
d_longlong=define, longlongsize=8, d_longdbl=define, longdblsize=16
ivtype='long', ivsize=8, nvtype='double', nvsize=8, Off_t='off_t', lseeksize=8
alignbytes=8, prototype=define
Linker and Libraries:
ld='cc', ldflags =' -fstack-protector -L/usr/local/lib'
libpth=/usr/local/lib /lib/x86_64-linux-gnu /lib/../lib /usr/lib/x86_64-linux-gnu /usr/lib/../lib /lib /usr/lib
libs=-lpthread -lnsl -ldl -lm -lcrypt -lutil -lc
perllibs=-lpthread -lnsl -ldl -lm -lcrypt -lutil -lc
libc=libc-2.27.so, so=so, useshrplib=false, libperl=libperl.a
gnulibc_version='2.27'
Dynamic Linking:
dlsrc=dl_dlopen.xs, dlext=so, d_dlsymun=undef, ccdlflags='-Wl,-E'
cccdlflags='-fPIC', lddlflags='-shared -O2 -g -L/usr/local/lib -fstack-protector'
Characteristics of this binary (from libperl):
Compile-time options: HAS_TIMES MULTIPLICITY PERLIO_LAYERS
PERL_DONT_CREATE_GVSV PERL_IMPLICIT_CONTEXT
PERL_MALLOC_WRAP PERL_PRESERVE_IVUV PERL_USE_DEVEL
USE_64_BIT_ALL USE_64_BIT_INT USE_ITHREADS
USE_LARGE_FILES USE_LOCALE USE_LOCALE_COLLATE
USE_LOCALE_CTYPE USE_LOCALE_NUMERIC USE_PERLIO
USE_PERL_ATOF USE_REENTRANT_API
Locally applied patches:
uncommitted-changes
Built under linux
Compiled at Feb 2 2019 08:10:04
%ENV:
PERL5LIB=""
PERL5OPT=""
PERL5_CPANPLUS_IS_RUNNING="16651"
PERL5_CPAN_IS_RUNNING="16651"
PERL_CANARY_STABILITY_NOPROMPT="1"
PERL_MM_USE_DEFAULT="1"
@INC:
/home/sand/src/perl/repoperls/installed-perls/host/k93bionic/v5.16.3/7ee9/lib/site_perl/5.16.3/x86_64-linux-thread-multi
/home/sand/src/perl/repoperls/installed-perls/host/k93bionic/v5.16.3/7ee9/lib/site_perl/5.16.3
/home/sand/src/perl/repoperls/installed-perls/host/k93bionic/v5.16.3/7ee9/lib/5.16.3/x86_64-linux-thread-multi
/home/sand/src/perl/repoperls/installed-perls/host/k93bionic/v5.16.3/7ee9/lib/5.16.3
.