Encode v3.16 Perl 5 v5.22.3 cygwin-thread-multi
- Status
- Pass
- From
- Jean-Damien Durand
- Dist
-
Encode v3.16
- Platform
- Perl 5 v5.22.3 cygwin-thread-multi
- Date
- 2022-01-02 14:00:31
- ID
- a8f8a8d2-6d6d-1014-bb25-0a7190cfa1b2
This distribution has been tested as part of the CPAN Testers
project, supporting the Perl programming language. See
http://wiki.cpantesters.org/ for more information or email
questions to cpan-testers-discuss@perl.org
--
Dear Dan Kogai,
This is a computer-generated report for Encode-3.16
on perl 5.22.3, created by CPAN-Reporter-1.2018.
Thank you for uploading your work to CPAN. Congratulations!
All tests were successful.
Sections of this report:
* Tester comments
* Program output
* Prerequisites
* Environment and other context
------------------------------
TESTER COMMENTS
------------------------------
Additional comments from tester:
this report is from an automated smoke testing program
and was not reviewed by a human for accuracy
------------------------------
PROGRAM OUTPUT
------------------------------
Output from '/usr/bin/make test':
"/usr/bin/perl.exe" -MExtUtils::Command::MM -e 'cp_nonempty' -- Encode.bs blib/arch/auto/Encode/Encode.bs 644
make[1]à: on entre dans le répertoire ëà/home/Jean-Damien/.cpan/build/Encode-3.16-S3vsMb/Byteàû
"/usr/bin/perl.exe" -MExtUtils::Command::MM -e 'cp_nonempty' -- Byte.bs ../blib/arch/auto/Encode/Byte/Byte.bs 644
make[1]à: on quitte le répertoire ëà/home/Jean-Damien/.cpan/build/Encode-3.16-S3vsMb/Byteàû
make[1]à: on entre dans le répertoire ëà/home/Jean-Damien/.cpan/build/Encode-3.16-S3vsMb/CNàû
"/usr/bin/perl.exe" -MExtUtils::Command::MM -e 'cp_nonempty' -- CN.bs ../blib/arch/auto/Encode/CN/CN.bs 644
make[1]à: on quitte le répertoire ëà/home/Jean-Damien/.cpan/build/Encode-3.16-S3vsMb/CNàû
make[1]à: on entre dans le répertoire ëà/home/Jean-Damien/.cpan/build/Encode-3.16-S3vsMb/EBCDICàû
"/usr/bin/perl.exe" -MExtUtils::Command::MM -e 'cp_nonempty' -- EBCDIC.bs ../blib/arch/auto/Encode/EBCDIC/EBCDIC.bs 644
make[1]à: on quitte le répertoire ëà/home/Jean-Damien/.cpan/build/Encode-3.16-S3vsMb/EBCDICàû
make[1]à: on entre dans le répertoire ëà/home/Jean-Damien/.cpan/build/Encode-3.16-S3vsMb/JPàû
"/usr/bin/perl.exe" -MExtUtils::Command::MM -e 'cp_nonempty' -- JP.bs ../blib/arch/auto/Encode/JP/JP.bs 644
make[1]à: on quitte le répertoire ëà/home/Jean-Damien/.cpan/build/Encode-3.16-S3vsMb/JPàû
make[1]à: on entre dans le répertoire ëà/home/Jean-Damien/.cpan/build/Encode-3.16-S3vsMb/KRàû
"/usr/bin/perl.exe" -MExtUtils::Command::MM -e 'cp_nonempty' -- KR.bs ../blib/arch/auto/Encode/KR/KR.bs 644
make[1]à: on quitte le répertoire ëà/home/Jean-Damien/.cpan/build/Encode-3.16-S3vsMb/KRàû
make[1]à: on entre dans le répertoire ëà/home/Jean-Damien/.cpan/build/Encode-3.16-S3vsMb/Symbolàû
"/usr/bin/perl.exe" -MExtUtils::Command::MM -e 'cp_nonempty' -- Symbol.bs ../blib/arch/auto/Encode/Symbol/Symbol.bs 644
make[1]à: on quitte le répertoire ëà/home/Jean-Damien/.cpan/build/Encode-3.16-S3vsMb/Symbolàû
make[1]à: on entre dans le répertoire ëà/home/Jean-Damien/.cpan/build/Encode-3.16-S3vsMb/TWàû
"/usr/bin/perl.exe" -MExtUtils::Command::MM -e 'cp_nonempty' -- TW.bs ../blib/arch/auto/Encode/TW/TW.bs 644
make[1]à: on quitte le répertoire ëà/home/Jean-Damien/.cpan/build/Encode-3.16-S3vsMb/TWàû
make[1]à: on entre dans le répertoire ëà/home/Jean-Damien/.cpan/build/Encode-3.16-S3vsMb/Unicodeàû
"/usr/bin/perl.exe" -MExtUtils::Command::MM -e 'cp_nonempty' -- Unicode.bs ../blib/arch/auto/Encode/Unicode/Unicode.bs 644
make[1]à: on quitte le répertoire ëà/home/Jean-Damien/.cpan/build/Encode-3.16-S3vsMb/Unicodeàû
make[1]à: on entre dans le répertoire ëà/home/Jean-Damien/.cpan/build/Encode-3.16-S3vsMb/Byteàû
"/usr/bin/perl.exe" -MExtUtils::Command::MM -e 'cp_nonempty' -- Byte.bs ../blib/arch/auto/Encode/Byte/Byte.bs 644
No tests defined for Encode::Byte extension.
make[1]à: on quitte le répertoire ëà/home/Jean-Damien/.cpan/build/Encode-3.16-S3vsMb/Byteàû
make[1]à: on entre dans le répertoire ëà/home/Jean-Damien/.cpan/build/Encode-3.16-S3vsMb/CNàû
"/usr/bin/perl.exe" -MExtUtils::Command::MM -e 'cp_nonempty' -- CN.bs ../blib/arch/auto/Encode/CN/CN.bs 644
No tests defined for Encode::CN extension.
make[1]à: on quitte le répertoire ëà/home/Jean-Damien/.cpan/build/Encode-3.16-S3vsMb/CNàû
make[1]à: on entre dans le répertoire ëà/home/Jean-Damien/.cpan/build/Encode-3.16-S3vsMb/EBCDICàû
"/usr/bin/perl.exe" -MExtUtils::Command::MM -e 'cp_nonempty' -- EBCDIC.bs ../blib/arch/auto/Encode/EBCDIC/EBCDIC.bs 644
No tests defined for Encode::EBCDIC extension.
make[1]à: on quitte le répertoire ëà/home/Jean-Damien/.cpan/build/Encode-3.16-S3vsMb/EBCDICàû
make[1]à: on entre dans le répertoire ëà/home/Jean-Damien/.cpan/build/Encode-3.16-S3vsMb/JPàû
"/usr/bin/perl.exe" -MExtUtils::Command::MM -e 'cp_nonempty' -- JP.bs ../blib/arch/auto/Encode/JP/JP.bs 644
No tests defined for Encode::JP extension.
make[1]à: on quitte le répertoire ëà/home/Jean-Damien/.cpan/build/Encode-3.16-S3vsMb/JPàû
make[1]à: on entre dans le répertoire ëà/home/Jean-Damien/.cpan/build/Encode-3.16-S3vsMb/KRàû
"/usr/bin/perl.exe" -MExtUtils::Command::MM -e 'cp_nonempty' -- KR.bs ../blib/arch/auto/Encode/KR/KR.bs 644
No tests defined for Encode::KR extension.
make[1]à: on quitte le répertoire ëà/home/Jean-Damien/.cpan/build/Encode-3.16-S3vsMb/KRàû
make[1]à: on entre dans le répertoire ëà/home/Jean-Damien/.cpan/build/Encode-3.16-S3vsMb/Symbolàû
"/usr/bin/perl.exe" -MExtUtils::Command::MM -e 'cp_nonempty' -- Symbol.bs ../blib/arch/auto/Encode/Symbol/Symbol.bs 644
No tests defined for Encode::Symbol extension.
make[1]à: on quitte le répertoire ëà/home/Jean-Damien/.cpan/build/Encode-3.16-S3vsMb/Symbolàû
make[1]à: on entre dans le répertoire ëà/home/Jean-Damien/.cpan/build/Encode-3.16-S3vsMb/TWàû
"/usr/bin/perl.exe" -MExtUtils::Command::MM -e 'cp_nonempty' -- TW.bs ../blib/arch/auto/Encode/TW/TW.bs 644
No tests defined for Encode::TW extension.
make[1]à: on quitte le répertoire ëà/home/Jean-Damien/.cpan/build/Encode-3.16-S3vsMb/TWàû
make[1]à: on entre dans le répertoire ëà/home/Jean-Damien/.cpan/build/Encode-3.16-S3vsMb/Unicodeàû
"/usr/bin/perl.exe" -MExtUtils::Command::MM -e 'cp_nonempty' -- Unicode.bs ../blib/arch/auto/Encode/Unicode/Unicode.bs 644
No tests defined for Encode::Unicode extension.
make[1]à: on quitte le répertoire ëà/home/Jean-Damien/.cpan/build/Encode-3.16-S3vsMb/Unicodeàû
PERL_DL_NONLAZY=1 "/usr/bin/perl.exe" "-MExtUtils::Command::MM" "-MTest::Harness" "-e" "undef *Test::Harness::Switches; test_harness(0, 'blib/lib', 'blib/arch')" t/*.t
t/Aliases.t ................ ok
t/at-cn.t .................. ok
t/at-tw.t .................. ok
t/CJKT.t ................... ok
t/cow.t .................... ok
t/decode.t ................. ok
t/enc_data.t ............... ok
t/enc_eucjp.t .............. ok
t/enc_module.t ............. ok
t/enc_utf8.t ............... ok
t/Encode.t ................. ok
t/Encoder.t ................ ok
t/encoding-locale.t ........ ok
t/encoding.t ............... ok
t/fallback.t ............... ok
t/from_to.t ................ ok
t/grow.t ................... ok
t/gsm0338.t ................ ok
t/guess.t .................. ok
t/isa.t .................... ok
t/jis7-fallback.t .......... ok
t/jperl.t .................. ok
t/magic.t .................. ok
t/mime-header.t ............ ok
t/mime-name.t .............. ok
t/mime_header_iso2022jp.t .. ok
t/perlio.t ................. ok
t/piconv.t ................. ok
t/rt113164.t ............... ok
t/rt65541.t ................ ok
t/rt76824.t ................ ok
t/rt85489.t ................ ok
t/rt86327.t ................ ok
t/taint.t .................. ok
t/truncated_utf8.t ......... ok
t/undef.t .................. ok
t/Unicode.t ................ ok
# temp file: /tmp/6ogUTu5CWq
t/Unicode_trailing_nul.t ... ok
t/use-Encode-Alias.t ....... ok
t/utf8ref.t ................ ok
t/utf8strict.t ............. ok
t/utf8warnings.t ........... ok
t/whatwg-aliases.t ......... skipped: For maintainers only
t/xml.t .................... ok
All tests successful.
Test Summary Report
-------------------
t/truncated_utf8.t (Wstat: 0 Tests: 9 Failed: 0)
TODO passed: 9
Files=44, Tests=7778, 34 wallclock secs ( 0.12 usr 0.25 sys + 9.82 cusr 20.75 csys = 30.95 CPU)
Result: PASS
------------------------------
PREREQUISITES
------------------------------
Prerequisite modules loaded:
requires:
Module Need Have
------------------- ----- --------
Exporter 5.57 5.72
parent 0.221 0.232
Storable 0 2.53_02
build_requires:
Module Need Have
------------------- ----- --------
ExtUtils::MakeMaker 0 7.24
Test::More 0.92 1.302091
configure_requires:
Module Need Have
------------------- ----- --------
ExtUtils::MakeMaker 0 7.24
------------------------------
ENVIRONMENT AND OTHER CONTEXT
------------------------------
Environment variables:
AUTOMATED_TESTING = 1
COMSPEC = C:\WINDOWS\system32\cmd.exe
LANG = fr_FR.UTF-8
NUMBER_OF_PROCESSORS = 4
PATH = /home/Jean-Damien/perl5/bin:/usr/local/bin:/usr/bin:/cygdrive/c/Program Files (x86)/Lenovo/FusionEngine:/cygdrive/c/Program Files (x86)/Intel/iCLS Client:/cygdrive/c/Program Files/Intel/iCLS Client:/cygdrive/c/Program Files (x86)/NVIDIA Corporation/PhysX/Common:/cygdrive/c/WINDOWS/system32:/cygdrive/c/WINDOWS:/cygdrive/c/WINDOWS/System32/Wbem:/cygdrive/c/WINDOWS/System32/WindowsPowerShell/v1.0:/cygdrive/c/Program Files/Intel/Intel(R) Management Engine Components/DAL:/cygdrive/c/Program Files/Intel/Intel(R) Management Engine Components/IPT:/cygdrive/c/Program Files (x86)/Intel/Intel(R) Management Engine Components/DAL:/cygdrive/c/Program Files (x86)/Intel/Intel(R) Management Engine Components/IPT:/cygdrive/c/Program Files (x86)/Common Files/lenovo/easyplussdk/bin:/cygdrive/c/Strawberry/perl-5.22.0.1-32bits/c/bin:/cygdrive/c/Strawberry/perl-5.22.0.1-32bits/perl/site/bin:/cygdrive/c/Strawberry/perl-5.22.0.1-32bits/perl/bin:/cygdrive/c/Program Files (x86)/Windows Kits/8.1/Windows Performance Toolkit:/cygdrive/c/WINDOWS/System32/OpenSSH:/cygdrive/c/Program Files/Microsoft SQL Server/110/Tools/Binn:/cygdrive/c/Program Files (x86)/Windows Kits/10/Windows Performance Toolkit:/cygdrive/c/Program Files (x86)/Lenovo/FusionEngine:/cygdrive/c/Program Files (x86)/Intel/iCLS Client:/cygdrive/c/Program Files/Intel/iCLS Client:/cygdrive/c/Program Files (x86)/NVIDIA Corporation/PhysX/Common:/cygdrive/c/WINDOWS/system32:/cygdrive/c/WINDOWS:/cygdrive/c/WINDOWS/System32/Wbem:/cygdrive/c/WINDOWS/System32/WindowsPowerShell/v1.0:/cygdrive/c/Program Files/Intel/Intel(R) Management Engine Components/DAL:/cygdrive/c/Program Files/Intel/Intel(R) Management Engine Components/IPT:/cygdrive/c/Program Files (x86)/Intel/Intel(R) Management Engine Components/DAL:/cygdrive/c/Program Files (x86)/Intel/Intel(R) Management Engine Components/IPT:/cygdrive/c/Program Files (x86)/Common Files/lenovo/easyplussdk/bin:/cygdrive/c/Strawberry/perl-5.22.0.1-32bits/c/bin:/cygdrive/c/Strawberry/perl-5.22.0.1-32bits/perl/site/bin:/cygdrive/c/Strawberry/perl-5.22.0.1-32bits/perl/bin:/cygdrive/c/Program Files (x86)/Windows Kits/8.1/Windows Performance Toolkit:/cygdrive/c/WINDOWS/System32/OpenSSH:/cygdrive/c/Program Files/Microsoft SQL Server/110/Tools/Binn:/cygdrive/c/Program Files (x86)/Windows Kits/10/Windows Performance Toolkit:/cygdrive/c/Users/Jean-Damien/AppData/Local/GitHub/PortableGit_c2ba306e536fdf878271f7fe636a147ff37326ad/bin:/cygdrive/c/Users/Jean-Damien/AppData/Local/Microsoft/WindowsApps:/cygdrive/c/Program Files (x86)/Dr. Memory/bin:/cygdrive/c/Program Files/CMake/bin
PERL5LIB = /home/Jean-Damien/.cpan/build/Text-CSV_XS-1.47-BJRlpL/blib/arch:/home/Jean-Damien/.cpan/build/Text-CSV_XS-1.47-BJRlpL/blib/lib:/home/Jean-Damien/perl5/lib/perl5
PERL5OPT =
PERL5_CPANPLUS_IS_RUNNING = 15216
PERL5_CPAN_IS_RUNNING = 15216
PERL5_CPAN_IS_RUNNING_IN_RECURSION = 3368,15216
PERL_CR_SMOKER_CURRENT = DBD-CSV-0.59
PERL_EXTUTILS_AUTOINSTALL = --defaultdeps
PERL_LOCAL_LIB_ROOT = /home/Jean-Damien/perl5
PERL_MB_OPT = --install_base "/home/Jean-Damien/perl5"
PERL_MM_OPT = INSTALL_BASE=/home/Jean-Damien/perl5
PERL_MM_USE_DEFAULT = 1
PROCESSOR_IDENTIFIER = Intel64 Family 6 Model 69 Stepping 1, GenuineIntel
SHELL = /bin/bash
TEMP = /tmp
TERM = xterm
Perl special variables (and OS-specific diagnostics, for MSWin32):
$^X = /usr/bin/perl
$UID/$EUID = 197610 / 197610
$GID = 197121 197121 197611 559 545 4 66049 11 15 113 66048 262154 401408
$EGID = 197121 197121 197611 559 545 4 66049 11 15 113 66048 262154 401408
Perl module toolchain versions installed:
Module Have
------------------- --------
CPAN 2.11_01
CPAN::Meta 2.150010
Cwd 3.62
ExtUtils::CBuilder 0.280224
ExtUtils::Command 7.24
ExtUtils::Install 2.04
ExtUtils::MakeMaker 7.24
ExtUtils::Manifest 1.70
ExtUtils::ParseXS 3.28
File::Spec 3.62
JSON 2.90
JSON::PP 2.27400
Module::Build 0.4222
Module::Signature 0.81
Parse::CPAN::Meta 2.150010
Test::Harness 3.39
Test::More 1.302091
YAML 1.23
YAML::Syck 1.30
version 0.9909
--
Summary of my perl5 (revision 5 version 22 subversion 3) configuration:
Platform:
osname=cygwin, osvers=2.6.1(0.30553), archname=cygwin-thread-multi
uname='cygwin_nt-6.3 cygwin 2.6.1(0.30553) 2016-12-16 11:55 x86_64 cygwin '
config_args='-des -Dprefix=/usr -Dmksymlinks -Darchname=x86_64-cygwin-threads -Dlibperl=cygperl5_22.dll -Dcc=gcc -Dld=g++ -Accflags=-ggdb -O2 -pipe -Wimplicit-function-declaration -fdebug-prefix-map=/mnt/share/maint/perl.x86_64/build=/usr/src/debug/perl-5.22.3-1 -fdebug-prefix-map=/mnt/share/maint/perl.x86_64/src/perl-5.22.3=/usr/src/debug/perl-5.22.3-1 -fwrapv'
hint=recommended, useposix=true, d_sigaction=define
useithreads=define, usemultiplicity=define
use64bitint=define, use64bitall=define, uselongdouble=undef
usemymalloc=n, bincompat5005=undef
Compiler:
cc='gcc', ccflags ='-DPERL_USE_SAFE_PUTENV -D_GNU_SOURCE -U__STRICT_ANSI__ -ggdb -O2 -pipe -Wimplicit-function-declaration -fdebug-prefix-map=/mnt/share/maint/perl.x86_64/build=/usr/src/debug/perl-5.22.3-1 -fdebug-prefix-map=/mnt/share/maint/perl.x86_64/src/perl-5.22.3=/usr/src/debug/perl-5.22.3-1 -fwrapv -fno-strict-aliasing -fstack-protector-strong -D_FORTIFY_SOURCE=2',
optimize='-O3',
cppflags='-DPERL_USE_SAFE_PUTENV -D_GNU_SOURCE -U__STRICT_ANSI__ -ggdb -O2 -pipe -Wimplicit-function-declaration -fdebug-prefix-map=/mnt/share/maint/perl.x86_64/build=/usr/src/debug/perl-5.22.3-1 -fdebug-prefix-map=/mnt/share/maint/perl.x86_64/src/perl-5.22.3=/usr/src/debug/perl-5.22.3-1 -fwrapv -fno-strict-aliasing -fstack-protector-strong'
ccversion='', gccversion='5.4.0', gccosandvers=''
intsize=4, longsize=8, ptrsize=8, doublesize=8, byteorder=12345678, doublekind=3
d_longlong=define, longlongsize=8, d_longdbl=define, longdblsize=16, longdblkind=3
ivtype='long', ivsize=8, nvtype='double', nvsize=8, Off_t='off_t', lseeksize=8
alignbytes=8, prototype=define
Linker and Libraries:
ld='g++', ldflags =' -Wl,--enable-auto-import -Wl,--export-all-symbols -Wl,--enable-auto-image-base -fstack-protector-strong'
libpth=/usr/lib
libs=-lpthread -lgdbm -ldb -ldl -lcrypt -lgdbm_compat
perllibs=-lpthread -ldl -lcrypt
libc=/usr/lib/libcygwin.a, so=dll, useshrplib=true, libperl=cygperl5_22.dll
gnulibc_version=''
Dynamic Linking:
dlsrc=dl_dlopen.xs, dlext=dll, d_dlsymun=undef, ccdlflags=' '
cccdlflags=' ', lddlflags=' --shared -Wl,--enable-auto-import -Wl,--export-all-symbols -Wl,--enable-auto-image-base -fstack-protector-strong'
Characteristics of this binary (from libperl):
Compile-time options: HAS_TIMES MULTIPLICITY PERLIO_LAYERS
PERL_DONT_CREATE_GVSV
PERL_HASH_FUNC_ONE_AT_A_TIME_HARD
PERL_IMPLICIT_CONTEXT PERL_NEW_COPY_ON_WRITE
PERL_PRESERVE_IVUV PERL_USE_SAFE_PUTENV
USE_64_BIT_ALL USE_64_BIT_INT USE_ITHREADS
USE_LARGE_FILES USE_LOCALE USE_LOCALE_COLLATE
USE_LOCALE_CTYPE USE_LOCALE_NUMERIC USE_LOCALE_TIME
USE_PERLIO USE_PERL_ATOF USE_REENTRANT_API
Built under cygwin
Compiled at Jan 15 2017 13:11:06
%ENV:
PERL5LIB="/home/Jean-Damien/.cpan/build/Text-CSV_XS-1.47-BJRlpL/blib/arch:/home/Jean-Damien/.cpan/build/Text-CSV_XS-1.47-BJRlpL/blib/lib:/home/Jean-Damien/perl5/lib/perl5"
PERL5OPT=""
PERL5_CPANPLUS_IS_RUNNING="15216"
PERL5_CPAN_IS_RUNNING="15216"
PERL5_CPAN_IS_RUNNING_IN_RECURSION="3368,15216"
PERL_CR_SMOKER_CURRENT="DBD-CSV-0.59"
PERL_EXTUTILS_AUTOINSTALL="--defaultdeps"
PERL_LOCAL_LIB_ROOT="/home/Jean-Damien/perl5"
PERL_MB_OPT="--install_base "/home/Jean-Damien/perl5""
PERL_MM_OPT="INSTALL_BASE=/home/Jean-Damien/perl5"
PERL_MM_USE_DEFAULT="1"
@INC:
/home/Jean-Damien/.cpan/build/Text-CSV_XS-1.47-BJRlpL/blib/arch
/home/Jean-Damien/.cpan/build/Text-CSV_XS-1.47-BJRlpL/blib/lib
/home/Jean-Damien/perl5/lib/perl5/5.22.3/cygwin-thread-multi
/home/Jean-Damien/perl5/lib/perl5/5.22.3
/home/Jean-Damien/perl5/lib/perl5/cygwin-thread-multi
/home/Jean-Damien/perl5/lib/perl5
/usr/lib/perl5/site_perl/5.22/x86_64-cygwin-threads
/usr/lib/perl5/site_perl/5.22
/usr/lib/perl5/vendor_perl/5.22/x86_64-cygwin-threads
/usr/lib/perl5/vendor_perl/5.22
/usr/lib/perl5/5.22/x86_64-cygwin-threads
/usr/lib/perl5/5.22
.