Yancy v1.088 Perl 5 v5.34.1 x86_64-linux
- Status
- Pass
- From
- Slaven Rezić
- Dist
-
Yancy v1.088
- Platform
- Perl 5 v5.34.1 x86_64-linux
- Date
- 2022-03-18 20:47:43
- ID
- a8f7c120-a6fc-11ec-8cd9-94281f24ea8f
This distribution has been tested as part of the CPAN Testers
project, supporting the Perl programming language. See
http://wiki.cpantesters.org/ for more information or email
questions to cpan-testers-discuss@perl.org
--
Dear Doug Bell,
This is a computer-generated report for Yancy-1.088
on perl 5.34.1, created by CPAN-Reporter-1.2018.
Thank you for uploading your work to CPAN. Congratulations!
All tests were successful.
Sections of this report:
* Tester comments
* Program output
* Prerequisites
* Environment and other context
------------------------------
TESTER COMMENTS
------------------------------
Additional comments from tester:
none provided
------------------------------
PROGRAM OUTPUT
------------------------------
Output from '/usr/bin/make test':
Skip blib/lib/auto/share/dist/Yancy/update_resources.sh (unchanged)
PERL_DL_NONLAZY=1 "/opt/perl-5.34.1/bin/perl" "-MExtUtils::Command::MM" "-MTest::Harness" "-e" "undef *Test::Harness::Switches; test_harness(0, 'blib/lib', 'blib/arch')" t/*.t t/backend/*.t t/command/backend/*.t t/controller/*.t t/examples/*.t t/plugin/*.t t/plugin/auth/*.t t/plugin/form/*.t
t/00-compile.t ............... ok
#
# Versions for all modules listed in MYMETA.json (including optional ones):
#
# === Configure Requires ===
#
# Module Want Have
# ----------------------- ---- ----
# ExtUtils::MakeMaker any 7.62
# File::ShareDir::Install 0.06 0.13
#
# === Configure Suggests ===
#
# Module Want Have
# -------- ------- ----
# JSON::PP 2.27300 4.06
#
# === Build Requires ===
#
# Module Want Have
# ------------------- ---- ----
# ExtUtils::MakeMaker any 7.62
#
# === Test Requires ===
#
# Module Want Have
# ------------------- -------- --------
# ExtUtils::MakeMaker any 7.62
# File::Spec any 3.80
# File::Temp 0.2307 0.2311
# IO::Handle any 1.46
# IPC::Open3 any 1.21
# Test::More 1.001005 1.302183
#
# === Test Recommends ===
#
# Module Want Have
# ---------- -------- --------
# CPAN::Meta 2.120900 2.150010
#
# === Runtime Requires ===
#
# Module Want Have
# ---------------------------- -------- --------
# Class::Method::Modifiers any 2.13
# Digest any 1.19
# Exporter any 5.76
# File::Spec::Functions any 3.80
# FindBin any 1.52
# JSON::Validator 5.00 5.05
# Mojolicious 9 9.22
# Mojolicious::Plugin::I18N 1.6 1.6
# Mojolicious::Plugin::OpenAPI 5.00 5.02
# Role::Tiny 2.000001 2.002004
# Scalar::Util any 1.61
# Sys::Hostname any 1.23
# Text::Balanced any 2.04
#
t/00-report-prereqs.t ........ ok
x-view is deprecated and will be removed in v2. Use Yancy::Model or your database's CREATE VIEW instead. at /home/cpansand/.cpan/build/2022031820/Yancy-1.088-0/blib/lib/Yancy/Model/Schema.pm line 283.
t/api.t ...................... ok
t/app.t ...................... ok
t/backend/dbic.t ............. skipped: SQL::Translator >= 0.11018 required for this test
t/backend/memory.t ........... ok
t/backend/mysql.t ............ skipped: Mojo::mysql >= 1.0 required for this test
t/backend/pg.t ............... skipped: Mojo::Pg >= 3.0 required for this test
t/backend/sqlite.t ........... ok
x-view is deprecated and will be removed in v2. Use Yancy::Model or your database's CREATE VIEW instead. at /home/cpansand/.cpan/build/2022031820/Yancy-1.088-0/blib/lib/Yancy/Model/Schema.pm line 283.
t/command/backend/copy.t ..... ok
x-view is deprecated and will be removed in v2. Use Yancy::Model or your database's CREATE VIEW instead. at /home/cpansand/.cpan/build/2022031820/Yancy-1.088-0/blib/lib/Yancy/Model/Schema.pm line 283.
t/config.t ................... ok
x-view is deprecated and will be removed in v2. Use Yancy::Model or your database's CREATE VIEW instead. at /home/cpansand/.cpan/build/2022031820/Yancy-1.088-0/blib/lib/Yancy/Model/Schema.pm line 283.
t/controller/multi_tenant.t .. ok
x-view is deprecated and will be removed in v2. Use Yancy::Model or your database's CREATE VIEW instead. at /home/cpansand/.cpan/build/2022031820/Yancy-1.088-0/blib/lib/Yancy/Model/Schema.pm line 283.
t/controller/yancy.t ......... ok
t/examples/doc-site.t ........ skipped: Set TEST_YANCY_EXAMPLES to run these tests
t/examples/limited-editor.t .. skipped: Set TEST_YANCY_EXAMPLES to run these tests
t/examples/test-app.t ........ skipped: Set TEST_YANCY_EXAMPLES to run these tests
t/examples/todo-app.t ........ skipped: Set TEST_YANCY_EXAMPLES to run these tests
x-view is deprecated and will be removed in v2. Use Yancy::Model or your database's CREATE VIEW instead. at /home/cpansand/.cpan/build/2022031820/Yancy-1.088-0/blib/lib/Yancy/Model/Schema.pm line 283.
[2022-03-18 20:13:39.27943] [13190] [fatal] [O-o-piSwruF-] Unknown filter: DOES.NOT.EXIST (schema: user, field: email) at /home/cpansand/.cpan/build/2022031820/Yancy-1.088-0/blib/lib/Mojolicious/Plugin/Yancy.pm line 889.
t/filter.t ................... ok
x-view is deprecated and will be removed in v2. Use Yancy::Model or your database's CREATE VIEW instead. at /home/cpansand/.cpan/build/2022031820/Yancy-1.088-0/blib/lib/Yancy/Model/Schema.pm line 283.
t/helpers.t .................. ok
x-view is deprecated and will be removed in v2. Use Yancy::Model or your database's CREATE VIEW instead. at /home/cpansand/.cpan/build/2022031820/Yancy-1.088-0/blib/lib/Yancy/Model/Schema.pm line 283.
t/i18n.t ..................... ok
t/model.t .................... ok
x-view is deprecated and will be removed in v2. Use Yancy::Model or your database's CREATE VIEW instead. at /home/cpansand/.cpan/build/2022031820/Yancy-1.088-0/blib/lib/Yancy/Model/Schema.pm line 283.
t/plugin/auth.t .............. ok
x-view is deprecated and will be removed in v2. Use Yancy::Model or your database's CREATE VIEW instead. at /home/cpansand/.cpan/build/2022031820/Yancy-1.088-0/blib/lib/Yancy/Model/Schema.pm line 283.
The Auth::Basic plugin is deprecated and will be removed in Yancy v2.000. Please migrate to the Auth::Password module.
at /home/cpansand/.cpan/build/2022031820/Yancy-1.088-0/blib/lib/Yancy/Plugin/Auth/Basic.pm line 256.
t/plugin/auth/basic.t ........ ok
x-view is deprecated and will be removed in v2. Use Yancy::Model or your database's CREATE VIEW instead. at /home/cpansand/.cpan/build/2022031820/Yancy-1.088-0/blib/lib/Yancy/Model/Schema.pm line 283.
t/plugin/auth/github.t ....... ok
x-view is deprecated and will be removed in v2. Use Yancy::Model or your database's CREATE VIEW instead. at /home/cpansand/.cpan/build/2022031820/Yancy-1.088-0/blib/lib/Yancy/Model/Schema.pm line 283.
t/plugin/auth/oauth2.t ....... ok
x-view is deprecated and will be removed in v2. Use Yancy::Model or your database's CREATE VIEW instead. at /home/cpansand/.cpan/build/2022031820/Yancy-1.088-0/blib/lib/Yancy/Model/Schema.pm line 283.
t/plugin/auth/password.t ..... ok
x-view is deprecated and will be removed in v2. Use Yancy::Model or your database's CREATE VIEW instead. at /home/cpansand/.cpan/build/2022031820/Yancy-1.088-0/blib/lib/Yancy/Model/Schema.pm line 283.
t/plugin/auth/token.t ........ ok
t/plugin/editor.t ............ ok
x-view is deprecated and will be removed in v2. Use Yancy::Model or your database's CREATE VIEW instead. at /home/cpansand/.cpan/build/2022031820/Yancy-1.088-0/blib/lib/Yancy/Model/Schema.pm line 283.
[2022-03-18 20:13:52.53265] [14308] [warn] *** Cannot verify that admin editor is behind authentication.
Add a Yancy Auth plugin, add a `route` to the Yancy plugin config,
or set `editor.require_user => undef` to silence this warning
t/plugin/file.t .............. ok
x-view is deprecated and will be removed in v2. Use Yancy::Model or your database's CREATE VIEW instead. at /home/cpansand/.cpan/build/2022031820/Yancy-1.088-0/blib/lib/Yancy/Model/Schema.pm line 283.
[2022-03-18 20:13:53.48178] [14355] [warn] [AR_LP4Hccj7s] form_for() called with incomplete request. CSRF token may not validate!
t/plugin/form/bootstrap4.t ... ok
x-view is deprecated and will be removed in v2. Use Yancy::Model or your database's CREATE VIEW instead. at /home/cpansand/.cpan/build/2022031820/Yancy-1.088-0/blib/lib/Yancy/Model/Schema.pm line 283.
t/plugin/roles.t ............. ok
# Could not load Pg backend: Mojo::Pg version 4.03 or higher required
# BEGIN failed--compilation aborted at /home/cpansand/.cpan/build/2022031820/Yancy-1.088-0/blib/lib/Yancy/Backend/Pg.pm line 128.
# Compilation failed in require at t/register.t line 37.
# Could not load Mysql backend: Mojo::mysql version 1.05 or higher required
# BEGIN failed--compilation aborted at /home/cpansand/.cpan/build/2022031820/Yancy-1.088-0/blib/lib/Yancy/Backend/Mysql.pm line 119.
# Compilation failed in require at t/register.t line 53.
t/register.t ................. ok
t/util.t ..................... ok
All tests successful.
Files=33, Tests=220, 42 wallclock secs ( 0.25 usr 0.07 sys + 33.58 cusr 2.23 csys = 36.13 CPU)
Result: PASS
------------------------------
PREREQUISITES
------------------------------
Prerequisite modules loaded:
requires:
Module Need Have
---------------------------- -------- --------
Class::Method::Modifiers 0 2.13
Digest 0 1.19
Exporter 0 5.76
File::Spec::Functions 0 3.80
FindBin 0 1.52
JSON::Validator 5.00 5.05
Mojolicious 9 9.22
Mojolicious::Plugin::I18N 1.6 1.6
Mojolicious::Plugin::OpenAPI 5.00 5.02
perl 5.016 5.034001
Role::Tiny 2.000001 2.002004
Scalar::Util 0 1.61
Sys::Hostname 0 1.23
Text::Balanced 0 2.04
build_requires:
Module Need Have
---------------------------- -------- --------
ExtUtils::MakeMaker 0 7.62
File::Spec 0 3.80
File::Temp 0.2307 0.2311
IO::Handle 0 1.46
IPC::Open3 0 1.21
Test::More 1.001005 1.302183
configure_requires:
Module Need Have
---------------------------- -------- --------
ExtUtils::MakeMaker 0 7.62
File::ShareDir::Install 0.06 0.13
------------------------------
ENVIRONMENT AND OTHER CONTEXT
------------------------------
Environment variables:
LANG = en_US.UTF-8
PATH = /usr/local/bin:/usr/bin:/bin:/usr/local/sbin:/usr/sbin:/sbin:/home/cpansand/bin/linux-gnu:/home/cpansand/bin/sh:/home/cpansand/bin:/usr/games:/home/cpansand/devel:/home/eserte/src/srezic-misc/scripts
PERL5LIB =
PERL5OPT =
PERL5_CPANPLUS_IS_RUNNING = 10577
PERL5_CPAN_IS_RUNNING = 10577
PERL5_CPAN_IS_RUNNING_IN_RECURSION = 10520,10577
PERLDOC = -MPod::Perldoc::ToTextOverstrike
PERL_BATCH = yes
PERL_CANARY_STABILITY_NOPROMPT = 1
PERL_CPAN_REPORTER_CONFIG = /var/tmp/cpansmoker-1023/2022031820/cpanreporter_002_config.ini
PERL_EXTUTILS_AUTOINSTALL = --defaultdeps
PERL_USE_UNSAFE_INC = 1
SHELL = /usr/bin/zsh
TERM = screen
TMPDIR = /var/tmp/cpansmoker-1023/2022031820
Perl special variables (and OS-specific diagnostics, for MSWin32):
$^X = /opt/perl-5.34.1/bin/perl
$UID/$EUID = 1023 / 1023
$GID = 1023 1023
$EGID = 1023 1023
Perl module toolchain versions installed:
Module Have
------------------- --------
CPAN 2.28
CPAN::Meta 2.150010
Cwd 3.80
ExtUtils::CBuilder 0.280236
ExtUtils::Command 7.62
ExtUtils::Install 2.20
ExtUtils::MakeMaker 7.62
ExtUtils::Manifest 1.73
ExtUtils::ParseXS 3.43
File::Spec 3.80
JSON 4.05
JSON::PP 4.06
Module::Build 0.4231
Module::Signature n/a
Parse::CPAN::Meta 2.150010
Test::Harness 3.43
Test::More 1.302183
YAML 1.30
YAML::Syck 1.34
version 0.9928
--
Summary of my perl5 (revision 5 version 34 subversion 1) configuration:
Platform:
osname=linux
osvers=3.10.0-1160.59.1.el7.x86_64
archname=x86_64-linux
uname='linux cloud3.bbbike.org 3.10.0-1160.59.1.el7.x86_64 #1 smp wed feb 23 16:47:03 utc 2022 x86_64 x86_64 x86_64 gnulinux '
config_args='-ds -e -Dprefix=/opt/perl-5.34.1 -Dcf_email=srezic@cpan.org'
hint=recommended
useposix=true
d_sigaction=define
useithreads=undef
usemultiplicity=undef
use64bitint=define
use64bitall=define
uselongdouble=undef
usemymalloc=n
default_inc_excludes_dot=define
Compiler:
cc='cc'
ccflags ='-fwrapv -fno-strict-aliasing -pipe -fstack-protector-strong -I/usr/local/include -D_LARGEFILE_SOURCE -D_FILE_OFFSET_BITS=64 -D_FORTIFY_SOURCE=2'
optimize='-O2'
cppflags='-fwrapv -fno-strict-aliasing -pipe -fstack-protector-strong -I/usr/local/include'
ccversion=''
gccversion='4.8.5 20150623 (Red Hat 4.8.5-44)'
gccosandvers=''
intsize=4
longsize=8
ptrsize=8
doublesize=8
byteorder=12345678
doublekind=3
d_longlong=define
longlongsize=8
d_longdbl=define
longdblsize=16
longdblkind=3
ivtype='long'
ivsize=8
nvtype='double'
nvsize=8
Off_t='off_t'
lseeksize=8
alignbytes=8
prototype=define
Linker and Libraries:
ld='cc'
ldflags =' -fstack-protector-strong -L/usr/local/lib'
libpth=/usr/local/lib /usr/lib /usr/lib64 /usr/local/lib64
libs=-lpthread -lnsl -lgdbm -ldb -ldl -lm -lcrypt -lutil -lc -lgdbm_compat
perllibs=-lpthread -lnsl -ldl -lm -lcrypt -lutil -lc
libc=libc-2.17.so
so=so
useshrplib=false
libperl=libperl.a
gnulibc_version='2.17'
Dynamic Linking:
dlsrc=dl_dlopen.xs
dlext=so
d_dlsymun=undef
ccdlflags='-Wl,-E'
cccdlflags='-fPIC'
lddlflags='-shared -O2 -L/usr/local/lib -fstack-protector-strong'
Characteristics of this binary (from libperl):
Compile-time options:
HAS_TIMES
PERLIO_LAYERS
PERL_COPY_ON_WRITE
PERL_DONT_CREATE_GVSV
PERL_MALLOC_WRAP
PERL_OP_PARENT
PERL_PRESERVE_IVUV
USE_64_BIT_ALL
USE_64_BIT_INT
USE_LARGE_FILES
USE_LOCALE
USE_LOCALE_COLLATE
USE_LOCALE_CTYPE
USE_LOCALE_NUMERIC
USE_LOCALE_TIME
USE_PERLIO
USE_PERL_ATOF
Built under linux
Compiled at Mar 17 2022 06:47:25
%ENV:
PERL5LIB=""
PERL5OPT=""
PERL5_CPANPLUS_IS_RUNNING="10577"
PERL5_CPAN_IS_RUNNING="10577"
PERL5_CPAN_IS_RUNNING_IN_RECURSION="10520,10577"
PERLDOC="-MPod::Perldoc::ToTextOverstrike"
PERL_BATCH="yes"
PERL_CANARY_STABILITY_NOPROMPT="1"
PERL_CPAN_REPORTER_CONFIG="/var/tmp/cpansmoker-1023/2022031820/cpanreporter_002_config.ini"
PERL_EXTUTILS_AUTOINSTALL="--defaultdeps"
PERL_USE_UNSAFE_INC="1"
@INC:
/opt/perl-5.34.1/lib/site_perl/5.34.1/x86_64-linux
/opt/perl-5.34.1/lib/site_perl/5.34.1
/opt/perl-5.34.1/lib/5.34.1/x86_64-linux
/opt/perl-5.34.1/lib/5.34.1
.