FunctionalPerl v0.72.66 Perl 5 v5.18.4 x86_64-linux

Status
Pass
From
Slaven Rezić
Dist
FunctionalPerl v0.72.66
Platform
Perl 5 v5.18.4 x86_64-linux
Date
2022-10-25 21:26:15
ID
a86a4b12-54ab-11ed-80ec-8b016e8775ea
This distribution has been tested as part of the CPAN Testers
project, supporting the Perl programming language.  See
http://wiki.cpantesters.org/ for more information or email
questions to cpan-testers-discuss@perl.org


--
Dear Christian Jaeger,

This is a computer-generated report for FunctionalPerl-0.72.66
on perl 5.18.4, created by CPAN-Reporter-1.2018.

Thank you for uploading your work to CPAN.  Congratulations!
All tests were successful.

Sections of this report:

    * Tester comments
    * Program output
    * Prerequisites
    * Environment and other context

------------------------------
TESTER COMMENTS
------------------------------

Additional comments from tester:

none provided

------------------------------
PROGRAM OUTPUT
------------------------------

Output from '/usr/bin/make test':

PERL_DL_NONLAZY=1 "/opt/perl-5.18.4/bin/perl" "-MExtUtils::Command::MM" "-MTest::Harness" "-e" "undef *Test::Harness::Switches; test_harness(0, 'blib/lib', 'blib/arch')" t/*.t
t/csv_to_xml.t ........................... ok
t/dbi.t .................................. ok
t/examples-csv-to-json.t ................. skipped: Need perl 5.20.0 or later for feature signatures at (eval 10) line 1.
times for fib: user = 0.09, system = 0, cuser = 0, csystem = 0
times for fibonacci: user = 0.08, system = 0, cuser = 0, csystem = 0
t/examples-fibs.t ........................ ok
t/examples-functional-classes.t .......... ok
t/examples-hiring-without-whiteboards.t .. skipped: Perl v5.20.0 required--this is only v5.18.4, stopped at (eval 10) line 2.
t/examples-logic.t ....................... skipped: Perl v5.20.0 required--this is only v5.18.4, stopped at (eval 10) line 2.
t/examples-perlweekly-111-1.t ............ skipped: Need perl 5.20.0 or later for feature signatures at (eval 10) line 1.
t/examples-perlweekly-113-1.t ............ skipped: Need perl 5.20.0 or later for feature signatures at (eval 10) line 1.
t/examples-perlweekly-113-2.t ............ skipped: Need perl 5.20.0 or later for feature signatures at (eval 10) line 1.
t/examples-primes.t ...................... skipped: could not use Method::Signatures
t/functional_XML-t-div.t ................. ok
t/functional_XML-test.t .................. ok
t/htmlgen.t .............................. skipped: Perl v5.20.0 required--this is only v5.18.4, stopped at (eval 10) line 2.
not activating since running in test mode at intro//../lib/FP/Repl/AutoTrap.pm line 64.
t/intro-basics.t ......................... ok
t/perl-goto-leak.t ....................... ok
t/perl-weaken-coderef-correctness.t ...... ok
t/perl-weaken-coderef.t .................. ok
Argument "2/8" isn't numeric in numeric eq (==) at lib/FP/Collection.pm line 104.
Argument "2/8" isn't numeric in numeric eq (==) at lib/FP/Collection.pm line 104.
Argument "3/8" isn't numeric in numeric eq (==) at lib/FP/Collection.pm line 104.
Argument "2/8" isn't numeric in numeric eq (==) at lib/FP/Collection.pm line 104.
Argument "3/8" isn't numeric in numeric eq (==) at lib/FP/Collection.pm line 104.
Argument "2/8" isn't numeric in numeric eq (==) at lib/FP/Collection.pm line 104.
NOTE: can't load FP::SortedPureArray: Need perl 5.20.0 or later for feature signatures at lib/FP/SortedPureArray.pm line 36. at lib/FunctionalPerl.pm line 310.
t/pod_snippets.t ......................... ok
t/predicates.t ........................... ok
t/repl.t ................................. ok
not activating since running in test mode at lib/FP/Repl/AutoTrap.pm line 64.
not activating since running in test mode at lib/FP/Repl/Trap.pm line 47.
Reference is already weak at lib/FP/Stream.pm line 769.
t/require_and_run_tests.t ................ ok
t/skip-internal.t ........................ ok
t/skip-leak.t ............................ ok
t/skip.t ................................. ok
t/testlazy.t ............................. ok
t/testlazy10.t ........................... ok
t/trampoline-fix.t ....................... skipped: Test requires module 'Method::Signatures' but it's not found
All tests successful.
Files=28, Tests=164, 14 wallclock secs ( 0.13 usr  0.02 sys +  8.74 cusr  1.36 csys = 10.25 CPU)
Result: PASS

------------------------------
PREREQUISITES
------------------------------

Prerequisite modules loaded:

requires:

    Module              Need     Have    
    ------------------- -------- --------
    autobox             0        v3.0.1  
    base                0        2.18    
    Digest              0        1.17    
    File::Path          0        2.18    
    Getopt::Long        0        2.52    
    Import::Into        0        1.002005
    Math::BigInt        0        1.999837
    NEXT                0        0.65    
    overload            0        1.22    
    perl                5.016004 5.018004
    PerlIO::utf8_strict 0        0.009   
    Safe::Isa           0        1.000010
    Scalar::Util        0        1.63    
    Symbol              0        1.07    
    Test::More          0.96     1.302191
    utf8                0        1.10    
    warnings            0        1.18    

build_requires:

    Module              Need     Have    
    ------------------- -------- --------
    BSD::Resource       0        1.2911  
    Capture::Tiny       0        0.48    
    DBD::CSV            0        0.59    
    DBI                 0        1.643   
    ExtUtils::MakeMaker 0        7.64    
    Sub::Util           0        1.63    
    Test::Pod::Snippets 0        0.07    
    Test::Requires      0        0.11    
    Text::CSV           0        2.02    
    URI                 0        5.16    

configure_requires:

    Module              Need     Have    
    ------------------- -------- --------
    ExtUtils::MakeMaker 0        7.64    


------------------------------
ENVIRONMENT AND OTHER CONTEXT
------------------------------

Environment variables:

    LANG = en_US.UTF-8
    PATH = /usr/local/bin:/usr/bin:/bin:/usr/local/sbin:/usr/sbin:/sbin:/home/cpansand/bin/linux-gnu:/home/cpansand/bin/sh:/home/cpansand/bin:/usr/games:/home/cpansand/devel:/home/eserte/src/srezic-misc/scripts
    PERL5LIB = /home/cpansand/.cpan/build/2022102520/Test-Pod-Snippets-0.07-0/blib/arch:/home/cpansand/.cpan/build/2022102520/Test-Pod-Snippets-0.07-0/blib/lib:/home/cpansand/.cpan/build/2022102520/MooseX-SemiAffordanceAccessor-0.10-0/blib/arch:/home/cpansand/.cpan/build/2022102520/MooseX-SemiAffordanceAccessor-0.10-0/blib/lib:/home/cpansand/.cpan/build/2022102520/Module-Locate-1.80-0/blib/arch:/home/cpansand/.cpan/build/2022102520/Module-Locate-1.80-0/blib/lib:/home/cpansand/.cpan/build/2022102520/DBD-CSV-0.59-0/blib/arch:/home/cpansand/.cpan/build/2022102520/DBD-CSV-0.59-0/blib/lib:/home/cpansand/.cpan/build/2022102520/SQL-Statement-1.414-0/blib/arch:/home/cpansand/.cpan/build/2022102520/SQL-Statement-1.414-0/blib/lib:/home/cpansand/.cpan/build/2022102520/Math-Base-Convert-0.11-0/blib/arch:/home/cpansand/.cpan/build/2022102520/Math-Base-Convert-0.11-0/blib/lib:/home/cpansand/.cpan/build/2022102520/BSD-Resource-1.2911-0/blib/arch:/home/cpansand/.cpan/build/2022102520/BSD-Resource-1.2911-0/blib/lib
    PERL5OPT = 
    PERL5_CPANPLUS_IS_RUNNING = 13515
    PERL5_CPAN_IS_RUNNING = 13515
    PERL5_CPAN_IS_RUNNING_IN_RECURSION = 13482,13515
    PERLDOC = -MPod::Perldoc::ToTextOverstrike
    PERL_BATCH = yes
    PERL_CANARY_STABILITY_NOPROMPT = 1
    PERL_CPAN_REPORTER_CONFIG = /var/tmp/cpansmoker-1023/2022102520/cpanreporter_002_config.ini
    PERL_EXTUTILS_AUTOINSTALL = --defaultdeps
    PERL_USE_UNSAFE_INC = 1
    SHELL = /usr/bin/zsh
    TERM = screen
    TMPDIR = /var/tmp/cpansmoker-1023/2022102520

Perl special variables (and OS-specific diagnostics, for MSWin32):

    $^X = /opt/perl-5.18.4/bin/perl
    $UID/$EUID = 1023 / 1023
    $GID = 1023 1023
    $EGID = 1023 1023

Perl module toolchain versions installed:

    Module              Have    
    ------------------- --------
    CPAN                2.34    
    CPAN::Meta          2.150010
    Cwd                 3.75    
    ExtUtils::CBuilder  0.280236
    ExtUtils::Command   7.64    
    ExtUtils::Install   2.06    
    ExtUtils::MakeMaker 7.64    
    ExtUtils::Manifest  1.70    
    ExtUtils::ParseXS   3.44    
    File::Spec          3.75    
    JSON                4.10    
    JSON::PP            4.12    
    Module::Build       0.4231  
    Module::Signature   n/a     
    Parse::CPAN::Meta   2.150010
    Test::Harness       3.44    
    Test::More          1.302191
    YAML                1.30    
    YAML::Syck          1.34    
    version             0.9929  


--

Summary of my perl5 (revision 5 version 18 subversion 4) configuration:
   
  Platform:
    osname=linux, osvers=3.10.0-1160.76.1.el7.x86_64, archname=x86_64-linux
    uname='linux cloud3.bbbike.org 3.10.0-1160.76.1.el7.x86_64 #1 smp wed aug 10 16:21:17 utc 2022 x86_64 x86_64 x86_64 gnulinux '
    config_args='-ds -e -Dprefix=/opt/perl-5.18.4 -Dcf_email=srezic@cpan.org'
    hint=recommended, useposix=true, d_sigaction=define
    useithreads=undef, usemultiplicity=undef
    useperlio=define, d_sfio=undef, uselargefiles=define, usesocks=undef
    use64bitint=define, use64bitall=define, uselongdouble=undef
    usemymalloc=n, bincompat5005=undef
  Compiler:
    cc='cc', ccflags ='-fwrapv -fno-strict-aliasing -pipe -fstack-protector -I/usr/local/include -D_LARGEFILE_SOURCE -D_FILE_OFFSET_BITS=64',
    optimize='-O2',
    cppflags='-fwrapv -fno-strict-aliasing -pipe -fstack-protector -I/usr/local/include'
    ccversion='', gccversion='4.8.5 20150623 (Red Hat 4.8.5-44)', gccosandvers=''
    intsize=4, longsize=8, ptrsize=8, doublesize=8, byteorder=12345678
    d_longlong=define, longlongsize=8, d_longdbl=define, longdblsize=16
    ivtype='long', ivsize=8, nvtype='double', nvsize=8, Off_t='off_t', lseeksize=8
    alignbytes=8, prototype=define
  Linker and Libraries:
    ld='cc', ldflags =' -fstack-protector -L/usr/local/lib'
    libpth=/usr/local/lib /lib/../lib64 /usr/lib/../lib64 /lib /usr/lib /lib64 /usr/lib64 /usr/local/lib64
    libs=-lnsl -lgdbm -ldb -ldl -lm -lcrypt -lutil -lc -lgdbm_compat
    perllibs=-lnsl -ldl -lm -lcrypt -lutil -lc
    libc=libc-2.17.so, so=so, useshrplib=false, libperl=libperl.a
    gnulibc_version='2.17'
  Dynamic Linking:
    dlsrc=dl_dlopen.xs, dlext=so, d_dlsymun=undef, ccdlflags='-Wl,-E'
    cccdlflags='-fPIC', lddlflags='-shared -O2 -L/usr/local/lib -fstack-protector'


Characteristics of this binary (from libperl): 
  Compile-time options: HAS_TIMES PERLIO_LAYERS PERL_DONT_CREATE_GVSV
                        PERL_HASH_FUNC_ONE_AT_A_TIME_HARD PERL_MALLOC_WRAP
                        PERL_PRESERVE_IVUV PERL_SAWAMPERSAND USE_64_BIT_ALL
                        USE_64_BIT_INT USE_LARGE_FILES USE_LOCALE
                        USE_LOCALE_COLLATE USE_LOCALE_CTYPE
                        USE_LOCALE_NUMERIC USE_PERLIO USE_PERL_ATOF
  Locally applied patches:
	Devel::PatchPerl 2.08
  Built under linux
  Compiled at Sep 24 2022 07:25:39
  %ENV:
    PERL5LIB="/home/cpansand/.cpan/build/2022102520/Test-Pod-Snippets-0.07-0/blib/arch:/home/cpansand/.cpan/build/2022102520/Test-Pod-Snippets-0.07-0/blib/lib:/home/cpansand/.cpan/build/2022102520/MooseX-SemiAffordanceAccessor-0.10-0/blib/arch:/home/cpansand/.cpan/build/2022102520/MooseX-SemiAffordanceAccessor-0.10-0/blib/lib:/home/cpansand/.cpan/build/2022102520/Module-Locate-1.80-0/blib/arch:/home/cpansand/.cpan/build/2022102520/Module-Locate-1.80-0/blib/lib:/home/cpansand/.cpan/build/2022102520/DBD-CSV-0.59-0/blib/arch:/home/cpansand/.cpan/build/2022102520/DBD-CSV-0.59-0/blib/lib:/home/cpansand/.cpan/build/2022102520/SQL-Statement-1.414-0/blib/arch:/home/cpansand/.cpan/build/2022102520/SQL-Statement-1.414-0/blib/lib:/home/cpansand/.cpan/build/2022102520/Math-Base-Convert-0.11-0/blib/arch:/home/cpansand/.cpan/build/2022102520/Math-Base-Convert-0.11-0/blib/lib:/home/cpansand/.cpan/build/2022102520/BSD-Resource-1.2911-0/blib/arch:/home/cpansand/.cpan/build/2022102520/BSD-Resource-1.2911-0/blib/lib"
    PERL5OPT=""
    PERL5_CPANPLUS_IS_RUNNING="13515"
    PERL5_CPAN_IS_RUNNING="13515"
    PERL5_CPAN_IS_RUNNING_IN_RECURSION="13482,13515"
    PERLDOC="-MPod::Perldoc::ToTextOverstrike"
    PERL_BATCH="yes"
    PERL_CANARY_STABILITY_NOPROMPT="1"
    PERL_CPAN_REPORTER_CONFIG="/var/tmp/cpansmoker-1023/2022102520/cpanreporter_002_config.ini"
    PERL_EXTUTILS_AUTOINSTALL="--defaultdeps"
    PERL_USE_UNSAFE_INC="1"
  @INC:
    /home/cpansand/.cpan/build/2022102520/Test-Pod-Snippets-0.07-0/blib/arch
    /home/cpansand/.cpan/build/2022102520/Test-Pod-Snippets-0.07-0/blib/lib
    /home/cpansand/.cpan/build/2022102520/MooseX-SemiAffordanceAccessor-0.10-0/blib/arch
    /home/cpansand/.cpan/build/2022102520/MooseX-SemiAffordanceAccessor-0.10-0/blib/lib
    /home/cpansand/.cpan/build/2022102520/Module-Locate-1.80-0/blib/arch
    /home/cpansand/.cpan/build/2022102520/Module-Locate-1.80-0/blib/lib
    /home/cpansand/.cpan/build/2022102520/DBD-CSV-0.59-0/blib/arch
    /home/cpansand/.cpan/build/2022102520/DBD-CSV-0.59-0/blib/lib
    /home/cpansand/.cpan/build/2022102520/SQL-Statement-1.414-0/blib/arch
    /home/cpansand/.cpan/build/2022102520/SQL-Statement-1.414-0/blib/lib
    /home/cpansand/.cpan/build/2022102520/Math-Base-Convert-0.11-0/blib/arch
    /home/cpansand/.cpan/build/2022102520/Math-Base-Convert-0.11-0/blib/lib
    /home/cpansand/.cpan/build/2022102520/BSD-Resource-1.2911-0/blib/arch
    /home/cpansand/.cpan/build/2022102520/BSD-Resource-1.2911-0/blib/lib
    /opt/perl-5.18.4/lib/site_perl/5.18.4/x86_64-linux
    /opt/perl-5.18.4/lib/site_perl/5.18.4
    /opt/perl-5.18.4/lib/5.18.4/x86_64-linux
    /opt/perl-5.18.4/lib/5.18.4
    .