Dist-Zilla-PluginBundle-GitLab v1.0002 Perl 5 v5.34.0 armv6l-linux

Status
Pass
From
gregor herrmann
Dist
Dist-Zilla-PluginBundle-GitLab v1.0002
Platform
Perl 5 v5.34.0 armv6l-linux
Date
2022-01-10 10:18:29
ID
a7da36b6-71fe-11ec-8313-41e9fd09d84b
This distribution has been tested as part of the CPAN Testers
project, supporting the Perl programming language.  See
http://wiki.cpantesters.org/ for more information or email
questions to cpan-testers-discuss@perl.org


--
Dear D Ruth Holloway,

This is a computer-generated report for Dist-Zilla-PluginBundle-GitLab-1.0002
on perl 5.34.0, created by CPAN-Reporter-1.2018.

Thank you for uploading your work to CPAN.  Congratulations!
All tests were successful.

Sections of this report:

    * Tester comments
    * Program output
    * Prerequisites
    * Environment and other context

------------------------------
TESTER COMMENTS
------------------------------

Additional comments from tester:

this report is from an automated smoke testing program
and was not reviewed by a human for accuracy

------------------------------
PROGRAM OUTPUT
------------------------------

Output from '/usr/bin/make test':

PERL_DL_NONLAZY=1 "/srv/smoker/perl5/perlbrew/perls/perl-5.34.0/bin/perl" "-MExtUtils::Command::MM" "-MTest::Harness" "-e" "undef *Test::Harness::Switches; test_harness(0, 'blib/lib', 'blib/arch')" t/*.t t/tests/dist/zilla/app/command/*.t t/tests/dist/zilla/plugin/gitlab/*.t t/tests/dist/zilla/pluginbundle/*.t
t/00-compile.t ............................. ok
# 
# Versions for all modules listed in MYMETA.json (including optional ones):
# 
# === Configure Requires ===
# 
#     Module              Want Have
#     ------------------- ---- ----
#     ExtUtils::MakeMaker  any 7.64
# 
# === Build Requires ===
# 
#     Module              Want Have
#     ------------------- ---- ----
#     ExtUtils::MakeMaker  any 7.64
# 
# === Test Requires ===
# 
#     Module                Want     Have
#     --------------------- ---- --------
#     ExtUtils::MakeMaker    any     7.64
#     File::Spec             any     3.80
#     FindBin                any     1.52
#     IO::Handle             any     1.48
#     IPC::Open3             any     1.21
#     Path::Tiny             any    0.121
#     Test2::Tools::Compare  any 0.000144
#     Test2::Tools::Explain  any     0.02
#     Test2::Tools::JSON     any     0.05
#     Test2::V0              any 0.000144
#     Test::DZil             any    6.024
#     Test::More             any 1.302188
#     lib                    any     0.65
#     strict                 any     1.12
#     warnings               any     1.51
# 
# === Test Recommends ===
# 
#     Module         Want     Have
#     ---------- -------- --------
#     CPAN::Meta 2.120900 2.150010
# 
# === Runtime Requires ===
# 
#     Module                                Want       Have
#     ------------------------------------- ---- ----------
#     Carp                                   any       1.52
#     Class::Load                            any       0.25
#     Cwd                                    any       3.80
#     Data::Dumper                           any      2.183
#     Dist::Zilla::App                       any      6.024
#     Dist::Zilla::Dist::Minter              any      6.024
#     Dist::Zilla::Role::AfterMint           any      6.024
#     Dist::Zilla::Role::AfterRelease        any      6.024
#     Dist::Zilla::Role::MetaProvider        any      6.024
#     Dist::Zilla::Role::PluginBundle::Easy  any      6.024
#     Dist::Zilla::Role::TextTemplate        any      6.024
#     File::Basename                         any       2.85
#     Git::Wrapper                           any      0.048
#     HTTP::Tiny                             any      0.080
#     JSON::MaybeXS                          any   1.004003
#     List::Util                             any       1.60
#     Modern::Perl                           any 1.20200211
#     Moose                                  any     2.2201
#     Try::Tiny                              any       0.31
#     URL::Encode                            any       0.03
# 
t/00-report-prereqs.t ...................... ok
t/tests/dist/zilla/app/command/gl.t ........ skipped: Tests for dzil gl commands not yet written.
t/tests/dist/zilla/plugin/gitlab/create.t .. skipped: Tests not yet written.
t/tests/dist/zilla/plugin/gitlab/meta.t .... skipped: Tests not yet written.
t/tests/dist/zilla/plugin/gitlab/update.t .. ok
t/tests/dist/zilla/pluginbundle/gitlab.t ... skipped: Tests not yet written.
All tests successful.
Files=7, Tests=8, 370 wallclock secs ( 0.75 usr  0.07 sys + 101.01 cusr  4.55 csys = 106.38 CPU)
Result: PASS

------------------------------
PREREQUISITES
------------------------------

Prerequisite modules loaded:

requires:

    Module                                Need  Have      
    ------------------------------------- ----- ----------
    Carp                                  0     1.52      
    Class::Load                           0     0.25      
    Cwd                                   0     3.80      
    Data::Dumper                          0     2.183     
    Dist::Zilla::App                      0     6.024     
    Dist::Zilla::Dist::Minter             0     6.024     
    Dist::Zilla::Role::AfterMint          0     6.024     
    Dist::Zilla::Role::AfterRelease       0     6.024     
    Dist::Zilla::Role::MetaProvider       0     6.024     
    Dist::Zilla::Role::PluginBundle::Easy 0     6.024     
    Dist::Zilla::Role::TextTemplate       0     6.024     
    File::Basename                        0     2.85      
    Git::Wrapper                          0     0.048     
    HTTP::Tiny                            0     0.080     
    JSON::MaybeXS                         0     1.004003  
    List::Util                            0     1.60      
    Modern::Perl                          0     1.20200211
    Moose                                 0     2.2201    
    perl                                  5.008 5.034000  
    Try::Tiny                             0     0.31      
    URL::Encode                           0     0.03      

build_requires:

    Module                                Need  Have      
    ------------------------------------- ----- ----------
    ExtUtils::MakeMaker                   0     7.64      
    File::Spec                            0     3.80      
    FindBin                               0     1.52      
    IO::Handle                            0     1.48      
    IPC::Open3                            0     1.21      
    lib                                   0     0.65      
    Path::Tiny                            0     0.121     
    strict                                0     1.12      
    Test2::Tools::Compare                 0     0.000144  
    Test2::Tools::Explain                 0     0.02      
    Test2::Tools::JSON                    0     0.05      
    Test2::V0                             0     0.000144  
    Test::DZil                            0     6.024     
    Test::More                            0     1.302188  
    warnings                              0     1.51      

configure_requires:

    Module                                Need  Have      
    ------------------------------------- ----- ----------
    ExtUtils::MakeMaker                   0     7.64      


------------------------------
ENVIRONMENT AND OTHER CONTEXT
------------------------------

Environment variables:

    AUTOMATED_TESTING = 1
    LC_CTYPE = de_AT.utf8
    LD_LIBRARY_PATH = /usr/lib/libeatmydata
    NONINTERACTIVE_TESTING = 1
    PATH = /srv/smoker/bin:/usr/lib/ccache:/srv/smoker/perl5/perlbrew/bin:/srv/smoker/perl5/perlbrew/perls/perl-5.34.0/bin:/usr/local/bin:/usr/bin:/bin:/usr/local/games:/usr/games
    PERL5LIB = 
    PERL5OPT = 
    PERL5_CPANPLUS_IS_RUNNING = 4376
    PERL5_CPAN_IS_RUNNING = 4376
    PERL5_CPAN_IS_RUNNING_IN_RECURSION = 16022,4376
    PERLBREW_HOME = /srv/smoker/.perlbrew
    PERLBREW_MANPATH = /srv/smoker/perl5/perlbrew/perls/perl-5.34.0/man
    PERLBREW_PATH = /srv/smoker/perl5/perlbrew/bin:/srv/smoker/perl5/perlbrew/perls/perl-5.34.0/bin
    PERLBREW_PERL = perl-5.34.0
    PERLBREW_ROOT = /srv/smoker/perl5/perlbrew
    PERLBREW_SHELLRC_VERSION = 0.94
    PERLBREW_VERSION = 0.94
    PERL_CPANM_OPT = --prompt  --configure-timeout 300 --test-timeout 9000 --build-timeout 18000 --verify --from https://www.cpan.org
    PERL_CR_SMOKER_CURRENT = Dist-Zilla-PluginBundle-GitLab-1.0002
    PERL_EXTUTILS_AUTOINSTALL = --defaultdeps
    PERL_MM_USE_DEFAULT = 1
    PERL_TEST_TIME_OUT_FACTOR = 3
    PERL_TEST_TIME_OUT_FACTOR = 3
    PERL_USE_UNSAFE_INC = 1
    SHELL = /bin/bash
    TERM = screen-256color

Perl special variables (and OS-specific diagnostics, for MSWin32):

    $^X = /srv/smoker/perl5/perlbrew/perls/perl-5.34.0/bin/perl
    $UID/$EUID = 1111 / 1111
    $GID = 65534 65534
    $EGID = 65534 65534

Perl module toolchain versions installed:

    Module              Have    
    ------------------- --------
    CPAN                2.31    
    CPAN::Meta          2.150010
    Cwd                 3.80    
    ExtUtils::CBuilder  0.280236
    ExtUtils::Command   7.64    
    ExtUtils::Install   2.20    
    ExtUtils::MakeMaker 7.64    
    ExtUtils::Manifest  1.73    
    ExtUtils::ParseXS   3.44    
    File::Spec          3.80    
    JSON                4.04    
    JSON::PP            4.07    
    Module::Build       0.4231  
    Module::Signature   0.88    
    Parse::CPAN::Meta   2.150010
    Test::Harness       3.43_03 
    Test::More          1.302188
    YAML                1.30    
    YAML::Syck          1.34    
    version             0.9928  


--

Summary of my perl5 (revision 5 version 34 subversion 0) configuration:
   
  Platform:
    osname=linux
    osvers=5.10.17+
    archname=armv6l-linux
    uname='linux smoker 5.10.17+ #1414 fri apr 30 13:16:27 bst 2021 armv6l gnulinux '
    config_args='-de -Dprefix=/srv/smoker/perl5/perlbrew/perls/perl-5.34.0 -Aeval:scriptdir=/srv/smoker/perl5/perlbrew/perls/perl-5.34.0/bin'
    hint=recommended
    useposix=true
    d_sigaction=define
    useithreads=undef
    usemultiplicity=undef
    use64bitint=undef
    use64bitall=undef
    uselongdouble=undef
    usemymalloc=n
    default_inc_excludes_dot=define
  Compiler:
    cc='cc'
    ccflags ='-fwrapv -fno-strict-aliasing -pipe -fstack-protector-strong -I/usr/local/include -D_LARGEFILE_SOURCE -D_FILE_OFFSET_BITS=64 -D_FORTIFY_SOURCE=2'
    optimize='-O2'
    cppflags='-fwrapv -fno-strict-aliasing -pipe -fstack-protector-strong -I/usr/local/include'
    ccversion=''
    gccversion='10.2.1 20210110'
    gccosandvers=''
    intsize=4
    longsize=4
    ptrsize=4
    doublesize=8
    byteorder=1234
    doublekind=3
    d_longlong=define
    longlongsize=8
    d_longdbl=define
    longdblsize=8
    longdblkind=0
    ivtype='long'
    ivsize=4
    nvtype='double'
    nvsize=8
    Off_t='off_t'
    lseeksize=8
    alignbytes=8
    prototype=define
  Linker and Libraries:
    ld='cc'
    ldflags =' -fstack-protector-strong -L/usr/local/lib'
    libpth=/usr/local/lib /usr/lib/arm-linux-gnueabihf /usr/lib /lib/arm-linux-gnueabihf /lib
    libs=-lpthread -lnsl -ldb -ldl -lm -lcrypt -lutil -lc
    perllibs=-lpthread -lnsl -ldl -lm -lcrypt -lutil -lc
    libc=libc-2.31.so
    so=so
    useshrplib=false
    libperl=libperl.a
    gnulibc_version='2.31'
  Dynamic Linking:
    dlsrc=dl_dlopen.xs
    dlext=so
    d_dlsymun=undef
    ccdlflags='-Wl,-E'
    cccdlflags='-fPIC'
    lddlflags='-shared -O2 -L/usr/local/lib -fstack-protector-strong'


Characteristics of this binary (from libperl): 
  Compile-time options:
    HAS_TIMES
    PERLIO_LAYERS
    PERL_COPY_ON_WRITE
    PERL_DONT_CREATE_GVSV
    PERL_MALLOC_WRAP
    PERL_OP_PARENT
    PERL_PRESERVE_IVUV
    USE_LARGE_FILES
    USE_LOCALE
    USE_LOCALE_COLLATE
    USE_LOCALE_CTYPE
    USE_LOCALE_NUMERIC
    USE_LOCALE_TIME
    USE_PERLIO
    USE_PERL_ATOF
  Built under linux
  Compiled at May 21 2021 03:02:12
  %ENV:
    PERL5LIB=""
    PERL5OPT=""
    PERL5_CPANPLUS_IS_RUNNING="4376"
    PERL5_CPAN_IS_RUNNING="4376"
    PERL5_CPAN_IS_RUNNING_IN_RECURSION="16022,4376"
    PERLBREW_HOME="/srv/smoker/.perlbrew"
    PERLBREW_MANPATH="/srv/smoker/perl5/perlbrew/perls/perl-5.34.0/man"
    PERLBREW_PATH="/srv/smoker/perl5/perlbrew/bin:/srv/smoker/perl5/perlbrew/perls/perl-5.34.0/bin"
    PERLBREW_PERL="perl-5.34.0"
    PERLBREW_ROOT="/srv/smoker/perl5/perlbrew"
    PERLBREW_SHELLRC_VERSION="0.94"
    PERLBREW_VERSION="0.94"
    PERL_CPANM_OPT="--prompt  --configure-timeout 300 --test-timeout 9000 --build-timeout 18000 --verify --from https://www.cpan.org"
    PERL_CR_SMOKER_CURRENT="Dist-Zilla-PluginBundle-GitLab-1.0002"
    PERL_EXTUTILS_AUTOINSTALL="--defaultdeps"
    PERL_MM_USE_DEFAULT="1"
    PERL_TEST_TIME_OUT_FACTOR="3"
    PERL_USE_UNSAFE_INC="1"
  @INC:
    /srv/smoker/perl5/perlbrew/perls/perl-5.34.0/lib/site_perl/5.34.0/armv6l-linux
    /srv/smoker/perl5/perlbrew/perls/perl-5.34.0/lib/site_perl/5.34.0
    /srv/smoker/perl5/perlbrew/perls/perl-5.34.0/lib/5.34.0/armv6l-linux
    /srv/smoker/perl5/perlbrew/perls/perl-5.34.0/lib/5.34.0
    .