PPIx-QuoteLike v0.023 Perl 5 v5.10.1 x86_64-linux

Status
Pass
From
Slaven Rezić
Dist
PPIx-QuoteLike v0.023
Platform
Perl 5 v5.10.1 x86_64-linux
Date
2023-08-07 21:09:10
ID
a77cf014-3566-11ee-9797-a1296e8775ea
This distribution has been tested as part of the CPAN Testers
project, supporting the Perl programming language.  See
http://wiki.cpantesters.org/ for more information or email
questions to cpan-testers-discuss@perl.org


--
Dear Tom Wyant,

This is a computer-generated report for PPIx-QuoteLike-0.023
on perl 5.10.1, created by CPAN-Reporter-1.2018.

Thank you for uploading your work to CPAN.  Congratulations!
All tests were successful.

Sections of this report:

    * Tester comments
    * Program output
    * Prerequisites
    * Environment and other context

------------------------------
TESTER COMMENTS
------------------------------

Additional comments from tester:

none provided

------------------------------
PROGRAM OUTPUT
------------------------------

Output from './Build test':

t/basic.t ............................ ok
t/dump.t ............................. ok
t/locations.t ........................ ok
t/normalize_interpolation_for_ppi.t .. ok
t/parse.t ............................ ok
t/unit-adhoc.t ....................... ok
t/variables.t ........................ ok
t/version.t .......................... ok
All tests successful.
Files=8, Tests=742,  1 wallclock secs ( 0.06 usr  0.01 sys +  0.70 cusr  0.06 csys =  0.83 CPU)
Result: PASS

------------------------------
PREREQUISITES
------------------------------

Prerequisite modules loaded:

requires:

    Module        Need  Have    
    ------------- ----- --------
    base          0     2.14    
    Carp          0     1.50    
    constant      0     1.17    
    Encode        0     3.19    
    Exporter      0     5.63    
    List::Util    0     1.63    
    perl          5.006 5.010001
    PPI::Document 1.238 1.276   
    PPI::Dumper   1.238 1.276   
    re            0     0.09    
    Readonly      0     2.05    
    Scalar::Util  0     1.63    
    strict        0     1.04    
    warnings      0     1.06    

build_requires:

    Module        Need  Have    
    ------------- ----- --------
    charnames     0     1.07    
    Test::More    0.88  1.302191

configure_requires:

    Module        Need  Have    
    ------------- ----- --------
    lib           0     0.62    
    strict        0     1.04    
    warnings      0     1.06    


------------------------------
ENVIRONMENT AND OTHER CONTEXT
------------------------------

Environment variables:

    LANG = en_US.UTF-8
    PATH = /usr/local/bin:/usr/bin:/bin:/usr/local/sbin:/usr/sbin:/sbin:/home/e/eserte/bin/linux-gnu:/home/e/eserte/bin/sh:/home/e/eserte/bin:/home/e/eserte/bin/pistachio-perl/bin:/usr/games:/home/e/eserte/devel:/home/e/eserte/work2/fzf/bin:/home/e/eserte/src/srezic-misc/scripts
    PERL5LIB = /home/e/eserte/.cpan/build/2023080722/PPI-1.276-1/blib/arch:/home/e/eserte/.cpan/build/2023080722/PPI-1.276-1/blib/lib:/home/e/eserte/.cpan/build/2023080722/Test-SubCalls-1.10-1/blib/arch:/home/e/eserte/.cpan/build/2023080722/Test-SubCalls-1.10-1/blib/lib:/home/e/eserte/.cpan/build/2023080722/Hook-LexWrap-0.26-1/blib/arch:/home/e/eserte/.cpan/build/2023080722/Hook-LexWrap-0.26-1/blib/lib:/home/e/eserte/.cpan/build/2023080722/Test-Object-0.08-1/blib/arch:/home/e/eserte/.cpan/build/2023080722/Test-Object-0.08-1/blib/lib:/home/e/eserte/.cpan/build/2023080722/Task-Weaken-1.06-1/blib/arch:/home/e/eserte/.cpan/build/2023080722/Task-Weaken-1.06-1/blib/lib:/home/e/eserte/.cpan/build/2023080722/B-Keywords-1.26-9/blib/arch:/home/e/eserte/.cpan/build/2023080722/B-Keywords-1.26-9/blib/lib
    PERL5OPT = 
    PERL5_CPANPLUS_IS_RUNNING = 17147
    PERL5_CPAN_IS_RUNNING = 17147
    PERL5_CPAN_IS_RUNNING_IN_RECURSION = 15795,17147
    PERLDOC = -MPod::Perldoc::ToTextOverstrike
    PERL_BATCH = yes
    PERL_CANARY_STABILITY_NOPROMPT = 1
    PERL_CPAN_REPORTER_CONFIG = /var/tmp/cpansmoker-1000/2023080722/cpanreporter_001_config.ini
    PERL_EXTUTILS_AUTOINSTALL = --defaultdeps
    PERL_USE_UNSAFE_INC = 1
    SHELL = /bin/zsh
    STDPERL = perl
    TERM = xterm
    TMPDIR = /var/tmp/cpansmoker-1000/2023080722

Perl special variables (and OS-specific diagnostics, for MSWin32):

    $^X = /opt/perl-5.10.1/bin/perl
    $UID/$EUID = 1000 / 1000
    $GID = 1000 4 24 25 27 29 30 33 44 46 108 111 115 128 134 1000 1024
    $EGID = 1000 4 24 25 27 29 30 33 44 46 108 111 115 128 134 1000 1024

Perl module toolchain versions installed:

    Module              Have    
    ------------------- --------
    CPAN                2.34    
    CPAN::Meta          2.143240
    Cwd                 3.75    
    ExtUtils::CBuilder  0.280236
    ExtUtils::Command   7.64    
    ExtUtils::Install   2.06    
    ExtUtils::MakeMaker 7.64    
    ExtUtils::Manifest  1.70    
    ExtUtils::ParseXS   3.44    
    File::Spec          3.75    
    JSON                4.09    
    JSON::PP            4.11    
    Module::Build       0.4231  
    Module::Signature   n/a     
    Parse::CPAN::Meta   1.4414  
    Test::Harness       3.44    
    Test::More          1.302191
    YAML                1.30    
    YAML::Syck          1.34    
    version             0.9929  


--

Summary of my perl5 (revision 5 version 10 subversion 1) configuration:
   
  Platform:
    osname=linux, osvers=4.9.0-18-amd64, archname=x86_64-linux
    uname='linux cabulja 4.9.0-18-amd64 #1 smp debian 4.9.303-1 (2022-03-07) x86_64 gnulinux '
    config_args='-ds -e -Dprefix=/opt/perl-5.10.1 -Dcf_email=srezic@cpan.org'
    hint=recommended, useposix=true, d_sigaction=define
    useithreads=undef, usemultiplicity=undef
    useperlio=define, d_sfio=undef, uselargefiles=define, usesocks=undef
    use64bitint=define, use64bitall=define, uselongdouble=undef
    usemymalloc=n, bincompat5005=undef
  Compiler:
    cc='cc', ccflags ='-fwrapv -fno-strict-aliasing -pipe -fstack-protector -I/usr/local/include -D_LARGEFILE_SOURCE -D_FILE_OFFSET_BITS=64',
    optimize='-O2',
    cppflags='-fwrapv -fno-strict-aliasing -pipe -fstack-protector -I/usr/local/include'
    ccversion='', gccversion='6.3.0 20170516', gccosandvers=''
    intsize=4, longsize=8, ptrsize=8, doublesize=8, byteorder=12345678
    d_longlong=define, longlongsize=8, d_longdbl=define, longdblsize=16
    ivtype='long', ivsize=8, nvtype='double', nvsize=8, Off_t='off_t', lseeksize=8
    alignbytes=8, prototype=define
  Linker and Libraries:
    ld='cc', ldflags =' -fstack-protector -L/usr/local/lib'
    libpth=/usr/local/lib /lib/x86_64-linux-gnu /lib/../lib /usr/lib/x86_64-linux-gnu /usr/lib/../lib /lib /usr/lib
    libs=-lnsl -lgdbm -ldb -ldl -lm -lcrypt -lutil -lc -lgdbm_compat
    perllibs=-lnsl -ldl -lm -lcrypt -lutil -lc
    libc=libc-2.24.so, so=so, useshrplib=false, libperl=libperl.a
    gnulibc_version='2.24'
  Dynamic Linking:
    dlsrc=dl_dlopen.xs, dlext=so, d_dlsymun=undef, ccdlflags='-Wl,-E'
    cccdlflags='-fPIC', lddlflags='-shared -O2 -L/usr/local/lib -fstack-protector'


Characteristics of this binary (from libperl): 
  Compile-time options: PERL_DONT_CREATE_GVSV PERL_MALLOC_WRAP USE_64_BIT_ALL
                        USE_64_BIT_INT USE_LARGE_FILES USE_PERLIO
  Locally applied patches:
	Devel::PatchPerl 2.08
  Built under linux
  Compiled at Aug 16 2022 07:47:24
  %ENV:
    PERL5LIB="/home/e/eserte/.cpan/build/2023080722/PPI-1.276-1/blib/arch:/home/e/eserte/.cpan/build/2023080722/PPI-1.276-1/blib/lib:/home/e/eserte/.cpan/build/2023080722/Test-SubCalls-1.10-1/blib/arch:/home/e/eserte/.cpan/build/2023080722/Test-SubCalls-1.10-1/blib/lib:/home/e/eserte/.cpan/build/2023080722/Hook-LexWrap-0.26-1/blib/arch:/home/e/eserte/.cpan/build/2023080722/Hook-LexWrap-0.26-1/blib/lib:/home/e/eserte/.cpan/build/2023080722/Test-Object-0.08-1/blib/arch:/home/e/eserte/.cpan/build/2023080722/Test-Object-0.08-1/blib/lib:/home/e/eserte/.cpan/build/2023080722/Task-Weaken-1.06-1/blib/arch:/home/e/eserte/.cpan/build/2023080722/Task-Weaken-1.06-1/blib/lib:/home/e/eserte/.cpan/build/2023080722/B-Keywords-1.26-9/blib/arch:/home/e/eserte/.cpan/build/2023080722/B-Keywords-1.26-9/blib/lib"
    PERL5OPT=""
    PERL5_CPANPLUS_IS_RUNNING="17147"
    PERL5_CPAN_IS_RUNNING="17147"
    PERL5_CPAN_IS_RUNNING_IN_RECURSION="15795,17147"
    PERLDOC="-MPod::Perldoc::ToTextOverstrike"
    PERL_BATCH="yes"
    PERL_CANARY_STABILITY_NOPROMPT="1"
    PERL_CPAN_REPORTER_CONFIG="/var/tmp/cpansmoker-1000/2023080722/cpanreporter_001_config.ini"
    PERL_EXTUTILS_AUTOINSTALL="--defaultdeps"
    PERL_USE_UNSAFE_INC="1"
  @INC:
    /home/e/eserte/.cpan/build/2023080722/PPI-1.276-1/blib/arch
    /home/e/eserte/.cpan/build/2023080722/PPI-1.276-1/blib/lib
    /home/e/eserte/.cpan/build/2023080722/Test-SubCalls-1.10-1/blib/arch
    /home/e/eserte/.cpan/build/2023080722/Test-SubCalls-1.10-1/blib/lib
    /home/e/eserte/.cpan/build/2023080722/Hook-LexWrap-0.26-1/blib/arch
    /home/e/eserte/.cpan/build/2023080722/Hook-LexWrap-0.26-1/blib/lib
    /home/e/eserte/.cpan/build/2023080722/Test-Object-0.08-1/blib/arch
    /home/e/eserte/.cpan/build/2023080722/Test-Object-0.08-1/blib/lib
    /home/e/eserte/.cpan/build/2023080722/Task-Weaken-1.06-1/blib/arch
    /home/e/eserte/.cpan/build/2023080722/Task-Weaken-1.06-1/blib/lib
    /home/e/eserte/.cpan/build/2023080722/B-Keywords-1.26-9/blib/arch
    /home/e/eserte/.cpan/build/2023080722/B-Keywords-1.26-9/blib/lib
    /opt/perl-5.10.1/lib/5.10.1/x86_64-linux
    /opt/perl-5.10.1/lib/5.10.1
    /opt/perl-5.10.1/lib/site_perl/5.10.1/x86_64-linux
    /opt/perl-5.10.1/lib/site_perl/5.10.1
    .