Dancer2-Plugin-Auth-Extensible-Provider-DBIxClass v0.0902 Perl 5 v5.34.1 armv6l-linux

Status
Pass
From
gregor herrmann
Dist
Dancer2-Plugin-Auth-Extensible-Provider-DBIxClass v0.0902
Platform
Perl 5 v5.34.1 armv6l-linux
Date
2022-05-22 16:02:58
ID
a61f25b4-d9e8-11ec-8109-9aed05935239
This distribution has been tested as part of the CPAN Testers
project, supporting the Perl programming language.  See
http://wiki.cpantesters.org/ for more information or email
questions to cpan-testers-discuss@perl.org


--
Dear D Ruth Holloway,

This is a computer-generated report for Dancer2-Plugin-Auth-Extensible-Provider-DBIxClass-0.0902
on perl 5.34.1, created by CPAN-Reporter-1.2018.

Thank you for uploading your work to CPAN.  Congratulations!
All tests were successful.

Sections of this report:

    * Tester comments
    * Program output
    * Prerequisites
    * Environment and other context

------------------------------
TESTER COMMENTS
------------------------------

Additional comments from tester:

this report is from an automated smoke testing program
and was not reviewed by a human for accuracy

------------------------------
PROGRAM OUTPUT
------------------------------

Output from '/usr/bin/make test':

PERL_DL_NONLAZY=1 "/srv/smoker/perl5/perlbrew/perls/perl-5.34.1/bin/perl" "-MExtUtils::Command::MM" "-MTest::Harness" "-e" "undef *Test::Harness::Switches; test_harness(0, 'blib/lib', 'blib/arch')" t/*.t
t/00-compile.t ....................... ok
# 
# Versions for all modules listed in MYMETA.json (including optional ones):
# 
# === Configure Requires ===
# 
#     Module              Want Have
#     ------------------- ---- ----
#     ExtUtils::MakeMaker  any 7.64
# 
# === Build Requires ===
# 
#     Module              Want Have
#     ------------------- ---- ----
#     ExtUtils::MakeMaker  any 7.64
# 
# === Test Requires ===
# 
#     Module                                        Want       Have
#     -------------------------------------------- ----- ----------
#     DBIx::Class::Core                              any      undef
#     DBIx::Class::Schema                            any      undef
#     Dancer2                                        any   0.400000
#     Dancer2::Plugin::Auth::Extensible            0.620      0.710
#     Dancer2::Plugin::Auth::Extensible::Test        any      0.710
#     Dancer2::Plugin::Auth::Extensible::Test::App   any      0.710
#     Dancer2::Plugin::DBIx::Class                   any       1.06
#     DateTime::Format::SQLite                       any       0.11
#     ExtUtils::MakeMaker                            any       7.64
#     File::Spec                                     any       3.80
#     HTTP::Cookies                                  any       6.10
#     HTTP::Request::Common                          any       6.36
#     IO::Handle                                     any       1.48
#     IPC::Open3                                     any       1.21
#     Plack::Test                                    any      undef
#     SQL::Translator                                any       1.62
#     Test::Deep                                     any      1.130
#     Test::MockObject                               any 1.20200122
#     Test::More                                     any   1.302190
#     Test::Warn                                     any       0.36
#     base                                           any       2.27
#     lib                                            any       0.65
#     strict                                         any       1.12
#     warnings                                       any       1.51
# 
# === Test Recommends ===
# 
#     Module         Want     Have
#     ---------- -------- --------
#     CPAN::Meta 2.120900 2.150010
# 
# === Runtime Requires ===
# 
#     Module                                            Want       Have
#     ------------------------------------------------- ---- ----------
#     Carp                                               any       1.52
#     DBIx::Class::ResultClass::HashRefInflator          any      undef
#     Dancer2::Core::Types                               any   0.400000
#     Dancer2::Plugin::Auth::Extensible::Role::Provider  any      0.710
#     DateTime                                           any       1.58
#     Modern::Perl                                       any 1.20220515
#     Moo                                                any   2.005004
#     Scalar::Util                                       any       1.62
#     String::CamelCase                                  any       0.04
#     namespace::clean                                   any       0.27
# 
t/00-report-prereqs.t ................ ok
t/01-deprecation.t ................... ok
t/02-provider-dbixclass.t ............ ok
t/03-provider-dbic-user_as_object.t .. ok
All tests successful.
Files=5, Tests=60, 229 wallclock secs ( 2.31 usr  0.19 sys + 197.82 cusr  3.60 csys = 203.92 CPU)
Result: PASS

------------------------------
PREREQUISITES
------------------------------

Prerequisite modules loaded:

requires:

    Module                                            Need  Have      
    ------------------------------------------------- ----- ----------
    Carp                                              0     1.52      
    Dancer2::Core::Types                              0     0.400000  
    Dancer2::Plugin::Auth::Extensible::Role::Provider 0     0.710     
    DateTime                                          0     1.58      
    DBIx::Class::ResultClass::HashRefInflator         0     0         
    Modern::Perl                                      0     1.20220515
    Moo                                               0     2.005004  
    namespace::clean                                  0     0.27      
    perl                                              5.006 5.034001  
    Scalar::Util                                      0     1.62      
    String::CamelCase                                 0     0.04      

build_requires:

    Module                                            Need  Have      
    ------------------------------------------------- ----- ----------
    base                                              0     2.27      
    Dancer2                                           0     0.400000  
    Dancer2::Plugin::Auth::Extensible                 0.620 0.710     
    Dancer2::Plugin::Auth::Extensible::Test           0     0.710     
  ! Dancer2::Plugin::Auth::Extensible::Test::App      0     broken    
    Dancer2::Plugin::DBIx::Class                      0     1.06      
    DateTime::Format::SQLite                          0     0.11      
    DBIx::Class::Core                                 0     0         
    DBIx::Class::Schema                               0     0         
    ExtUtils::MakeMaker                               0     7.64      
    File::Spec                                        0     3.80      
    HTTP::Cookies                                     0     6.10      
    HTTP::Request::Common                             0     6.36      
    IO::Handle                                        0     1.48      
    IPC::Open3                                        0     1.21      
    lib                                               0     0.65      
    Plack::Test                                       0     0         
    SQL::Translator                                   0     1.62      
    strict                                            0     1.12      
    Test::Deep                                        0     1.130     
    Test::MockObject                                  0     1.20200122
    Test::More                                        0     1.302190  
    Test::Warn                                        0     0.36      
    warnings                                          0     1.51      

configure_requires:

    Module                                            Need  Have      
    ------------------------------------------------- ----- ----------
    ExtUtils::MakeMaker                               0     7.64      
    perl                                              5.006 5.034001  


------------------------------
ENVIRONMENT AND OTHER CONTEXT
------------------------------

Environment variables:

    AUTOMATED_TESTING = 1
    LC_CTYPE = de_AT.utf8
    LD_LIBRARY_PATH = /usr/lib/libeatmydata
    NONINTERACTIVE_TESTING = 1
    PATH = /srv/smoker/bin:/usr/lib/ccache:/srv/smoker/perl5/perlbrew/bin:/srv/smoker/perl5/perlbrew/perls/perl-5.34.1/bin:/usr/local/bin:/usr/bin:/bin:/usr/local/games:/usr/games
    PERL5LIB = 
    PERL5OPT = 
    PERL5_CPANPLUS_IS_RUNNING = 9412
    PERL5_CPAN_IS_RUNNING = 9412
    PERL5_CPAN_IS_RUNNING_IN_RECURSION = 8110,9412
    PERLBREW_HOME = /srv/smoker/.perlbrew
    PERLBREW_MANPATH = /srv/smoker/perl5/perlbrew/perls/perl-5.34.1/man
    PERLBREW_PATH = /srv/smoker/perl5/perlbrew/bin:/srv/smoker/perl5/perlbrew/perls/perl-5.34.1/bin
    PERLBREW_PERL = perl-5.34.1
    PERLBREW_ROOT = /srv/smoker/perl5/perlbrew
    PERLBREW_SHELLRC_VERSION = 0.94
    PERLBREW_VERSION = 0.94
    PERL_CPANM_OPT = --prompt  --configure-timeout 300 --build-timeout 18000 --test-timeout 18000 --from https://www.cpan.org
    PERL_CR_SMOKER_CURRENT = Dancer2-Plugin-Auth-Extensible-Provider-DBIxClass-0.0902
    PERL_EXTUTILS_AUTOINSTALL = --defaultdeps
    PERL_MM_USE_DEFAULT = 1
    PERL_TEST_TIME_OUT_FACTOR = 3
    PERL_TEST_TIME_OUT_FACTOR = 3
    PERL_USE_UNSAFE_INC = 1
    SHELL = /bin/bash
    TERM = screen-256color

Perl special variables (and OS-specific diagnostics, for MSWin32):

    $^X = /srv/smoker/perl5/perlbrew/perls/perl-5.34.1/bin/perl
    $UID/$EUID = 1111 / 1111
    $GID = 65534 65534
    $EGID = 65534 65534

Perl module toolchain versions installed:

    Module              Have    
    ------------------- --------
    CPAN                2.34    
    CPAN::Meta          2.150010
    Cwd                 3.80    
    ExtUtils::CBuilder  0.280236
    ExtUtils::Command   7.64    
    ExtUtils::Install   2.20    
    ExtUtils::MakeMaker 7.64    
    ExtUtils::Manifest  1.73    
    ExtUtils::ParseXS   3.43    
    File::Spec          3.80    
    JSON                4.06    
    JSON::PP            4.09    
    Module::Build       0.4231  
    Module::Signature   n/a     
    Parse::CPAN::Meta   2.150010
    Test::Harness       3.44    
    Test::More          1.302190
    YAML                1.30    
    YAML::Syck          1.34    
    version             0.9928  


--

Summary of my perl5 (revision 5 version 34 subversion 1) configuration:
   
  Platform:
    osname=linux
    osvers=5.10.103+
    archname=armv6l-linux
    uname='linux smoker 5.10.103+ #1530 tue mar 8 13:00:30 gmt 2022 armv6l gnulinux '
    config_args='-de -Dprefix=/srv/smoker/perl5/perlbrew/perls/perl-5.34.1 -Aeval:scriptdir=/srv/smoker/perl5/perlbrew/perls/perl-5.34.1/bin'
    hint=recommended
    useposix=true
    d_sigaction=define
    useithreads=undef
    usemultiplicity=undef
    use64bitint=undef
    use64bitall=undef
    uselongdouble=undef
    usemymalloc=n
    default_inc_excludes_dot=define
  Compiler:
    cc='cc'
    ccflags ='-fwrapv -fno-strict-aliasing -pipe -fstack-protector-strong -I/usr/local/include -D_LARGEFILE_SOURCE -D_FILE_OFFSET_BITS=64 -D_FORTIFY_SOURCE=2'
    optimize='-O2'
    cppflags='-fwrapv -fno-strict-aliasing -pipe -fstack-protector-strong -I/usr/local/include'
    ccversion=''
    gccversion='11.2.0'
    gccosandvers=''
    intsize=4
    longsize=4
    ptrsize=4
    doublesize=8
    byteorder=1234
    doublekind=3
    d_longlong=define
    longlongsize=8
    d_longdbl=define
    longdblsize=8
    longdblkind=0
    ivtype='long'
    ivsize=4
    nvtype='double'
    nvsize=8
    Off_t='off_t'
    lseeksize=8
    alignbytes=8
    prototype=define
  Linker and Libraries:
    ld='cc'
    ldflags =' -fstack-protector-strong -L/usr/local/lib'
    libpth=/usr/local/lib /usr/lib/arm-linux-gnueabihf /usr/lib /lib/arm-linux-gnueabihf /lib
    libs=-lpthread -lnsl -ldb -ldl -lm -lcrypt -lutil -lc
    perllibs=-lpthread -lnsl -ldl -lm -lcrypt -lutil -lc
    libc=libc-2.33.so
    so=so
    useshrplib=false
    libperl=libperl.a
    gnulibc_version='2.33'
  Dynamic Linking:
    dlsrc=dl_dlopen.xs
    dlext=so
    d_dlsymun=undef
    ccdlflags='-Wl,-E'
    cccdlflags='-fPIC'
    lddlflags='-shared -O2 -L/usr/local/lib -fstack-protector-strong'


Characteristics of this binary (from libperl): 
  Compile-time options:
    HAS_TIMES
    PERLIO_LAYERS
    PERL_COPY_ON_WRITE
    PERL_DONT_CREATE_GVSV
    PERL_MALLOC_WRAP
    PERL_OP_PARENT
    PERL_PRESERVE_IVUV
    USE_LARGE_FILES
    USE_LOCALE
    USE_LOCALE_COLLATE
    USE_LOCALE_CTYPE
    USE_LOCALE_NUMERIC
    USE_LOCALE_TIME
    USE_PERLIO
    USE_PERL_ATOF
  Built under linux
  Compiled at Mar 13 2022 15:16:00
  %ENV:
    PERL5LIB=""
    PERL5OPT=""
    PERL5_CPANPLUS_IS_RUNNING="9412"
    PERL5_CPAN_IS_RUNNING="9412"
    PERL5_CPAN_IS_RUNNING_IN_RECURSION="8110,9412"
    PERLBREW_HOME="/srv/smoker/.perlbrew"
    PERLBREW_MANPATH="/srv/smoker/perl5/perlbrew/perls/perl-5.34.1/man"
    PERLBREW_PATH="/srv/smoker/perl5/perlbrew/bin:/srv/smoker/perl5/perlbrew/perls/perl-5.34.1/bin"
    PERLBREW_PERL="perl-5.34.1"
    PERLBREW_ROOT="/srv/smoker/perl5/perlbrew"
    PERLBREW_SHELLRC_VERSION="0.94"
    PERLBREW_VERSION="0.94"
    PERL_CPANM_OPT="--prompt  --configure-timeout 300 --build-timeout 18000 --test-timeout 18000 --from https://www.cpan.org"
    PERL_CR_SMOKER_CURRENT="Dancer2-Plugin-Auth-Extensible-Provider-DBIxClass-0.0902"
    PERL_EXTUTILS_AUTOINSTALL="--defaultdeps"
    PERL_MM_USE_DEFAULT="1"
    PERL_TEST_TIME_OUT_FACTOR="3"
    PERL_USE_UNSAFE_INC="1"
  @INC:
    /srv/smoker/perl5/perlbrew/perls/perl-5.34.1/lib/site_perl/5.34.1/armv6l-linux
    /srv/smoker/perl5/perlbrew/perls/perl-5.34.1/lib/site_perl/5.34.1
    /srv/smoker/perl5/perlbrew/perls/perl-5.34.1/lib/5.34.1/armv6l-linux
    /srv/smoker/perl5/perlbrew/perls/perl-5.34.1/lib/5.34.1
    .