Encode v3.16 Perl 5 v5.32.1 x86_64-linux

Status
Pass
From
Slaven Rezić
Dist
Encode v3.16
Platform
Perl 5 v5.32.1 x86_64-linux
Date
2022-02-16 09:34:33
ID
a5f8d698-8f0b-11ec-8e4a-7f271f24ea8f
This distribution has been tested as part of the CPAN Testers
project, supporting the Perl programming language.  See
http://wiki.cpantesters.org/ for more information or email
questions to cpan-testers-discuss@perl.org


--
Dear Dan Kogai,

This is a computer-generated report for Encode-3.16
on perl 5.32.1, created by CPAN-Reporter-1.2018.

Thank you for uploading your work to CPAN.  Congratulations!
All tests were successful.

Sections of this report:

    * Tester comments
    * Program output
    * Prerequisites
    * Environment and other context

------------------------------
TESTER COMMENTS
------------------------------

Additional comments from tester:

none provided

------------------------------
PROGRAM OUTPUT
------------------------------

Output from '/usr/bin/make test':

"/opt/perl-5.32.1/bin/perl5.32.1" -MExtUtils::Command::MM -e 'cp_nonempty' -- Encode.bs blib/arch/auto/Encode/Encode.bs 644
make[1]: Verzeichnis „/home/slaven_rezic/.cpan/build/2022021610/Encode-3.16-0/Byte“ wird betreten
"/opt/perl-5.32.1/bin/perl5.32.1" -MExtUtils::Command::MM -e 'cp_nonempty' -- Byte.bs ../blib/arch/auto/Encode/Byte/Byte.bs 644
make[1]: Verzeichnis „/home/slaven_rezic/.cpan/build/2022021610/Encode-3.16-0/Byte“ wird verlassen
make[1]: Verzeichnis „/home/slaven_rezic/.cpan/build/2022021610/Encode-3.16-0/CN“ wird betreten
"/opt/perl-5.32.1/bin/perl5.32.1" -MExtUtils::Command::MM -e 'cp_nonempty' -- CN.bs ../blib/arch/auto/Encode/CN/CN.bs 644
make[1]: Verzeichnis „/home/slaven_rezic/.cpan/build/2022021610/Encode-3.16-0/CN“ wird verlassen
make[1]: Verzeichnis „/home/slaven_rezic/.cpan/build/2022021610/Encode-3.16-0/EBCDIC“ wird betreten
"/opt/perl-5.32.1/bin/perl5.32.1" -MExtUtils::Command::MM -e 'cp_nonempty' -- EBCDIC.bs ../blib/arch/auto/Encode/EBCDIC/EBCDIC.bs 644
make[1]: Verzeichnis „/home/slaven_rezic/.cpan/build/2022021610/Encode-3.16-0/EBCDIC“ wird verlassen
make[1]: Verzeichnis „/home/slaven_rezic/.cpan/build/2022021610/Encode-3.16-0/JP“ wird betreten
"/opt/perl-5.32.1/bin/perl5.32.1" -MExtUtils::Command::MM -e 'cp_nonempty' -- JP.bs ../blib/arch/auto/Encode/JP/JP.bs 644
make[1]: Verzeichnis „/home/slaven_rezic/.cpan/build/2022021610/Encode-3.16-0/JP“ wird verlassen
make[1]: Verzeichnis „/home/slaven_rezic/.cpan/build/2022021610/Encode-3.16-0/KR“ wird betreten
"/opt/perl-5.32.1/bin/perl5.32.1" -MExtUtils::Command::MM -e 'cp_nonempty' -- KR.bs ../blib/arch/auto/Encode/KR/KR.bs 644
make[1]: Verzeichnis „/home/slaven_rezic/.cpan/build/2022021610/Encode-3.16-0/KR“ wird verlassen
make[1]: Verzeichnis „/home/slaven_rezic/.cpan/build/2022021610/Encode-3.16-0/Symbol“ wird betreten
"/opt/perl-5.32.1/bin/perl5.32.1" -MExtUtils::Command::MM -e 'cp_nonempty' -- Symbol.bs ../blib/arch/auto/Encode/Symbol/Symbol.bs 644
make[1]: Verzeichnis „/home/slaven_rezic/.cpan/build/2022021610/Encode-3.16-0/Symbol“ wird verlassen
make[1]: Verzeichnis „/home/slaven_rezic/.cpan/build/2022021610/Encode-3.16-0/TW“ wird betreten
"/opt/perl-5.32.1/bin/perl5.32.1" -MExtUtils::Command::MM -e 'cp_nonempty' -- TW.bs ../blib/arch/auto/Encode/TW/TW.bs 644
make[1]: Verzeichnis „/home/slaven_rezic/.cpan/build/2022021610/Encode-3.16-0/TW“ wird verlassen
make[1]: Verzeichnis „/home/slaven_rezic/.cpan/build/2022021610/Encode-3.16-0/Unicode“ wird betreten
"/opt/perl-5.32.1/bin/perl5.32.1" -MExtUtils::Command::MM -e 'cp_nonempty' -- Unicode.bs ../blib/arch/auto/Encode/Unicode/Unicode.bs 644
make[1]: Verzeichnis „/home/slaven_rezic/.cpan/build/2022021610/Encode-3.16-0/Unicode“ wird verlassen
make[1]: Verzeichnis „/home/slaven_rezic/.cpan/build/2022021610/Encode-3.16-0/Byte“ wird betreten
"/opt/perl-5.32.1/bin/perl5.32.1" -MExtUtils::Command::MM -e 'cp_nonempty' -- Byte.bs ../blib/arch/auto/Encode/Byte/Byte.bs 644
No tests defined for Encode::Byte extension.
make[1]: Verzeichnis „/home/slaven_rezic/.cpan/build/2022021610/Encode-3.16-0/Byte“ wird verlassen
make[1]: Verzeichnis „/home/slaven_rezic/.cpan/build/2022021610/Encode-3.16-0/CN“ wird betreten
"/opt/perl-5.32.1/bin/perl5.32.1" -MExtUtils::Command::MM -e 'cp_nonempty' -- CN.bs ../blib/arch/auto/Encode/CN/CN.bs 644
No tests defined for Encode::CN extension.
make[1]: Verzeichnis „/home/slaven_rezic/.cpan/build/2022021610/Encode-3.16-0/CN“ wird verlassen
make[1]: Verzeichnis „/home/slaven_rezic/.cpan/build/2022021610/Encode-3.16-0/EBCDIC“ wird betreten
"/opt/perl-5.32.1/bin/perl5.32.1" -MExtUtils::Command::MM -e 'cp_nonempty' -- EBCDIC.bs ../blib/arch/auto/Encode/EBCDIC/EBCDIC.bs 644
No tests defined for Encode::EBCDIC extension.
make[1]: Verzeichnis „/home/slaven_rezic/.cpan/build/2022021610/Encode-3.16-0/EBCDIC“ wird verlassen
make[1]: Verzeichnis „/home/slaven_rezic/.cpan/build/2022021610/Encode-3.16-0/JP“ wird betreten
"/opt/perl-5.32.1/bin/perl5.32.1" -MExtUtils::Command::MM -e 'cp_nonempty' -- JP.bs ../blib/arch/auto/Encode/JP/JP.bs 644
No tests defined for Encode::JP extension.
make[1]: Verzeichnis „/home/slaven_rezic/.cpan/build/2022021610/Encode-3.16-0/JP“ wird verlassen
make[1]: Verzeichnis „/home/slaven_rezic/.cpan/build/2022021610/Encode-3.16-0/KR“ wird betreten
"/opt/perl-5.32.1/bin/perl5.32.1" -MExtUtils::Command::MM -e 'cp_nonempty' -- KR.bs ../blib/arch/auto/Encode/KR/KR.bs 644
No tests defined for Encode::KR extension.
make[1]: Verzeichnis „/home/slaven_rezic/.cpan/build/2022021610/Encode-3.16-0/KR“ wird verlassen
make[1]: Verzeichnis „/home/slaven_rezic/.cpan/build/2022021610/Encode-3.16-0/Symbol“ wird betreten
"/opt/perl-5.32.1/bin/perl5.32.1" -MExtUtils::Command::MM -e 'cp_nonempty' -- Symbol.bs ../blib/arch/auto/Encode/Symbol/Symbol.bs 644
No tests defined for Encode::Symbol extension.
make[1]: Verzeichnis „/home/slaven_rezic/.cpan/build/2022021610/Encode-3.16-0/Symbol“ wird verlassen
make[1]: Verzeichnis „/home/slaven_rezic/.cpan/build/2022021610/Encode-3.16-0/TW“ wird betreten
"/opt/perl-5.32.1/bin/perl5.32.1" -MExtUtils::Command::MM -e 'cp_nonempty' -- TW.bs ../blib/arch/auto/Encode/TW/TW.bs 644
No tests defined for Encode::TW extension.
make[1]: Verzeichnis „/home/slaven_rezic/.cpan/build/2022021610/Encode-3.16-0/TW“ wird verlassen
make[1]: Verzeichnis „/home/slaven_rezic/.cpan/build/2022021610/Encode-3.16-0/Unicode“ wird betreten
"/opt/perl-5.32.1/bin/perl5.32.1" -MExtUtils::Command::MM -e 'cp_nonempty' -- Unicode.bs ../blib/arch/auto/Encode/Unicode/Unicode.bs 644
No tests defined for Encode::Unicode extension.
make[1]: Verzeichnis „/home/slaven_rezic/.cpan/build/2022021610/Encode-3.16-0/Unicode“ wird verlassen
PERL_DL_NONLAZY=1 "/opt/perl-5.32.1/bin/perl5.32.1" "-MExtUtils::Command::MM" "-MTest::Harness" "-e" "undef *Test::Harness::Switches; test_harness(0, 'blib/lib', 'blib/arch')" t/*.t
t/Aliases.t ................ ok
t/at-cn.t .................. ok
t/at-tw.t .................. ok
t/CJKT.t ................... ok
t/cow.t .................... ok
t/decode.t ................. ok
t/enc_data.t ............... skipped: encoding pragma not supported in Perl 5.26
t/enc_eucjp.t .............. skipped: Perl <=5.25.2 or cperl required
t/enc_module.t ............. skipped: encoding pragma not supported in Perl 5.26
t/enc_utf8.t ............... skipped: Perl <=5.25.2 or cperl required
t/Encode.t ................. ok
t/Encoder.t ................ ok
t/encoding-locale.t ........ ok
t/encoding.t ............... skipped: encoding pragma not supported in Perl 5.26
t/fallback.t ............... ok
t/from_to.t ................ ok
t/grow.t ................... ok
t/gsm0338.t ................ ok
t/guess.t .................. ok
t/isa.t .................... ok
t/jis7-fallback.t .......... ok
t/jperl.t .................. skipped: encoding pragma not supported in Perl 5.26
t/magic.t .................. ok
t/mime-header.t ............ ok
t/mime-name.t .............. ok
t/mime_header_iso2022jp.t .. ok
t/perlio.t ................. ok
t/piconv.t ................. ok
t/rt113164.t ............... ok
t/rt65541.t ................ ok
t/rt76824.t ................ ok
t/rt85489.t ................ ok
t/rt86327.t ................ ok
t/taint.t .................. ok
t/truncated_utf8.t ......... ok
t/undef.t .................. ok
t/Unicode.t ................ ok
# temp file: /var/tmp/cpansmoker-1000/2022021610/HSWUgOag9r
t/Unicode_trailing_nul.t ... ok
t/use-Encode-Alias.t ....... ok
t/utf8ref.t ................ ok
t/utf8strict.t ............. ok
t/utf8warnings.t ........... ok
t/whatwg-aliases.t ......... skipped: For maintainers only
t/xml.t .................... ok
All tests successful.
Files=44, Tests=7711,  5 wallclock secs ( 0.38 usr  0.07 sys +  3.92 cusr  0.33 csys =  4.70 CPU)
Result: PASS

------------------------------
PREREQUISITES
------------------------------

Prerequisite modules loaded:

requires:

    Module              Need  Have    
    ------------------- ----- --------
    Exporter            5.57  5.74    
    parent              0.221 0.238   
    Storable            0     3.21    

build_requires:

    Module              Need  Have    
    ------------------- ----- --------
    ExtUtils::MakeMaker 0     7.58    
    Test::More          0.92  1.302183

configure_requires:

    Module              Need  Have    
    ------------------- ----- --------
    ExtUtils::MakeMaker 0     7.58    


------------------------------
ENVIRONMENT AND OTHER CONTEXT
------------------------------

Environment variables:

    LANG = de_DE.UTF-8
    LANGUAGE = de_DE
    PATH = /usr/angebote/perlroot/bin:/usr/local/bin:/usr/bin:/bin:/usr/local/sbin:/usr/sbin:/sbin:/home/slaven_rezic/bin/linux-gnu:/home/slaven_rezic/bin/sh:/home/slaven_rezic/bin:/home/slaven_rezic/bin/pistachio-perl/bin:/usr/games:/home/slaven_rezic/devel:/home/slaven_rezic/work/drafts-slaven.rezic/misc:/home/slaven_rezic/work2/fzf/bin:/home/slaven_rezic/src/srezic-misc/scripts
    PERL5LIB = /home/slaven_rezic/.cpan/build/2022021610/Text-CSV_XS-1.47-0/blib/arch:/home/slaven_rezic/.cpan/build/2022021610/Text-CSV_XS-1.47-0/blib/lib:/home/slaven_rezic/.cpan/build/2022021610/AnyData2-0.002-1/blib/arch:/home/slaven_rezic/.cpan/build/2022021610/AnyData2-0.002-1/blib/lib:/home/slaven_rezic/work/perl/lib/lib:/home/slaven_rezic/work/perl/lib-old/perl
    PERL5OPT = 
    PERL5_CPANPLUS_IS_RUNNING = 48201
    PERL5_CPAN_IS_RUNNING = 48201
    PERL5_CPAN_IS_RUNNING_IN_RECURSION = 47840,48201
    PERLDOC = -MPod::Perldoc::ToTextOverstrike
    PERL_BATCH = yes
    PERL_CANARY_STABILITY_NOPROMPT = 1
    PERL_CPAN_REPORTER_CONFIG = /var/tmp/cpansmoker-1000/2022021610/cpanreporter_000_config.ini
    PERL_EXTUTILS_AUTOINSTALL = --defaultdeps
    PERL_USE_UNSAFE_INC = 1
    SHELL = /bin/zsh
    STDPERL = /home/slaven_rezic/bin/pistachio-perl/bin/perl
    TERM = screen
    TMPDIR = /var/tmp/cpansmoker-1000/2022021610

Perl special variables (and OS-specific diagnostics, for MSWin32):

    $^X = /opt/perl-5.32.1/bin/perl5.32.1
    $UID/$EUID = 1000 / 1000
    $GID = 1000 4 24 27 30 46 121 131 132 135 138 1000 1002
    $EGID = 1000 4 24 27 30 46 121 131 132 135 138 1000 1002

Perl module toolchain versions installed:

    Module              Have    
    ------------------- --------
    CPAN                2.28    
    CPAN::Meta          2.150010
    Cwd                 3.78    
    ExtUtils::CBuilder  0.280235
    ExtUtils::Command   7.58    
    ExtUtils::Install   2.20    
    ExtUtils::MakeMaker 7.58    
    ExtUtils::Manifest  1.73    
    ExtUtils::ParseXS   3.40    
    File::Spec          3.78    
    JSON                4.03    
    JSON::PP            4.06    
    Module::Build       0.4231  
    Module::Signature   n/a     
    Parse::CPAN::Meta   2.150010
    Test::Harness       3.42    
    Test::More          1.302183
    YAML                1.30    
    YAML::Syck          1.34    
    version             0.9928  


--

Summary of my perl5 (revision 5 version 32 subversion 1) configuration:
   
  Platform:
    osname=linux
    osvers=5.4.0-64-generic
    archname=x86_64-linux
    uname='linux w0dja 5.4.0-64-generic #72-ubuntu smp fri jan 15 10:27:54 utc 2021 x86_64 x86_64 x86_64 gnulinux '
    config_args='-ds -e -Dprefix=/opt/perl-5.32.1 -Dcf_email=srezic@cpan.org'
    hint=recommended
    useposix=true
    d_sigaction=define
    useithreads=undef
    usemultiplicity=undef
    use64bitint=define
    use64bitall=define
    uselongdouble=undef
    usemymalloc=n
    default_inc_excludes_dot=define
    bincompat5005=undef
  Compiler:
    cc='cc'
    ccflags ='-fwrapv -fno-strict-aliasing -pipe -fstack-protector-strong -I/usr/local/include -D_LARGEFILE_SOURCE -D_FILE_OFFSET_BITS=64'
    optimize='-O2'
    cppflags='-fwrapv -fno-strict-aliasing -pipe -fstack-protector-strong -I/usr/local/include'
    ccversion=''
    gccversion='9.3.0'
    gccosandvers=''
    intsize=4
    longsize=8
    ptrsize=8
    doublesize=8
    byteorder=12345678
    doublekind=3
    d_longlong=define
    longlongsize=8
    d_longdbl=define
    longdblsize=16
    longdblkind=3
    ivtype='long'
    ivsize=8
    nvtype='double'
    nvsize=8
    Off_t='off_t'
    lseeksize=8
    alignbytes=8
    prototype=define
  Linker and Libraries:
    ld='cc'
    ldflags =' -fstack-protector-strong -L/usr/local/lib'
    libpth=/usr/local/lib /usr/include/x86_64-linux-gnu /usr/lib /lib/x86_64-linux-gnu /lib/../lib /usr/lib/x86_64-linux-gnu /usr/lib/../lib /lib /lib64 /usr/lib64
    libs=-lpthread -lnsl -ldb -ldl -lm -lcrypt -lutil -lc
    perllibs=-lpthread -lnsl -ldl -lm -lcrypt -lutil -lc
    libc=libc-2.31.so
    so=so
    useshrplib=false
    libperl=libperl.a
    gnulibc_version='2.31'
  Dynamic Linking:
    dlsrc=dl_dlopen.xs
    dlext=so
    d_dlsymun=undef
    ccdlflags='-Wl,-E'
    cccdlflags='-fPIC'
    lddlflags='-shared -O2 -L/usr/local/lib -fstack-protector-strong'


Characteristics of this binary (from libperl): 
  Compile-time options:
    HAS_TIMES
    PERLIO_LAYERS
    PERL_COPY_ON_WRITE
    PERL_DONT_CREATE_GVSV
    PERL_MALLOC_WRAP
    PERL_OP_PARENT
    PERL_PRESERVE_IVUV
    USE_64_BIT_ALL
    USE_64_BIT_INT
    USE_LARGE_FILES
    USE_LOCALE
    USE_LOCALE_COLLATE
    USE_LOCALE_CTYPE
    USE_LOCALE_NUMERIC
    USE_LOCALE_TIME
    USE_PERLIO
    USE_PERL_ATOF
  Built under linux
  Compiled at Feb  1 2021 16:43:07
  %ENV:
    PERL5LIB="/home/slaven_rezic/.cpan/build/2022021610/Text-CSV_XS-1.47-0/blib/arch:/home/slaven_rezic/.cpan/build/2022021610/Text-CSV_XS-1.47-0/blib/lib:/home/slaven_rezic/.cpan/build/2022021610/AnyData2-0.002-1/blib/arch:/home/slaven_rezic/.cpan/build/2022021610/AnyData2-0.002-1/blib/lib:/home/slaven_rezic/work/perl/lib/lib:/home/slaven_rezic/work/perl/lib-old/perl"
    PERL5OPT=""
    PERL5_CPANPLUS_IS_RUNNING="48201"
    PERL5_CPAN_IS_RUNNING="48201"
    PERL5_CPAN_IS_RUNNING_IN_RECURSION="47840,48201"
    PERLDOC="-MPod::Perldoc::ToTextOverstrike"
    PERL_BATCH="yes"
    PERL_CANARY_STABILITY_NOPROMPT="1"
    PERL_CPAN_REPORTER_CONFIG="/var/tmp/cpansmoker-1000/2022021610/cpanreporter_000_config.ini"
    PERL_EXTUTILS_AUTOINSTALL="--defaultdeps"
    PERL_USE_UNSAFE_INC="1"
  @INC:
    /home/slaven_rezic/.cpan/build/2022021610/Text-CSV_XS-1.47-0/blib/arch
    /home/slaven_rezic/.cpan/build/2022021610/Text-CSV_XS-1.47-0/blib/lib
    /home/slaven_rezic/.cpan/build/2022021610/AnyData2-0.002-1/blib/arch
    /home/slaven_rezic/.cpan/build/2022021610/AnyData2-0.002-1/blib/lib
    /home/slaven_rezic/work/perl/lib/lib
    /home/slaven_rezic/work/perl/lib-old/perl
    /opt/perl-5.32.1/lib/site_perl/5.32.1/x86_64-linux
    /opt/perl-5.32.1/lib/site_perl/5.32.1
    /opt/perl-5.32.1/lib/5.32.1/x86_64-linux
    /opt/perl-5.32.1/lib/5.32.1
    .