FFI-Platypus v1.10 Perl 5 v5.31.10 armv7l-linux

Status
Pass
From
Nigel Horne
Dist
FFI-Platypus v1.10
Platform
Perl 5 v5.31.10 armv7l-linux
Date
2020-04-09 18:19:26
ID
a5897138-7a8e-11ea-8667-a7b07fb715e7
This distribution has been tested as part of the CPAN Testers
project, supporting the Perl programming language.  See
http://wiki.cpantesters.org/ for more information or email
questions to cpan-testers-discuss@perl.org


--
Dear Graham Ollis,

This is a computer-generated report for FFI-Platypus-1.10
on perl 5.31.10, created by CPAN-Reporter-1.2018.

Thank you for uploading your work to CPAN.  Congratulations!
All tests were successful.

Sections of this report:

    * Tester comments
    * Program output
    * Prerequisites
    * Environment and other context

------------------------------
TESTER COMMENTS
------------------------------

Additional comments from tester:

this report is from an automated smoke testing program
and was not reviewed by a human for accuracy

------------------------------
PROGRAM OUTPUT
------------------------------

Output from '/usr/bin/make test':

"/home/smoker/perl5/perlbrew/perls/perl-5.31.10-ld/bin/perl5.31.10" -MExtUtils::Command::MM -e 'cp_nonempty' -- lib/FFI/Platypus.bs blib/arch/auto/FFI/Platypus/Platypus.bs 644
CC t/ffi/align.c
CC t/ffi/align_array.c
CC t/ffi/align_fixed.c
CC t/ffi/align_string.c
CC t/ffi/basic.c
CC t/ffi/closure.c
CC t/ffi/color.c
CC t/ffi/complex_double.c
CC t/ffi/complex_float.c
CC t/ffi/double.c
CC t/ffi/float.c
CC t/ffi/gh117.c
CC t/ffi/gh174.c
CC t/ffi/longdouble.c
CC t/ffi/memcmp4.c
CC t/ffi/meta.c
CC t/ffi/pointer.c
CC t/ffi/record.c
CC t/ffi/sint16.c
CC t/ffi/sint32.c
CC t/ffi/sint64.c
CC t/ffi/sint8.c
CC t/ffi/string.c
CC t/ffi/string_array.c
CC t/ffi/uint16.c
CC t/ffi/uint32.c
CC t/ffi/uint64.c
CC t/ffi/uint8.c
CC t/ffi/variadic.c
LD t/ffi/libtest.so
PERL_DL_NONLAZY=1 "/home/smoker/perl5/perlbrew/perls/perl-5.31.10-ld/bin/perl5.31.10" "-MExtUtils::Command::MM" "-MTest::Harness" "-e" "undef *Test::Harness::Switches; test_harness(0, 'blib/lib', 'blib/arch')" t/*.t
# 
# 
# 
# HARNESS_ACTIVE=1
# HARNESS_OPTIONS=
# HARNESS_VERSION=3.42
# PERL5LIB=/tmp/build/FFI-Platypus-1.10-0/blib/lib:/tmp/build/FFI-Platypus-1.10-0/blib/arch:/tmp/build/Math-Int64-0.54-0/blib/arch:/tmp/build/Math-Int64-0.54-0/blib/lib:/tmp/build/Alien-FFI-0.25-0/blib/arch:/tmp/build/Alien-FFI-0.25-0/blib/lib:/tmp/build/Sort-Versions-1.62-0/blib/arch:/tmp/build/Sort-Versions-1.62-0/blib/lib:/tmp/build/Alien-Build-2.19-0/blib/arch:/tmp/build/Alien-Build-2.19-0/blib/lib:/tmp/build/PkgConfig-0.23026-0/blib/arch:/tmp/build/PkgConfig-0.23026-0/blib/lib:/tmp/build/FFI-CheckLib-0.26-0/blib/arch:/tmp/build/FFI-CheckLib-0.26-0/blib/lib:/tmp/build/Test2-Suite-0.000129-0/blib/arch:/tmp/build/Test2-Suite-0.000129-0/blib/lib:/tmp/build/Term-Table-0.015-0/blib/arch:/tmp/build/Term-Table-0.015-0/blib/lib:/tmp/build/Sub-Info-0.002-0/blib/arch:/tmp/build/Sub-Info-0.002-0/blib/lib:/tmp/build/Scope-Guard-0.21-0/blib/arch:/tmp/build/Scope-Guard-0.21-0/blib/lib:/tmp/build/Module-Pluggable-5.2-0/blib/arch:/tmp/build/Module-Pluggable-5.2-0/blib/lib:/tmp/build/Importer-0.025-0/blib/arch:/tmp/build/Importer-0.025-0/blib/lib:/tmp/build/Math-Int64-0.54-0/blib/arch:/tmp/build/Math-Int64-0.54-0/blib/lib:/tmp/build/Alien-FFI-0.25-0/blib/arch:/tmp/build/Alien-FFI-0.25-0/blib/lib:/tmp/build/Sort-Versions-1.62-0/blib/arch:/tmp/build/Sort-Versions-1.62-0/blib/lib:/tmp/build/Alien-Build-2.19-0/blib/arch:/tmp/build/Alien-Build-2.19-0/blib/lib:/tmp/build/PkgConfig-0.23026-0/blib/arch:/tmp/build/PkgConfig-0.23026-0/blib/lib:/tmp/build/FFI-CheckLib-0.26-0/blib/arch:/tmp/build/FFI-CheckLib-0.26-0/blib/lib:/tmp/build/Test2-Suite-0.000129-0/blib/arch:/tmp/build/Test2-Suite-0.000129-0/blib/lib:/tmp/build/Term-Table-0.015-0/blib/arch:/tmp/build/Term-Table-0.015-0/blib/lib:/tmp/build/Sub-Info-0.002-0/blib/arch:/tmp/build/Sub-Info-0.002-0/blib/lib:/tmp/build/Scope-Guard-0.21-0/blib/arch:/tmp/build/Scope-Guard-0.21-0/blib/lib:/tmp/build/Module-Pluggable-5.2-0/blib/arch:/tmp/build/Module-Pluggable-5.2-0/blib/lib:/tmp/build/Importer-0.025-0/blib/arch:/tmp/build/Importer-0.025-0/blib/lib
# PERL5OPT=
# PERL5_CPANPLUS_IS_RUNNING=3797
# PERL5_CPAN_IS_RUNNING=3797
# PERLBREW_HOME=/home/smoker/.perlbrew
# PERLBREW_MANPATH=/home/smoker/perl5/perlbrew/perls/perl-5.31.10-ld/man
# PERLBREW_PATH=/home/smoker/perl5/perlbrew/bin:/home/smoker/perl5/perlbrew/perls/perl-5.31.10-ld/bin
# PERLBREW_PERL=perl-5.31.10-ld
# PERLBREW_ROOT=/home/smoker/perl5/perlbrew
# PERLBREW_SHELLRC_VERSION=0.88
# PERLBREW_VERSION=0.88
# PERL_DL_NONLAZY=1
# PERL_MM_USE_DEFAULT=1
# PERL_USE_UNSAFE_INC=1
# SHELL=/bin/bash
# 
# 
# 
# PERL5LIB path
# /tmp/build/FFI-Platypus-1.10-0/blib/lib
# /tmp/build/FFI-Platypus-1.10-0/blib/arch
# /tmp/build/Math-Int64-0.54-0/blib/arch
# /tmp/build/Math-Int64-0.54-0/blib/lib
# /tmp/build/Alien-FFI-0.25-0/blib/arch
# /tmp/build/Alien-FFI-0.25-0/blib/lib
# /tmp/build/Sort-Versions-1.62-0/blib/arch
# /tmp/build/Sort-Versions-1.62-0/blib/lib
# /tmp/build/Alien-Build-2.19-0/blib/arch
# /tmp/build/Alien-Build-2.19-0/blib/lib
# /tmp/build/PkgConfig-0.23026-0/blib/arch
# /tmp/build/PkgConfig-0.23026-0/blib/lib
# /tmp/build/FFI-CheckLib-0.26-0/blib/arch
# /tmp/build/FFI-CheckLib-0.26-0/blib/lib
# /tmp/build/Test2-Suite-0.000129-0/blib/arch
# /tmp/build/Test2-Suite-0.000129-0/blib/lib
# /tmp/build/Term-Table-0.015-0/blib/arch
# /tmp/build/Term-Table-0.015-0/blib/lib
# /tmp/build/Sub-Info-0.002-0/blib/arch
# /tmp/build/Sub-Info-0.002-0/blib/lib
# /tmp/build/Scope-Guard-0.21-0/blib/arch
# /tmp/build/Scope-Guard-0.21-0/blib/lib
# /tmp/build/Module-Pluggable-5.2-0/blib/arch
# /tmp/build/Module-Pluggable-5.2-0/blib/lib
# /tmp/build/Importer-0.025-0/blib/arch
# /tmp/build/Importer-0.025-0/blib/lib
# /tmp/build/Math-Int64-0.54-0/blib/arch
# /tmp/build/Math-Int64-0.54-0/blib/lib
# /tmp/build/Alien-FFI-0.25-0/blib/arch
# /tmp/build/Alien-FFI-0.25-0/blib/lib
# /tmp/build/Sort-Versions-1.62-0/blib/arch
# /tmp/build/Sort-Versions-1.62-0/blib/lib
# /tmp/build/Alien-Build-2.19-0/blib/arch
# /tmp/build/Alien-Build-2.19-0/blib/lib
# /tmp/build/PkgConfig-0.23026-0/blib/arch
# /tmp/build/PkgConfig-0.23026-0/blib/lib
# /tmp/build/FFI-CheckLib-0.26-0/blib/arch
# /tmp/build/FFI-CheckLib-0.26-0/blib/lib
# /tmp/build/Test2-Suite-0.000129-0/blib/arch
# /tmp/build/Test2-Suite-0.000129-0/blib/lib
# /tmp/build/Term-Table-0.015-0/blib/arch
# /tmp/build/Term-Table-0.015-0/blib/lib
# /tmp/build/Sub-Info-0.002-0/blib/arch
# /tmp/build/Sub-Info-0.002-0/blib/lib
# /tmp/build/Scope-Guard-0.21-0/blib/arch
# /tmp/build/Scope-Guard-0.21-0/blib/lib
# /tmp/build/Module-Pluggable-5.2-0/blib/arch
# /tmp/build/Module-Pluggable-5.2-0/blib/lib
# /tmp/build/Importer-0.025-0/blib/arch
# /tmp/build/Importer-0.025-0/blib/lib
# 
# 
# 
# perl                5.031010
# Alien::Base         2.19
# Capture::Tiny       0.48
# Devel::Hide         -
# ExtUtils::CBuilder  0.280234
# ExtUtils::MakeMaker 7.44
# ExtUtils::ParseXS   3.40
# FFI::CheckLib       0.26
# IPC::Cmd            1.04
# JSON::PP            4.04
# List::Util          1.53
# Math::LongDouble    -
# PkgConfig           0.23026
# Test::More          1.302171
# constant            1.33
# forks               -
# 
# 
# 
# mode : fallback
# Alien::FFI->VERSION      = 0.25
# Alien::FFI->install_type = share
# Alien::FFI->cflags       = -I/tmp/build/Alien-FFI-0.25-0/blib/lib/auto/share/dist/Alien-FFI/include
# Alien::FFI->libs         = -L/tmp/build/Alien-FFI-0.25-0/blib/lib/auto/share/dist/Alien-FFI/lib -lffi
# Alien::FFI->version      = 3.3
# my_configure             = %{configure} --disable-shared --enable-static --disable-builddir
# 
# 
# 
# ffi.platypus.memory.strdup_impl =libc
# ffi.platypus.memory.strndup_impl=libc
# 
# 
# 
# Types:
#   double   : double, float complex, long double
#   float    : float
#   longdouble : double complex, long double complex
#   sint16   : int16_t, short, signed short
#   sint32   : blksize_t, int, int32_t, intptr_t, long, ptrdiff_t, senum, signed int, signed long, ssize_t, time_t
#   sint64   : blkcnt_t, int64_t, long long, off_t, signed long long
#   sint8    : int8_t, signed char
#   uint16   : uint16_t, unsigned short, ushort
#   uint32   : enum, gid_t, mode_t, nlink_t, size_t, uid_t, uint, uint32_t, uintptr_t, ulong, unsigned int, unsigned long, wchar_t, wint_t
#   uint64   : dev_t, ino_t, uint64_t, unsigned long long
#   uint8    : bool, char, uchar, uint8_t, unsigned char
# 
# 
# 
# ABIs:
#   default_abi          2
#   sysv                 1
#   vfp                  2
# 
# 
# 
# Probes:
#   bigendian64          0
#   bigendian            0
#   abi                  1
#   recordvalue          1
#   alloca               1
#   complex              1
#   variadic             1
# 
# 
# 
# CPU Info:
#   model name	: ARMv7 Processor rev 3 (v7l)
# 
# 
# 
# [PLATFORM]
# osname            : linux
# cc                : cc
# cxx               : ---
# for               : ---
# ld                : cc
# ccflags           : -fPIC -O2 -pipe -Wall -Wextra -mtune=native -march=native -fwrapv -fno-strict-aliasing -fstack-protector-strong -I/usr/local/include -D_LARGEFILE_SOURCE -D_FILE_OFFSET_BITS=64 -D_FORTIFY_SOURCE=2 -O2 -I/tmp/build/FFI-Platypus-1.10-0/blib/lib/auto/share/dist/FFI-Platypus/include
# ldflags           : -shared -O2 -L/usr/local/lib -fstack-protector-strong
# object suffix     : .o
# library prefix    : lib
# library suffix    : .so
# cc mm works       : -MM
# 
# 
# 
t/00_diag.t .............................. ok
t/ffi_build_file_base.t .................. ok
t/01_use.t ............................... ok
t/ffi_build.t ............................ ok
t/ffi_build_file_c.t ..................... ok
t/ffi_build_file_library.t ............... ok
t/ffi_build_file_cxx.t ................... skipped: Test requires C++ compiler
t/ffi_build_file_object.t ................ ok
t/ffi_platypus_api.t ..................... ok
t/ffi_build_platform.t ................... ok
t/ffi_platypus_buffer.t .................. ok
t/ffi_build_mm.t ......................... ok
t/ffi_platypus_closure.t ................. ok
t/ffi_platypus_declare.t ................. ok
t/ffi_platypus.t ......................... ok
t/ffi_platypus_dl.t ...................... ok
t/ffi_platypus_constant.t ................ ok
t/ffi_platypus_function.t ................ ok
t/ffi_platypus_internal.t ................ ok
t/ffi_platypus_function_wrapper.t ........ ok
t/ffi_platypus_lang_asm.t ................ ok
t/ffi_platypus_bundle.t .................. ok
t/ffi_platypus_lang.t .................... ok
t/ffi_platypus_lang_c.t .................. ok
t/ffi_platypus_lang_win32.t .............. ok
t/ffi_platypus_legacy.t .................. ok
t/ffi_platypus_memory.t .................. ok
t/ffi_platypus_record_meta.t ............. ok
t/ffi_platypus_record_tiearray.t ......... ok
t/ffi_platypus_shareconfig.t ............. ok
t/ffi_platypus_record.t .................. ok
t/ffi_platypus_type_pointersizebuffer.t .. ok
t/ffi_platypus_type.t .................... ok
t/ffi_platypus_type_stringarray.t ........ ok
t/ffi_platypus_type_stringpointer.t ...... ok
t/ffi_platypus_typeparser.t .............. ok
t/ffi_platypus_typeparser_version0.t ..... ok
t/ffi_platypus_typeparser_version1.t ..... ok
t/ffi_probe_runner_result.t .............. ok
t/ffi_probe_runner.t ..................... ok
t/ffi_temp.t ............................. ok
t/ffi_probe_runner_builder.t ............. ok
t/forks.t ................................ skipped: Test requires forks
t/gh129.t ................................ ok
t/gh117.t ................................ ok
t/memory.t ............................... skipped: tested only in CI
t/threads.t .............................. skipped: Test requires a threading Perl
t/ffi_probe.t ............................ ok
t/type_custom.t .......................... ok
t/type_complex_float.t ................... ok
t/type_complex_double.t .................. ok
t/type_double.t .......................... ok
t/type_float.t ........................... ok
t/type_longdouble.t ...................... skipped: test requires support for long double
t/type_longdouble__array.t ............... skipped: test requires support for long double
t/type_longdouble__ptr.t ................. skipped: test requires support for long double
t/type_longdouble__hide.t ................ skipped: test requires support for long double
t/type_opaque.t .......................... ok
t/type_record.t .......................... ok
t/type_record_value.t .................... ok
t/type_sint16.t .......................... ok
t/type_sint32.t .......................... ok
t/type_sint8.t ........................... ok
t/type_sint64.t .......................... ok
t/type_string.t .......................... ok
t/type_uint16.t .......................... ok
t/type_uint32.t .......................... ok
t/type_uint64.t .......................... ok
t/type_uint8.t ........................... ok
All tests successful.
Files=69, Tests=334, 71 wallclock secs ( 1.57 usr  0.45 sys + 28.43 cusr 13.87 csys = 44.32 CPU)
Result: PASS

------------------------------
PREREQUISITES
------------------------------

Prerequisite modules loaded:

requires:

    Module              Need     Have    
    ------------------- -------- --------
    Capture::Tiny       0        0.48    
    constant            1.32     1.33    
    ExtUtils::MakeMaker 7.12     7.44    
    FFI::CheckLib       0.05     0.26    
    IPC::Cmd            0        1.04    
    JSON::PP            0        4.04    
    List::Util          1.45     1.53    
    Math::Int64         0.34     0.54    
    perl                5.008001 5.031010

build_requires:

    Module              Need     Have    
    ------------------- -------- --------
    Alien::FFI          0.20     0.25    
    Capture::Tiny       0        0.48    
    ExtUtils::CBuilder  0        0.280234
    Math::Int64         0.34     0.54    
    Test::More          0.98     1.302171

configure_requires:

    Module              Need     Have    
    ------------------- -------- --------
    Capture::Tiny       0        0.48    
    ExtUtils::MakeMaker 7.12     7.44    
    ExtUtils::ParseXS   3.30     3.40    
    IPC::Cmd            0        1.04    
    perl                5.006    5.031010


------------------------------
ENVIRONMENT AND OTHER CONTEXT
------------------------------

Environment variables:

    AUTOMATED_TESTING = 1
    HARNESS_OPTIONS = j4
    NONINTERACTIVE_TESTING = 1
    PATH = /home/smoker/perl5/perlbrew/bin:/home/smoker/perl5/perlbrew/perls/perl-5.31.10-ld/bin:/usr/local/sbin:/usr/local/bin:/usr/sbin:/usr/bin:/sbin:/bin
    PERL5LIB = /tmp/build/Math-Int64-0.54-0/blib/arch:/tmp/build/Math-Int64-0.54-0/blib/lib:/tmp/build/Alien-FFI-0.25-0/blib/arch:/tmp/build/Alien-FFI-0.25-0/blib/lib:/tmp/build/Sort-Versions-1.62-0/blib/arch:/tmp/build/Sort-Versions-1.62-0/blib/lib:/tmp/build/Alien-Build-2.19-0/blib/arch:/tmp/build/Alien-Build-2.19-0/blib/lib:/tmp/build/PkgConfig-0.23026-0/blib/arch:/tmp/build/PkgConfig-0.23026-0/blib/lib:/tmp/build/FFI-CheckLib-0.26-0/blib/arch:/tmp/build/FFI-CheckLib-0.26-0/blib/lib:/tmp/build/Test2-Suite-0.000129-0/blib/arch:/tmp/build/Test2-Suite-0.000129-0/blib/lib:/tmp/build/Term-Table-0.015-0/blib/arch:/tmp/build/Term-Table-0.015-0/blib/lib:/tmp/build/Sub-Info-0.002-0/blib/arch:/tmp/build/Sub-Info-0.002-0/blib/lib:/tmp/build/Scope-Guard-0.21-0/blib/arch:/tmp/build/Scope-Guard-0.21-0/blib/lib:/tmp/build/Module-Pluggable-5.2-0/blib/arch:/tmp/build/Module-Pluggable-5.2-0/blib/lib:/tmp/build/Importer-0.025-0/blib/arch:/tmp/build/Importer-0.025-0/blib/lib
    PERL5OPT = 
    PERL5_CPANPLUS_IS_RUNNING = 3797
    PERL5_CPAN_IS_RUNNING = 3797
    PERLBREW_HOME = /home/smoker/.perlbrew
    PERLBREW_MANPATH = /home/smoker/perl5/perlbrew/perls/perl-5.31.10-ld/man
    PERLBREW_PATH = /home/smoker/perl5/perlbrew/bin:/home/smoker/perl5/perlbrew/perls/perl-5.31.10-ld/bin
    PERLBREW_PERL = perl-5.31.10-ld
    PERLBREW_ROOT = /home/smoker/perl5/perlbrew
    PERLBREW_SHELLRC_VERSION = 0.88
    PERLBREW_VERSION = 0.88
    PERL_MM_USE_DEFAULT = 1
    PERL_USE_UNSAFE_INC = 1
    SHELL = /bin/bash
    TERM = xterm
    TMPDIR = /tmp/testwrapper.3786

Perl special variables (and OS-specific diagnostics, for MSWin32):

    $^X = /home/smoker/perl5/perlbrew/perls/perl-5.31.10-ld/bin/perl5.31.10
    $UID/$EUID = 1000 / 1000
    $GID = 1000
    $EGID = 1000

Perl module toolchain versions installed:

    Module              Have    
    ------------------- --------
    CPAN                2.27    
    CPAN::Meta          2.150010
    Cwd                 3.78    
    ExtUtils::CBuilder  0.280234
    ExtUtils::Command   7.44    
    ExtUtils::Install   2.14    
    ExtUtils::MakeMaker 7.44    
    ExtUtils::Manifest  1.72    
    ExtUtils::ParseXS   3.40    
    File::Spec          3.78    
    JSON                4.02    
    JSON::PP            4.04    
    Module::Build       0.4231  
    Module::Signature   n/a     
    Parse::CPAN::Meta   2.150010
    Test::Harness       3.42    
    Test::More          1.302171
    YAML                1.30    
    YAML::Syck          1.32    
    version             0.9924  


--

Summary of my perl5 (revision 5 version 31 subversion 10) configuration:
   
  Platform:
    osname=linux
    osvers=4.19.97-v7l+
    archname=armv7l-linux
    uname='linux 1c9a8ccfce83 4.19.97-v7l+ #1294 smp thu jan 30 13:21:14 gmt 2020 armv7l gnulinux '
    config_args='-de -Dprefix=/home/smoker/perl5/perlbrew/perls/perl-5.31.10-ld -Dusedevel -Duselongdouble -Dusedevel -Accflags=-O2 -pipe -Wall -Wextra -mtune=native -march=native -Aeval:scriptdir=/home/smoker/perl5/perlbrew/perls/perl-5.31.10-ld/bin'
    hint=recommended
    useposix=true
    d_sigaction=define
    useithreads=undef
    usemultiplicity=undef
    use64bitint=undef
    use64bitall=undef
    uselongdouble=define
    usemymalloc=n
    default_inc_excludes_dot=define
    bincompat5005=undef
  Compiler:
    cc='cc'
    ccflags ='-O2 -pipe -Wall -Wextra -mtune=native -march=native -fwrapv -fno-strict-aliasing -fstack-protector-strong -I/usr/local/include -D_LARGEFILE_SOURCE -D_FILE_OFFSET_BITS=64 -D_FORTIFY_SOURCE=2'
    optimize='-O2'
    cppflags='-O2 -pipe -Wall -Wextra -mtune=native -march=native -fwrapv -fno-strict-aliasing -fstack-protector-strong -I/usr/local/include'
    ccversion=''
    gccversion='8.3.0'
    gccosandvers=''
    intsize=4
    longsize=4
    ptrsize=4
    doublesize=8
    byteorder=1234
    doublekind=3
    d_longlong=define
    longlongsize=8
    d_longdbl=define
    longdblsize=8
    longdblkind=0
    ivtype='long'
    ivsize=4
    nvtype='long double'
    nvsize=8
    Off_t='off_t'
    lseeksize=8
    alignbytes=8
    prototype=define
  Linker and Libraries:
    ld='cc'
    ldflags =' -fstack-protector-strong -L/usr/local/lib'
    libpth=/usr/local/lib /usr/lib/gcc/arm-linux-gnueabihf/8/include-fixed /usr/include/arm-linux-gnueabihf /usr/lib /lib/arm-linux-gnueabihf /lib /usr/lib/arm-linux-gnueabihf
    libs=-lpthread -lnsl -ldl -lm -lcrypt -lutil -lc
    perllibs=-lpthread -lnsl -ldl -lm -lcrypt -lutil -lc
    libc=libc-2.28.so
    so=so
    useshrplib=false
    libperl=libperl.a
    gnulibc_version='2.28'
  Dynamic Linking:
    dlsrc=dl_dlopen.xs
    dlext=so
    d_dlsymun=undef
    ccdlflags='-Wl,-E'
    cccdlflags='-fPIC'
    lddlflags='-shared -O2 -L/usr/local/lib -fstack-protector-strong'


Characteristics of this binary (from libperl): 
  Compile-time options:
    HAS_TIMES
    PERLIO_LAYERS
    PERL_COPY_ON_WRITE
    PERL_DONT_CREATE_GVSV
    PERL_MALLOC_WRAP
    PERL_OP_PARENT
    PERL_PRESERVE_IVUV
    PERL_USE_DEVEL
    USE_LARGE_FILES
    USE_LOCALE
    USE_LOCALE_COLLATE
    USE_LOCALE_CTYPE
    USE_LOCALE_NUMERIC
    USE_LOCALE_TIME
    USE_PERLIO
    USE_PERL_ATOF
  Built under linux
  Compiled at Mar 25 2020 21:46:24
  %ENV:
    PERL5LIB="/tmp/build/Math-Int64-0.54-0/blib/arch:/tmp/build/Math-Int64-0.54-0/blib/lib:/tmp/build/Alien-FFI-0.25-0/blib/arch:/tmp/build/Alien-FFI-0.25-0/blib/lib:/tmp/build/Sort-Versions-1.62-0/blib/arch:/tmp/build/Sort-Versions-1.62-0/blib/lib:/tmp/build/Alien-Build-2.19-0/blib/arch:/tmp/build/Alien-Build-2.19-0/blib/lib:/tmp/build/PkgConfig-0.23026-0/blib/arch:/tmp/build/PkgConfig-0.23026-0/blib/lib:/tmp/build/FFI-CheckLib-0.26-0/blib/arch:/tmp/build/FFI-CheckLib-0.26-0/blib/lib:/tmp/build/Test2-Suite-0.000129-0/blib/arch:/tmp/build/Test2-Suite-0.000129-0/blib/lib:/tmp/build/Term-Table-0.015-0/blib/arch:/tmp/build/Term-Table-0.015-0/blib/lib:/tmp/build/Sub-Info-0.002-0/blib/arch:/tmp/build/Sub-Info-0.002-0/blib/lib:/tmp/build/Scope-Guard-0.21-0/blib/arch:/tmp/build/Scope-Guard-0.21-0/blib/lib:/tmp/build/Module-Pluggable-5.2-0/blib/arch:/tmp/build/Module-Pluggable-5.2-0/blib/lib:/tmp/build/Importer-0.025-0/blib/arch:/tmp/build/Importer-0.025-0/blib/lib"
    PERL5OPT=""
    PERL5_CPANPLUS_IS_RUNNING="3797"
    PERL5_CPAN_IS_RUNNING="3797"
    PERLBREW_HOME="/home/smoker/.perlbrew"
    PERLBREW_MANPATH="/home/smoker/perl5/perlbrew/perls/perl-5.31.10-ld/man"
    PERLBREW_PATH="/home/smoker/perl5/perlbrew/bin:/home/smoker/perl5/perlbrew/perls/perl-5.31.10-ld/bin"
    PERLBREW_PERL="perl-5.31.10-ld"
    PERLBREW_ROOT="/home/smoker/perl5/perlbrew"
    PERLBREW_SHELLRC_VERSION="0.88"
    PERLBREW_VERSION="0.88"
    PERL_MM_USE_DEFAULT="1"
    PERL_USE_UNSAFE_INC="1"
  @INC:
    /tmp/build/Math-Int64-0.54-0/blib/arch
    /tmp/build/Math-Int64-0.54-0/blib/lib
    /tmp/build/Alien-FFI-0.25-0/blib/arch
    /tmp/build/Alien-FFI-0.25-0/blib/lib
    /tmp/build/Sort-Versions-1.62-0/blib/arch
    /tmp/build/Sort-Versions-1.62-0/blib/lib
    /tmp/build/Alien-Build-2.19-0/blib/arch
    /tmp/build/Alien-Build-2.19-0/blib/lib
    /tmp/build/PkgConfig-0.23026-0/blib/arch
    /tmp/build/PkgConfig-0.23026-0/blib/lib
    /tmp/build/FFI-CheckLib-0.26-0/blib/arch
    /tmp/build/FFI-CheckLib-0.26-0/blib/lib
    /tmp/build/Test2-Suite-0.000129-0/blib/arch
    /tmp/build/Test2-Suite-0.000129-0/blib/lib
    /tmp/build/Term-Table-0.015-0/blib/arch
    /tmp/build/Term-Table-0.015-0/blib/lib
    /tmp/build/Sub-Info-0.002-0/blib/arch
    /tmp/build/Sub-Info-0.002-0/blib/lib
    /tmp/build/Scope-Guard-0.21-0/blib/arch
    /tmp/build/Scope-Guard-0.21-0/blib/lib
    /tmp/build/Module-Pluggable-5.2-0/blib/arch
    /tmp/build/Module-Pluggable-5.2-0/blib/lib
    /tmp/build/Importer-0.025-0/blib/arch
    /tmp/build/Importer-0.025-0/blib/lib
    /home/smoker/perl5/perlbrew/perls/perl-5.31.10-ld/lib/site_perl/5.31.10/armv7l-linux
    /home/smoker/perl5/perlbrew/perls/perl-5.31.10-ld/lib/site_perl/5.31.10
    /home/smoker/perl5/perlbrew/perls/perl-5.31.10-ld/lib/5.31.10/armv7l-linux
    /home/smoker/perl5/perlbrew/perls/perl-5.31.10-ld/lib/5.31.10
    .