JSON-Schema-Draft201909 v0.026 Perl 5 v5.32.1 darwin-2level

Status
Pass
From
Dist
JSON-Schema-Draft201909 v0.026
Platform
Perl 5 v5.32.1 darwin-2level
Date
2021-04-28 19:55:11
ID
a41def44-a85b-11eb-914c-4c8c64a6bb2d
This distribution has been tested as part of the CPAN Testers
project, supporting the Perl programming language.  See
http://wiki.cpantesters.org/ for more information or email
questions to cpan-testers-discuss@perl.org


--
Dear ETHER,

This is a computer-generated report for JSON-Schema-Draft201909-0.026
on perl 5.32.1, created by App::cpanminus::reporter 0.17 (1.7044).

Thank you for uploading your work to CPAN.  Congratulations!
All tests were successful.

Sections of this report:

    * Tester comments
    * Program output
    * Prerequisites
    * Environment and other context

------------------------------
TESTER COMMENTS
------------------------------

Additional comments from tester:

none provided

------------------------------
PROGRAM OUTPUT
------------------------------

Output from '':

Building and testing JSON-Schema-Draft201909-0.026
# 
# Versions for all modules listed in MYMETA.json (including optional ones):
# 
# === Configure Requires ===
# 
#     Module                   Want  Have
#     ----------------------- ----- -----
#     ExtUtils::MakeMaker       any  7.62
#     File::ShareDir::Install  0.06  0.13
#     Module::Build::Tiny     0.034 0.039
# 
# === Test Requires ===
# 
#     Module                          Want     Have
#     ------------------------------ ----- --------
#     File::Spec                       any     3.78
#     Module::Metadata                 any 1.000037
#     Scalar::Util                     any     1.56
#     Test::Deep                       any    1.130
#     Test::Deep::UnorderedPairs       any    0.006
#     Test::Fatal                      any    0.016
#     Test::File::ShareDir             any 1.001002
#     Test::JSON::Schema::Acceptance 1.004    1.007
#     Test::Memory::Cycle              any     1.06
#     Test::More                      0.96 1.302183
#     lib                              any     0.65
#     open                             any     1.12
#     utf8                             any     1.22
# 
# === Test Recommends ===
# 
#     Module         Want     Have
#     ---------- -------- --------
#     CPAN::Meta 2.120900 2.150010
# 
# === Runtime Requires ===
# 
#     Module                   Want     Have
#     -------------------- -------- --------
#     B                         any     1.80
#     Carp                      any     1.50
#     Exporter                  any     5.74
#     Feature::Compat::Try      any     0.04
#     File::ShareDir            any    1.118
#     JSON::MaybeXS        1.004001 1.004003
#     JSON::PP                  any     4.04
#     List::Util               1.55     1.56
#     Module::Runtime           any    0.016
#     Mojo::JSON::Pointer       any    undef
#     Mojo::URL                 any    undef
#     Mojolicious              7.23     9.17
#     Moo                       any 2.005004
#     Moo::Object               any    undef
#     Moo::Role                 any 2.005004
#     MooX::HandlesVia          any 0.001009
#     MooX::TypeTiny       0.002002 0.002003
#     Path::Tiny                any    0.118
#     Ref::Util               0.100    0.204
#     Safe::Isa                 any 1.000010
#     Storable                  any     3.21
#     Types::Standard      1.010002 1.012001
#     constant                  any     1.33
#     if                        any   0.0608
#     namespace::clean          any     0.27
#     overload                  any     1.31
#     strict                    any     1.11
#     strictures                  2 2.000006
#     warnings                  any     1.47
# 
# === Runtime Suggests ===
# 
#     Module                 Want    Have
#     ---------------------- ---- -------
#     Class::XSAccessor       any    1.19
#     Data::Validate::Domain  any missing
#     Email::Address::XS     1.01    1.04
#     Net::IDN::Encode        any missing
#     Time::Moment            any missing
#     Type::Tiny::XS          any missing
# 
# === Other Modules ===
# 
#     Module              Have
#     ---------------- -------
#     Cpanel::JSON::XS    4.26
#     Encode              3.06
#     File::Temp        0.2309
#     JSON::PP            4.04
#     JSON::XS         missing
#     Module::Runtime    0.016
#     Mojolicious         9.17
#     Pod::Coverage    missing
#     Sub::Name           0.26
#     YAML             missing
#     autodie             2.32
# 
t/00-report-prereqs.t ...... ok
t/booleans.t ............... ok
t/annotations.t ............ ok
t/cached-metaschemas.t ..... ok
t/add-schema.t ............. ok
t/dialects.t ............... ok
t/equality.t ............... ok
t/document.t ............... ok
t/evaluate_json_string.t ... ok
t/errors.t ................. ok
t/find-identifiers.t ....... ok
t/formats.t ................ ok
t/max_traversal_depth.t .... ok
t/output_format.t .......... ok
t/pattern.t ................ ok
t/zzz-acceptance-format.t .. skipped: These tests may fail if the test suite continues to evolve! They should only be run with AUTHOR_TESTING=1, AUTOMATED_TESTING=1 or EXTENDED_TESTING=1
t/traverse.t ............... ok
t/zzz-acceptance.t ......... skipped: These tests may fail if the test suite continues to evolve! They should only be run with AUTHOR_TESTING=1, AUTOMATED_TESTING=1 or EXTENDED_TESTING=1
t/ref.t .................... ok
t/type.t ................... ok
# 
# 
# Results using Test::JSON::Schema::Acceptance 1.007
# using custom test directory: /Users/ether/.cpanm/work/1619637788.60744/JSON-Schema-Draft201909-0.026/t/additional-tests
# optional tests included: no
# 
# filename                           pass  todo-fail  fail
# --------------------------------------------------------
# anchor.json                           2          0     0
# badRef.json                           3          0     0
# faux-buggy-schemas.json               2          0     0
# format-duration.json                  5          0     0
# format-ipv4.json                      2          0     0
# format-relative-json-pointer.json     7          0     0
# future-keywords-draft2019-09.json    10          0     0
# id.json                               2          0     0
# invalid-input.json                    2          0     0
# keyword-independence.json           688          0     0
# loose-types-const-enum.json           8          0     0
# not-an-anchor.json                    2          0     0
# not-an-id.json                        2          0     0
# recursive-dynamic.json                2          0     0
# recursiveRef.json                    27          0     0
# ref-and-id.json                       4          0     0
# ref.json                             10          0     0
# short-circuit.json                   20          0     0
# unicode.json                          4          0     0
# vocabulary.json                       5          0     0
# --------------------------------------------------------
# TOTAL                               807          0     0
# 
# Congratulations, all non-optional tests are passing!
# 
t/additional-tests.t ....... ok
All tests successful.
Files=21, Tests=935,  2 wallclock secs ( 0.52 usr  0.13 sys +  8.95 cusr  1.32 csys = 10.92 CPU)
Result: PASS

------------------------------
PREREQUISITES
------------------------------

Prerequisite modules loaded:

    No requirements found

------------------------------
ENVIRONMENT AND OTHER CONTEXT
------------------------------

Environment variables:

    HARNESS_OPTIONS = j6:c
    LANG = en_CA.UTF-8
    NO_NETWORK_TESTING = 1
    PATH = /Users/ether/.perlbrew/libs/32.1@std/bin:/Users/ether/perl5/perlbrew/bin:/Users/ether/perl5/perlbrew/perls/32.1/bin:/Users/ether/bin:/Users/ether/git/misc/install/curacao/bin:/Users/ether/git/misc/install/generic/bin:/opt/local/bin:/opt/local/sbin:/Users/ether/git/git-hub/lib:/usr/local/bin:/usr/bin:/bin:/usr/sbin:/sbin:/Library/Apple/usr/bin:/opt/local/share/git-core/contrib/workdir
    PERL5LIB = /Users/ether/.perlbrew/libs/32.1@std/lib/perl5
    PERLBREW_HOME = /Users/ether/.perlbrew
    PERLBREW_LIB = std
    PERLBREW_MANPATH = /Users/ether/.perlbrew/libs/32.1@std/man:/Users/ether/perl5/perlbrew/perls/32.1/man
    PERLBREW_PATH = /Users/ether/.perlbrew/libs/32.1@std/bin:/Users/ether/perl5/perlbrew/bin:/Users/ether/perl5/perlbrew/perls/32.1/bin
    PERLBREW_PERL = 32.1
    PERLBREW_ROOT = /Users/ether/perl5/perlbrew
    PERLBREW_SHELLRC_VERSION = 0.92
    PERLBREW_VERSION = 0.92
    PERLDOC = -oman
    PERLDOC_PAGER = less -sicMr
    PERL_AUTOINSTALL_PREFER_CPAN = 1
    PERL_INSTALL_QUIET = 1
    PERL_LOCAL_LIB_ROOT = /Users/ether/.perlbrew/libs/32.1@std
    PERL_MB_OPT = --install_base /Users/ether/.perlbrew/libs/32.1@std
    PERL_MM_OPT = INSTALL_BASE=/Users/ether/.perlbrew/libs/32.1@std
    PERL_USE_UNSAFE_INC = 0
    SHELL = /bin/bash
    TERM = xterm-color
    TMPDIR = /var/folders/k0/tyl0f1_n25x23qdgmcqhds7m0000gn/T/

Perl special variables (and OS-specific diagnostics, for MSWin32):

    EGID = 20 20 12 61 79 80 81 98 701 33 100 204 250 395 398 399 400
    EUID = 501
    EXECUTABLE_NAME = /Users/ether/perl5/perlbrew/perls/32.1/bin/perl
    GID = 20 20 12 61 79 80 81 98 701 33 100 204 250 395 398 399 400
    UID = 501

Perl module toolchain versions installed:

    Module              Have    
    ------------------- --------
    CPAN                2.27    
    CPAN::Meta          2.150010
    Cwd                 3.78    
    ExtUtils::CBuilder  0.280234
    ExtUtils::Command   7.62    
    ExtUtils::Install   2.14    
    ExtUtils::MakeMaker 7.62    
    ExtUtils::Manifest  1.72    
    ExtUtils::ParseXS   3.40    
    File::Spec          3.78    
    JSON                n/a     
    JSON::PP            4.04    
    Module::Build       0.4231  
    Module::Signature   n/a     
    Parse::CPAN::Meta   2.150010
    Test::Harness       3.42    
    Test::More          1.302183
    YAML                n/a     
    YAML::Syck          n/a     
    version             0.9924  


--

Summary of my perl5 (revision 5 version 32 subversion 1) configuration:
   
  Platform:
    osname=darwin
    osvers=20.4.0
    archname=darwin-2level
    uname='darwin curacao 20.4.0 darwin kernel version 20.4.0: fri mar 5 01:14:14 pst 2021; root:xnu-7195.101.1~3release_x86_64 x86_64 '
    config_args='-de -Dprefix=/Users/ether/perl5/perlbrew/perls/32.1 -Dman1dir=none -Dman3dir=none -Aeval:scriptdir=/Users/ether/perl5/perlbrew/perls/32.1/bin'
    hint=recommended
    useposix=true
    d_sigaction=define
    useithreads=undef
    usemultiplicity=undef
    use64bitint=define
    use64bitall=define
    uselongdouble=undef
    usemymalloc=n
    default_inc_excludes_dot=define
    bincompat5005=undef
  Compiler:
    cc='cc'
    ccflags ='-fno-common -DPERL_DARWIN -mmacosx-version-min=11.3 -fno-strict-aliasing -pipe -fstack-protector-strong -I/opt/local/include -DPERL_USE_SAFE_PUTENV'
    optimize='-O3'
    cppflags='-fno-common -DPERL_DARWIN -mmacosx-version-min=11.3 -fno-strict-aliasing -pipe -fstack-protector-strong -I/opt/local/include'
    ccversion=''
    gccversion='Apple LLVM 12.0.5 (clang-1205.0.22.9)'
    gccosandvers=''
    intsize=4
    longsize=8
    ptrsize=8
    doublesize=8
    byteorder=12345678
    doublekind=3
    d_longlong=define
    longlongsize=8
    d_longdbl=define
    longdblsize=16
    longdblkind=3
    ivtype='long'
    ivsize=8
    nvtype='double'
    nvsize=8
    Off_t='off_t'
    lseeksize=8
    alignbytes=8
    prototype=define
  Linker and Libraries:
    ld='cc'
    ldflags =' -mmacosx-version-min=11.3 -fstack-protector-strong -L/opt/local/lib'
    libpth=/Applications/Xcode.app/Contents/Developer/Toolchains/XcodeDefault.xctoolchain/usr/lib/clang/12.0.5/lib /Applications/Xcode.app/Contents/Developer/Platforms/MacOSX.platform/Developer/SDKs/MacOSX.sdk/usr/lib /Applications/Xcode.app/Contents/Developer/Toolchains/XcodeDefault.xctoolchain/usr/lib /opt/local/lib /usr/lib
    libs= 
    perllibs=
    libc=
    so=dylib
    useshrplib=false
    libperl=libperl.a
    gnulibc_version=''
  Dynamic Linking:
    dlsrc=dl_dlopen.xs
    dlext=bundle
    d_dlsymun=undef
    ccdlflags=' '
    cccdlflags=' '
    lddlflags=' -mmacosx-version-min=11.3 -bundle -undefined dynamic_lookup -L/opt/local/lib -fstack-protector-strong'


Characteristics of this binary (from libperl): 
  Compile-time options:
    HAS_TIMES
    PERLIO_LAYERS
    PERL_COPY_ON_WRITE
    PERL_DONT_CREATE_GVSV
    PERL_MALLOC_WRAP
    PERL_OP_PARENT
    PERL_PRESERVE_IVUV
    PERL_USE_SAFE_PUTENV
    USE_64_BIT_ALL
    USE_64_BIT_INT
    USE_LARGE_FILES
    USE_LOCALE
    USE_LOCALE_COLLATE
    USE_LOCALE_CTYPE
    USE_LOCALE_NUMERIC
    USE_LOCALE_TIME
    USE_PERLIO
    USE_PERL_ATOF
  Locally applied patches:
    Devel::PatchPerl 2.08
  Built under darwin
  Compiled at Apr 27 2021 17:31:46
  %ENV:
    PERL5LIB="/Users/ether/.perlbrew/libs/32.1@std/lib/perl5"
    PERLBREW_HOME="/Users/ether/.perlbrew"
    PERLBREW_LIB="std"
    PERLBREW_MANPATH="/Users/ether/.perlbrew/libs/32.1@std/man:/Users/ether/perl5/perlbrew/perls/32.1/man"
    PERLBREW_PATH="/Users/ether/.perlbrew/libs/32.1@std/bin:/Users/ether/perl5/perlbrew/bin:/Users/ether/perl5/perlbrew/perls/32.1/bin"
    PERLBREW_PERL="32.1"
    PERLBREW_ROOT="/Users/ether/perl5/perlbrew"
    PERLBREW_SHELLRC_VERSION="0.92"
    PERLBREW_VERSION="0.92"
    PERLDOC="-oman"
    PERLDOC_PAGER="less -sicMr"
    PERL_AUTOINSTALL_PREFER_CPAN="1"
    PERL_INSTALL_QUIET="1"
    PERL_LOCAL_LIB_ROOT="/Users/ether/.perlbrew/libs/32.1@std"
    PERL_MB_OPT="--install_base /Users/ether/.perlbrew/libs/32.1@std"
    PERL_MM_OPT="INSTALL_BASE=/Users/ether/.perlbrew/libs/32.1@std"
    PERL_USE_UNSAFE_INC="0"
  @INC:
    /Users/ether/.perlbrew/libs/32.1@std/lib/perl5/darwin-2level
    /Users/ether/.perlbrew/libs/32.1@std/lib/perl5
    /Users/ether/perl5/perlbrew/perls/32.1/lib/site_perl/5.32.1/darwin-2level
    /Users/ether/perl5/perlbrew/perls/32.1/lib/site_perl/5.32.1
    /Users/ether/perl5/perlbrew/perls/32.1/lib/5.32.1/darwin-2level
    /Users/ether/perl5/perlbrew/perls/32.1/lib/5.32.1