Encode v3.20 Perl 5 v5.38.0 RC1 MSWin32-x64-multi-thread

Status
Pass
From
twata
Dist
Encode v3.20
Platform
Perl 5 v5.38.0 RC1 MSWin32-x64-multi-thread
Date
2023-11-11 22:29:50
ID
a368bf8b-6d56-1014-b811-ee4fcb952333
This distribution has been tested as part of the CPAN Testers
project, supporting the Perl programming language.  See
http://wiki.cpantesters.org/ for more information or email
questions to cpan-testers-discuss@perl.org


--
Dear Dan Kogai,

This is a computer-generated report for Encode-3.20
on perl 5.38.0, created by CPAN-Reporter-1.2019.

Thank you for uploading your work to CPAN.  Congratulations!
All tests were successful.

Sections of this report:

    * Tester comments
    * Program output
    * Prerequisites
    * Environment and other context

------------------------------
TESTER COMMENTS
------------------------------

Additional comments from tester:

none provided

------------------------------
PROGRAM OUTPUT
------------------------------

Output from '"C:\Program Files\Microsoft Visual Studio\2022\Community\VC\Tools\MSVC\14.33.31629\bin\Hostx64\x64\nmake.exe" test':


Microsoft (R) Program Maintenance Utility Version 14.33.31630.0
Copyright (C) Microsoft Corporation.  All rights reserved.

	"C:\perl64\5.38.0rc1\bin\perl.exe" -MExtUtils::Command::MM -e cp_nonempty -- Encode.bs blib\arch\auto\Encode\Encode.bs 644
	nmake -f Makefile all -nologo LIBPERL_A="libperl.lib" LINKTYPE="dynamic" OPTIMIZE="-O1 -Zi -GL -fp:precise" PREFIX="C:\home\mountain5380rc1\perl5" INSTALL_BASE="C:\home\mountain5380rc1\perl5" PASTHRU_DEFINE=" " PASTHRU_INC="-IEncode "
	"C:\perl64\5.38.0rc1\bin\perl.exe" -MExtUtils::Command::MM -e cp_nonempty -- Byte.bs ..\blib\arch\auto\Encode\Byte\Byte.bs 644
	cd ..
	nmake -f Makefile all -nologo LIBPERL_A="libperl.lib" LINKTYPE="dynamic" OPTIMIZE="-O1 -Zi -GL -fp:precise" PREFIX="C:\home\mountain5380rc1\perl5" INSTALL_BASE="C:\home\mountain5380rc1\perl5" PASTHRU_DEFINE=" " PASTHRU_INC="-IEncode "
	"C:\perl64\5.38.0rc1\bin\perl.exe" -MExtUtils::Command::MM -e cp_nonempty -- CN.bs ..\blib\arch\auto\Encode\CN\CN.bs 644
	cd ..
	nmake -f Makefile all -nologo LIBPERL_A="libperl.lib" LINKTYPE="dynamic" OPTIMIZE="-O1 -Zi -GL -fp:precise" PREFIX="C:\home\mountain5380rc1\perl5" INSTALL_BASE="C:\home\mountain5380rc1\perl5" PASTHRU_DEFINE=" " PASTHRU_INC="-IEncode "
	"C:\perl64\5.38.0rc1\bin\perl.exe" -MExtUtils::Command::MM -e cp_nonempty -- EBCDIC.bs ..\blib\arch\auto\Encode\EBCDIC\EBCDIC.bs 644
	cd ..
	nmake -f Makefile all -nologo LIBPERL_A="libperl.lib" LINKTYPE="dynamic" OPTIMIZE="-O1 -Zi -GL -fp:precise" PREFIX="C:\home\mountain5380rc1\perl5" INSTALL_BASE="C:\home\mountain5380rc1\perl5" PASTHRU_DEFINE=" " PASTHRU_INC="-IEncode "
	"C:\perl64\5.38.0rc1\bin\perl.exe" -MExtUtils::Command::MM -e cp_nonempty -- JP.bs ..\blib\arch\auto\Encode\JP\JP.bs 644
	cd ..
	nmake -f Makefile all -nologo LIBPERL_A="libperl.lib" LINKTYPE="dynamic" OPTIMIZE="-O1 -Zi -GL -fp:precise" PREFIX="C:\home\mountain5380rc1\perl5" INSTALL_BASE="C:\home\mountain5380rc1\perl5" PASTHRU_DEFINE=" " PASTHRU_INC="-IEncode "
	"C:\perl64\5.38.0rc1\bin\perl.exe" -MExtUtils::Command::MM -e cp_nonempty -- KR.bs ..\blib\arch\auto\Encode\KR\KR.bs 644
	cd ..
	nmake -f Makefile all -nologo LIBPERL_A="libperl.lib" LINKTYPE="dynamic" OPTIMIZE="-O1 -Zi -GL -fp:precise" PREFIX="C:\home\mountain5380rc1\perl5" INSTALL_BASE="C:\home\mountain5380rc1\perl5" PASTHRU_DEFINE=" " PASTHRU_INC="-IEncode "
	"C:\perl64\5.38.0rc1\bin\perl.exe" -MExtUtils::Command::MM -e cp_nonempty -- Symbol.bs ..\blib\arch\auto\Encode\Symbol\Symbol.bs 644
	cd ..
	nmake -f Makefile all -nologo LIBPERL_A="libperl.lib" LINKTYPE="dynamic" OPTIMIZE="-O1 -Zi -GL -fp:precise" PREFIX="C:\home\mountain5380rc1\perl5" INSTALL_BASE="C:\home\mountain5380rc1\perl5" PASTHRU_DEFINE=" " PASTHRU_INC="-IEncode "
	"C:\perl64\5.38.0rc1\bin\perl.exe" -MExtUtils::Command::MM -e cp_nonempty -- TW.bs ..\blib\arch\auto\Encode\TW\TW.bs 644
	cd ..
	nmake -f Makefile all -nologo LIBPERL_A="libperl.lib" LINKTYPE="dynamic" OPTIMIZE="-O1 -Zi -GL -fp:precise" PREFIX="C:\home\mountain5380rc1\perl5" INSTALL_BASE="C:\home\mountain5380rc1\perl5" PASTHRU_DEFINE=" " PASTHRU_INC="-IEncode "
	"C:\perl64\5.38.0rc1\bin\perl.exe" -MExtUtils::Command::MM -e cp_nonempty -- Unicode.bs ..\blib\arch\auto\Encode\Unicode\Unicode.bs 644
	cd ..
	nmake test_dynamic -nologo LIBPERL_A="libperl.lib" LINKTYPE="dynamic" OPTIMIZE="-O1 -Zi -GL -fp:precise" PREFIX="C:\home\mountain5380rc1\perl5" INSTALL_BASE="C:\home\mountain5380rc1\perl5" PASTHRU_DEFINE=" " PASTHRU_INC="-IEncode "
	"C:\perl64\5.38.0rc1\bin\perl.exe" -MExtUtils::Command::MM -e cp_nonempty -- Byte.bs ..\blib\arch\auto\Encode\Byte\Byte.bs 644
'No tests defined for Encode::Byte extension.'
	cd ..
	nmake test_dynamic -nologo LIBPERL_A="libperl.lib" LINKTYPE="dynamic" OPTIMIZE="-O1 -Zi -GL -fp:precise" PREFIX="C:\home\mountain5380rc1\perl5" INSTALL_BASE="C:\home\mountain5380rc1\perl5" PASTHRU_DEFINE=" " PASTHRU_INC="-IEncode "
	"C:\perl64\5.38.0rc1\bin\perl.exe" -MExtUtils::Command::MM -e cp_nonempty -- CN.bs ..\blib\arch\auto\Encode\CN\CN.bs 644
'No tests defined for Encode::CN extension.'
	cd ..
	nmake test_dynamic -nologo LIBPERL_A="libperl.lib" LINKTYPE="dynamic" OPTIMIZE="-O1 -Zi -GL -fp:precise" PREFIX="C:\home\mountain5380rc1\perl5" INSTALL_BASE="C:\home\mountain5380rc1\perl5" PASTHRU_DEFINE=" " PASTHRU_INC="-IEncode "
	"C:\perl64\5.38.0rc1\bin\perl.exe" -MExtUtils::Command::MM -e cp_nonempty -- EBCDIC.bs ..\blib\arch\auto\Encode\EBCDIC\EBCDIC.bs 644
'No tests defined for Encode::EBCDIC extension.'
	cd ..
	nmake test_dynamic -nologo LIBPERL_A="libperl.lib" LINKTYPE="dynamic" OPTIMIZE="-O1 -Zi -GL -fp:precise" PREFIX="C:\home\mountain5380rc1\perl5" INSTALL_BASE="C:\home\mountain5380rc1\perl5" PASTHRU_DEFINE=" " PASTHRU_INC="-IEncode "
	"C:\perl64\5.38.0rc1\bin\perl.exe" -MExtUtils::Command::MM -e cp_nonempty -- JP.bs ..\blib\arch\auto\Encode\JP\JP.bs 644
'No tests defined for Encode::JP extension.'
	cd ..
	nmake test_dynamic -nologo LIBPERL_A="libperl.lib" LINKTYPE="dynamic" OPTIMIZE="-O1 -Zi -GL -fp:precise" PREFIX="C:\home\mountain5380rc1\perl5" INSTALL_BASE="C:\home\mountain5380rc1\perl5" PASTHRU_DEFINE=" " PASTHRU_INC="-IEncode "
	"C:\perl64\5.38.0rc1\bin\perl.exe" -MExtUtils::Command::MM -e cp_nonempty -- KR.bs ..\blib\arch\auto\Encode\KR\KR.bs 644
'No tests defined for Encode::KR extension.'
	cd ..
	nmake test_dynamic -nologo LIBPERL_A="libperl.lib" LINKTYPE="dynamic" OPTIMIZE="-O1 -Zi -GL -fp:precise" PREFIX="C:\home\mountain5380rc1\perl5" INSTALL_BASE="C:\home\mountain5380rc1\perl5" PASTHRU_DEFINE=" " PASTHRU_INC="-IEncode "
	"C:\perl64\5.38.0rc1\bin\perl.exe" -MExtUtils::Command::MM -e cp_nonempty -- Symbol.bs ..\blib\arch\auto\Encode\Symbol\Symbol.bs 644
'No tests defined for Encode::Symbol extension.'
	cd ..
	nmake test_dynamic -nologo LIBPERL_A="libperl.lib" LINKTYPE="dynamic" OPTIMIZE="-O1 -Zi -GL -fp:precise" PREFIX="C:\home\mountain5380rc1\perl5" INSTALL_BASE="C:\home\mountain5380rc1\perl5" PASTHRU_DEFINE=" " PASTHRU_INC="-IEncode "
	"C:\perl64\5.38.0rc1\bin\perl.exe" -MExtUtils::Command::MM -e cp_nonempty -- TW.bs ..\blib\arch\auto\Encode\TW\TW.bs 644
'No tests defined for Encode::TW extension.'
	cd ..
	nmake test_dynamic -nologo LIBPERL_A="libperl.lib" LINKTYPE="dynamic" OPTIMIZE="-O1 -Zi -GL -fp:precise" PREFIX="C:\home\mountain5380rc1\perl5" INSTALL_BASE="C:\home\mountain5380rc1\perl5" PASTHRU_DEFINE=" " PASTHRU_INC="-IEncode "
	"C:\perl64\5.38.0rc1\bin\perl.exe" -MExtUtils::Command::MM -e cp_nonempty -- Unicode.bs ..\blib\arch\auto\Encode\Unicode\Unicode.bs 644
'No tests defined for Encode::Unicode extension.'
	cd ..
	"C:\perl64\5.38.0rc1\bin\perl.exe" "-MExtUtils::Command::MM" "-MTest::Harness" "-e" "undef *Test::Harness::Switches; test_harness(0, 'blib\lib', 'blib\arch')" t\*.t
t\Aliases.t ................ ok
t\at-cn.t .................. ok
t\at-tw.t .................. ok
t\CJKT.t ................... ok
t\cow.t .................... ok
t\decode.t ................. ok
t\enc_data.t ............... skipped: encoding pragma not supported in Perl 5.25 or later
t\enc_eucjp.t .............. skipped: Perl <=5.25.2 or cperl required
t\enc_module.t ............. skipped: encoding pragma not supported in Perl 5.25 or later
t\enc_utf8.t ............... skipped: Perl <=5.25.2 or cperl required
t\Encode.t ................. ok
t\Encoder.t ................ ok
t\encoding-locale.t ........ ok
t\encoding.t ............... skipped: encoding pragma not supported in Perl 5.25 or later
t\fallback.t ............... ok
t\from_to.t ................ ok
t\grow.t ................... ok
t\gsm0338.t ................ ok
t\guess.t .................. ok
t\isa.t .................... ok
t\jis7-fallback.t .......... ok
t\jperl.t .................. skipped: encoding pragma not supported in Perl 5.25 or later
t\magic.t .................. ok
t\mime-header.t ............ ok
t\mime-name.t .............. ok
t\mime_header_iso2022jp.t .. ok
t\perlio.t ................. ok
t\piconv.t ................. skipped: Win32 environments require IPC::Run 0.83 to complete this test
t\rt113164.t ............... ok
t\rt65541.t ................ ok
t\rt76824.t ................ ok
t\rt85489.t ................ ok
t\rt86327.t ................ ok
t\taint.t .................. ok
t\truncated_utf8.t ......... ok
t\undef.t .................. ok
t\Unicode.t ................ ok
t\Unicode_trailing_nul.t ... ok
t\use-Encode-Alias.t ....... ok
t\utf32warnings.t .......... ok
t\utf8ref.t ................ ok
t\utf8strict.t ............. ok
t\utf8warnings.t ........... ok
t\whatwg-aliases.t ......... skipped: For maintainers only
t\xml.t .................... ok
All tests successful.
Files=45, Tests=7764, 16 wallclock secs ( 0.84 usr +  0.17 sys =  1.01 CPU)
Result: PASS

------------------------------
PREREQUISITES
------------------------------

Prerequisite modules loaded:

requires:

    Module              Need  Have    
    ------------------- ----- --------
    Exporter            5.57  5.77    
    parent              0.221 0.241   
    Storable            0     3.32    

build_requires:

    Module              Need  Have    
    ------------------- ----- --------
    ExtUtils::MakeMaker 0     7.70    
    Test::More          0.92  1.302194

configure_requires:

    Module              Need  Have    
    ------------------- ----- --------
    ExtUtils::MakeMaker 0     7.70    


------------------------------
ENVIRONMENT AND OTHER CONTEXT
------------------------------

Environment variables:

    COMSPEC = C:\WINDOWS\system32\cmd.exe
    INCLUDE = C:\Program Files\Microsoft Visual Studio\2022\Community\VC\Tools\MSVC\14.33.31629\include;C:\Program Files\Microsoft Visual Studio\2022\Community\VC\Tools\MSVC\14.33.31629\ATLMFC\include;C:\Program Files\Microsoft Visual Studio\2022\Community\VC\Auxiliary\VS\include;C:\Program Files (x86)\Windows Kits\10\include\10.0.19041.0\ucrt;C:\Program Files (x86)\Windows Kits\10\\include\10.0.19041.0\\um;C:\Program Files (x86)\Windows Kits\10\\include\10.0.19041.0\\shared;C:\Program Files (x86)\Windows Kits\10\\include\10.0.19041.0\\winrt;C:\Program Files (x86)\Windows Kits\10\\include\10.0.19041.0\\cppwinrt;C:\perl64\local\include
    LC_ALL = C
    LIB = C:\Program Files\Microsoft Visual Studio\2022\Community\VC\Tools\MSVC\14.33.31629\ATLMFC\lib\x64;C:\Program Files\Microsoft Visual Studio\2022\Community\VC\Tools\MSVC\14.33.31629\lib\x64;C:\Program Files (x86)\Windows Kits\10\lib\10.0.19041.0\ucrt\x64;C:\Program Files (x86)\Windows Kits\10\\lib\10.0.19041.0\\um\x64
    NONINTERACTIVE_TESTING = 1
    NUMBER_OF_PROCESSORS = 4
    PATH = C:\home\mountain5380rc1\perl5\bin;C:\perl64\5.38.0rc1\bin;C:\build-openssl\bin;C:\Program Files\Microsoft Visual Studio\2022\Community\VC\Tools\MSVC\14.33.31629\bin\HostX64\x64;C:\Program Files\Microsoft Visual Studio\2022\Community\Common7\IDE\VC\VCPackages;C:\Program Files\Microsoft Visual Studio\2022\Community\Common7\IDE\CommonExtensions\Microsoft\TestWindow;C:\Program Files\Microsoft Visual Studio\2022\Community\Common7\IDE\CommonExtensions\Microsoft\TeamFoundation\Team Explorer;C:\Program Files\Microsoft Visual Studio\2022\Community\MSBuild\Current\bin\Roslyn;C:\Program Files\Microsoft Visual Studio\2022\Community\Team Tools\Performance Tools\x64;C:\Program Files\Microsoft Visual Studio\2022\Community\Team Tools\Performance Tools;C:\Program Files (x86)\Windows Kits\10\bin\10.0.19041.0\\x64;C:\Program Files (x86)\Windows Kits\10\bin\\x64;C:\Program Files\Microsoft Visual Studio\2022\Community\\MSBuild\Current\Bin\amd64;C:\Windows\Microsoft.NET\Framework64\v4.0.30319;C:\Program Files\Microsoft Visual Studio\2022\Community\Common7\IDE\;C:\Program Files\Microsoft Visual Studio\2022\Community\Common7\Tools\;C:\Program Files (x86)\Windows Resource Kits\Tools\;C:\WINDOWS\system32;C:\WINDOWS;C:\WINDOWS\System32\Wbem;C:\WINDOWS\System32\WindowsPowerShell\v1.0\;C:\Program Files\Microsoft Visual Studio\2022\Community\Common7\IDE\CommonExtensions\Microsoft\CMake\CMake\bin;C:\Program Files\Microsoft Visual Studio\2022\Community\Common7\IDE\CommonExtensions\Microsoft\CMake\Ninja;C:\Program Files\Microsoft Visual Studio\2022\Community\Common7\IDE\VC\Linux\bin\ConnectionManagerExe
    PERL5LIB = C:\home\mountain5380rc1\perl5\lib\perl5
    PERL5OPT = 
    PERL5_CPANPLUS_IS_RUNNING = 5956
    PERL5_CPAN_IS_RUNNING = 5956
    PERL_LOCAL_LIB_ROOT = C:\home\mountain5380rc1\perl5
    PERL_MB_OPT = --install_base "C:\\home\\mountain5380rc1\\perl5"
    PERL_MM_OPT = INSTALL_BASE=C:\\home\\mountain5380rc1\\perl5
    PERL_MM_USE_DEFAULT = 1
    PERL_USE_UNSAFE_INC = 1
    PROCESSOR_IDENTIFIER = Intel64 Family 6 Model 58 Stepping 9, GenuineIntel
    TEMP = C:\Users\USER\AppData\Local\Temp
    TERM = dumb

Perl special variables (and OS-specific diagnostics, for MSWin32):

    $^X = C:\perl64\5.38.0rc1\bin\perl.exe
    $UID/$EUID = 0 / 0
    $GID = 0
    $EGID = 0
    Win32::GetOSName = Win8.1
    Win32::GetOSVersion = , 6, 3, 9600, 2, 0, 0, 256, 1
    Win32::FsType = NTFS
    Win32::IsAdminUser = 0

Perl module toolchain versions installed:

    Module              Have    
    ------------------- --------
    CPAN                2.36    
    CPAN::Meta          2.150010
    Cwd                 3.89    
    ExtUtils::CBuilder  0.280238
    ExtUtils::Command   7.70    
    ExtUtils::Install   2.22    
    ExtUtils::MakeMaker 7.70    
    ExtUtils::Manifest  1.73    
    ExtUtils::ParseXS   3.51    
    File::Spec          3.88    
    JSON                4.10    
    JSON::PP            4.17_01 
    Module::Build       0.4234  
    Module::Signature   n/a     
    Parse::CPAN::Meta   2.150010
    Test2               1.302194
    Test::Harness       3.44    
    Test::More          1.302194
    YAML                1.30    
    YAML::Syck          n/a     
    version             0.9929  


--

Summary of my perl5 (revision 5 version 38 subversion 0) configuration:
   
  Platform:
    osname=MSWin32
    osvers=6.3.9600
    archname=MSWin32-x64-multi-thread
    uname=''
    config_args='undef'
    hint=recommended
    useposix=true
    d_sigaction=undef
    useithreads=define
    usemultiplicity=define
    use64bitint=define
    use64bitall=undef
    uselongdouble=undef
    usemymalloc=n
    default_inc_excludes_dot=define
  Compiler:
    cc='cl'
    ccflags ='-nologo -GF -W3 -MD -DWIN32 -D_CONSOLE -DNO_STRICT -DWIN64 -D_CRT_SECURE_NO_DEPRECATE -D_CRT_NONSTDC_NO_DEPRECATE -D_WINSOCK_DEPRECATED_NO_WARNINGS  -DPERL_TEXTMODE_SCRIPTS -DMULTIPLICITY -DPERL_IMPLICIT_SYS'
    optimize='-O1 -Zi -GL -fp:precise'
    cppflags='-DWIN32'
    ccversion='19.33.31630'
    gccversion=''
    gccosandvers=''
    intsize=4
    longsize=4
    ptrsize=8
    doublesize=8
    byteorder=12345678
    doublekind=3
    d_longlong=undef
    longlongsize=8
    d_longdbl=define
    longdblsize=8
    longdblkind=0
    ivtype='__int64'
    ivsize=8
    nvtype='double'
    nvsize=8
    Off_t='__int64'
    lseeksize=8
    alignbytes=8
    prototype=define
  Linker and Libraries:
    ld='link'
    ldflags ='-nologo -nodefaultlib -debug -opt:ref,icf -ltcg  -libpath:"c:\perl64\5.38.0rc1\lib\CORE"  -machine:AMD64 -subsystem:console,"5.02"'
    libpth="C:\Program Files\Microsoft Visual Studio\2022\Community\VC\Tools\MSVC\14.33.31629\\lib\x64"
    libs=oldnames.lib kernel32.lib user32.lib gdi32.lib winspool.lib  comdlg32.lib advapi32.lib shell32.lib ole32.lib oleaut32.lib  netapi32.lib uuid.lib ws2_32.lib mpr.lib winmm.lib  version.lib odbc32.lib odbccp32.lib comctl32.lib msvcrt.lib vcruntime.lib ucrt.lib
    perllibs=oldnames.lib kernel32.lib user32.lib gdi32.lib winspool.lib  comdlg32.lib advapi32.lib shell32.lib ole32.lib oleaut32.lib  netapi32.lib uuid.lib ws2_32.lib mpr.lib winmm.lib  version.lib odbc32.lib odbccp32.lib comctl32.lib msvcrt.lib vcruntime.lib ucrt.lib
    libc=ucrt.lib
    so=dll
    useshrplib=true
    libperl=perl538.lib
    gnulibc_version=''
  Dynamic Linking:
    dlsrc=dl_win32.xs
    dlext=dll
    d_dlsymun=undef
    ccdlflags=' '
    cccdlflags=' '
    lddlflags='-dll -nologo -nodefaultlib -debug -opt:ref,icf -ltcg  -libpath:"c:\perl64\5.38.0rc1\lib\CORE"  -machine:AMD64 -subsystem:console,"5.02"'


Characteristics of this binary (from libperl): 
  Compile-time options:
    HAS_LONG_DOUBLE
    HAS_TIMES
    HAVE_INTERP_INTERN
    MULTIPLICITY
    PERLIO_LAYERS
    PERL_COPY_ON_WRITE
    PERL_DONT_CREATE_GVSV
    PERL_HASH_FUNC_SIPHASH13
    PERL_HASH_USE_SBOX32
    PERL_IMPLICIT_SYS
    PERL_MALLOC_WRAP
    PERL_OP_PARENT
    PERL_PRESERVE_IVUV
    PERL_USE_SAFE_PUTENV
    USE_64_BIT_INT
    USE_ITHREADS
    USE_LARGE_FILES
    USE_LOCALE
    USE_LOCALE_COLLATE
    USE_LOCALE_CTYPE
    USE_LOCALE_NUMERIC
    USE_LOCALE_TIME
    USE_PERLIO
    USE_PERL_ATOF
    USE_THREAD_SAFE_LOCALE
  Locally applied patches:
    RC1
  Built under MSWin32
  Compiled at Jun 17 2023 22:11:31
  %ENV:
    PERL5LIB="C:\home\mountain5380rc1\perl5\lib\perl5"
    PERL5_CPANPLUS_IS_RUNNING="5956"
    PERL5_CPAN_IS_RUNNING="5956"
    PERL_LOCAL_LIB_ROOT="C:\home\mountain5380rc1\perl5"
    PERL_MB_OPT="--install_base "C:\\home\\mountain5380rc1\\perl5""
    PERL_MM_OPT="INSTALL_BASE=C:\\home\\mountain5380rc1\\perl5"
    PERL_MM_USE_DEFAULT="1"
    PERL_USE_UNSAFE_INC="1"
  @INC:
    C:\home\mountain5380rc1\perl5\lib\perl5/MSWin32-x64-multi-thread
    C:\home\mountain5380rc1\perl5\lib\perl5
    C:/perl64/5.38.0rc1/lib
    .