Beam-Wire v1.021 Perl 5 v5.18.4 x86_64-linux-thread-multi
- Status
- Pass
- From
- Nigel Horne
- Dist
-
Beam-Wire v1.021
- Platform
- Perl 5 v5.18.4 x86_64-linux-thread-multi
- Date
- 2018-03-19 09:19:33
- ID
- a2d6dc70-2b56-11e8-8a48-805ac3c617eb
This distribution has been tested as part of the CPAN Testers
project, supporting the Perl programming language. See
http://wiki.cpantesters.org/ for more information or email
questions to cpan-testers-discuss@perl.org
--
Dear Doug Bell,
This is a computer-generated report for Beam-Wire-1.021
on perl 5.18.4, created by CPAN-Reporter-1.2018.
Thank you for uploading your work to CPAN. Congratulations!
All tests were successful.
Sections of this report:
* Tester comments
* Program output
* Prerequisites
* Environment and other context
------------------------------
TESTER COMMENTS
------------------------------
Additional comments from tester:
this report is from an automated smoke testing program
and was not reviewed by a human for accuracy
------------------------------
PROGRAM OUTPUT
------------------------------
Output from '/usr/bin/make test':
PERL_DL_NONLAZY=1 "/home/njh/perl5/perlbrew/perls/perl-5.18.4/bin/perl5.18.4" "-MExtUtils::Command::MM" "-MTest::Harness" "-e" "undef *Test::Harness::Switches; test_harness(0, 'blib/lib', 'blib/arch')" t/*.t t/container/*.t t/dependency/*.t t/deprecated/*.t t/method/*.t t/regression/*.t t/service/*.t
t/00-compile.t ..................... ok
#
# Versions for all modules listed in MYMETA.json (including optional ones):
#
# === Configure Requires ===
#
# Module Want Have
# ------------------------ -------- --------
# CPAN::Meta::Requirements 2.120620 2.131
# ExtUtils::MakeMaker any 7.32
# Module::Metadata any 1.000033
#
# === Build Requires ===
#
# Module Want Have
# ------------------- ---- ----
# ExtUtils::MakeMaker any 7.32
#
# === Test Requires ===
#
# Module Want Have
# ------------------- -------- --------
# ExtUtils::MakeMaker any 7.32
# File::Spec any 3.40
# IO::Handle any 1.34
# IPC::Open3 any 1.13
# Test::Deep any 1.124
# Test::Differences 0.64 0.64
# Test::Exception any 0.43
# Test::Lib any 0.002
# Test::More 1.001005 1.302075
#
# === Test Recommends ===
#
# Module Want Have
# ---------- -------- --------
# CPAN::Meta 2.120900 2.150005
#
# === Runtime Requires ===
#
# Module Want Have
# --------------- ----- --------
# Beam::Emitter any 1.007
# Beam::Service any 0.001
# Config::Any 0.23 0.32
# Data::DPath 0.51 0.57
# Module::Runtime any 0.014
# Moo any 2.002005
# Path::Tiny 0.055 0.061
# Throwable any 0.200013
# Types::Standard any 1.002001
# YAML any 1.24
#
# === Runtime Recommends ===
#
# Module Want Have
# ------ ---- ----
# JSON any 2.93
#
t/00-report-prereqs.t .............. ok
t/container/config.t ............... ok
t/container/inner.t ................ ok
t/container/override.t ............. ok
t/dependency/anonymous.t ........... ok
t/dependency/call.t ................ ok
t/dependency/config.t .............. ok
t/dependency/value.t ............... ok
t/deprecated/event_listeners.t ..... ok
t/deprecated/method_call.t ......... ok
t/exception.t ...................... ok
t/method/create_service.t .......... ok
t/method/is_meta.t ................. ok
t/regression/60_unprefixed_meta.t .. ok
t/service/attributes.t ............. ok
t/service/class_args.t ............. ok
t/service/config.t ................. ok
t/service/event_listener.t ......... ok
t/service/extends.t ................ ok
t/service/lifecycle.t .............. ok
t/service/method.t ................. ok
t/service/value.t .................. ok
t/service/with.t ................... ok
t/service/with_args.t .............. ok
All tests successful.
Files=25, Tests=81, 5 wallclock secs ( 0.10 usr 0.03 sys + 4.72 cusr 0.41 csys = 5.26 CPU)
Result: PASS
------------------------------
PREREQUISITES
------------------------------
Prerequisite modules loaded:
requires:
Module Need Have
------------------------ -------- --------
Beam::Emitter 0 1.007
Beam::Service 0 0.001
Config::Any 0.23 0.32
Data::DPath 0.51 0.57
Module::Runtime 0 0.014
Moo 0 2.002005
Path::Tiny 0.055 0.061
Throwable 0 0.200013
Types::Standard 0 1.002001
YAML 0 1.24
build_requires:
Module Need Have
------------------------ -------- --------
ExtUtils::MakeMaker 0 7.32
File::Spec 0 3.40
IO::Handle 0 1.34
IPC::Open3 0 1.13
Test::Deep 0 1.124
Test::Differences 0.64 0.64
Test::Exception 0 0.43
Test::Lib 0 0.002
Test::More 1.001005 1.302075
configure_requires:
Module Need Have
------------------------ -------- --------
CPAN::Meta::Requirements 2.120620 2.131
ExtUtils::MakeMaker 0 7.32
Module::Metadata 0 1.000033
------------------------------
ENVIRONMENT AND OTHER CONTEXT
------------------------------
Environment variables:
AUTOMATED_TESTING = 1
LANG = en_GB.UTF-8
LANGUAGE = en_GB:en
PATH = /home/njh/perl5/perlbrew/bin:/home/njh/perl5/perlbrew/perls/perl-5.18.4/bin:/home/njh/perl5/perlbrew/bin:/usr/bin:/bin
PERL5LIB = /home/njh/.cpan/build/Throwable-0.200013-2/blib/arch:/home/njh/.cpan/build/Throwable-0.200013-2/blib/lib:/home/njh/.cpan/build/Data-DPath-0.57-2/blib/arch:/home/njh/.cpan/build/Data-DPath-0.57-2/blib/lib:/home/njh/.cpan/build/Iterator-Util-0.02-2/blib/arch:/home/njh/.cpan/build/Iterator-Util-0.02-2/blib/lib:/home/njh/.cpan/build/Iterator-0.03-2/blib/arch:/home/njh/.cpan/build/Iterator-0.03-2/blib/lib:/home/njh/.cpan/build/Config-Any-0.32-5/blib/arch:/home/njh/.cpan/build/Config-Any-0.32-5/blib/lib:/home/njh/.cpan/build/Beam-Service-0.001-2/blib/arch:/home/njh/.cpan/build/Beam-Service-0.001-2/blib/lib:/home/njh/.cpan/build/Beam-Emitter-1.007-2/blib/arch:/home/njh/.cpan/build/Beam-Emitter-1.007-2/blib/lib:/home/njh/.cpan/build/Type-Tiny-1.002001-4/blib/arch:/home/njh/.cpan/build/Type-Tiny-1.002001-4/blib/lib:/home/njh/.cpan/build/Exporter-Tiny-1.000000-0/blib/arch:/home/njh/.cpan/build/Exporter-Tiny-1.000000-0/blib/lib:/home/njh/.cpan/build/Test-Lib-0.002-2/blib/arch:/home/njh/.cpan/build/Test-Lib-0.002-2/blib/lib:/home/njh/.cpan/build/Test-API-0.010-2/blib/arch:/home/njh/.cpan/build/Test-API-0.010-2/blib/lib
PERL5OPT =
PERL5_CPANPLUS_IS_RUNNING = 12603
PERL5_CPAN_IS_RUNNING = 12603
PERL5_MINISMOKEBOX = 0.68
PERLBREW_LIB =
PERLBREW_MANPATH = /home/njh/perl5/perlbrew/perls/perl-5.18.4/man
PERLBREW_PATH = /home/njh/perl5/perlbrew/bin:/home/njh/perl5/perlbrew/perls/perl-5.18.4/bin
PERLBREW_PERL = perl-5.18.4
PERLBREW_ROOT = /home/njh/perl5/perlbrew
PERLBREW_SHELLRC_VERSION = 0.82
PERLBREW_VERSION = 0.82
PERL_EXTUTILS_AUTOINSTALL = --defaultdeps
PERL_LOCAL_LIB_ROOT =
PERL_MM_USE_DEFAULT = 1
SHELL = /bin/sh
Perl special variables (and OS-specific diagnostics, for MSWin32):
$^X = /home/njh/perl5/perlbrew/perls/perl-5.18.4/bin/perl5.18.4
$UID/$EUID = 1000 / 1000
$GID = 1000 4 24 25 29 30 44 46 108 112 1000
$EGID = 1000 4 24 25 29 30 44 46 108 112 1000
Perl module toolchain versions installed:
Module Have
------------------- --------
CPAN 2.16
CPAN::Meta 2.150005
Cwd 3.40
ExtUtils::CBuilder 0.280210
ExtUtils::Command 7.32
ExtUtils::Install 2.06
ExtUtils::MakeMaker 7.32
ExtUtils::Manifest 1.70
ExtUtils::ParseXS 3.30
File::Spec 3.40
JSON 2.93
JSON::PP 2.27400
Module::Build 0.4210
Module::Signature n/a
Parse::CPAN::Meta 1.4422
Test::Harness 3.36
Test::More 1.302075
YAML 1.24
YAML::Syck 1.30
version 0.9902
--
Summary of my perl5 (revision 5 version 18 subversion 4) configuration:
Platform:
osname=linux, osvers=3.16-3-amd64, archname=x86_64-linux-thread-multi
uname='linux nigelhorne.force9.co.uk 3.16-3-amd64 #1 smp debian 3.16.5-1 (2014-10-10) x86_64 gnulinux '
config_args='-de -Dprefix=/home/njh/perl5/perlbrew/perls/perl-5.18.4 -Duseithreads -Dusemultiplicity -Dusedevel -Accflags=-O2 -W -Wformat=2 -Wswitch -Wshadow -Wwrite-strings -Wuninitialized -Wall -pipe -mtune=native -march=native -fomit-frame-pointer -msse2 -msse -mmmx -mfpmath=sse -pedantic -D_FORTIFY_SOURCE=2 -Wpointer-arith -Wstrict-prototypes -fstack-protector -Wstack-protector -Wextra -Wbad-function-cast -Wcast-align -Wcast-qual -Wdisabled-optimization -Wendif-labels -Wfloat-equal -Wformat-nonliteral -Winline -Wmissing-declarations -Wmissing-prototypes -Wnested-externs -Wpointer-arith -Wundef -Wformat-security -ftree-vectorize -fdiagnostics-color=auto -Aeval:scriptdir=/home/njh/perl5/perlbrew/perls/perl-5.18.4/bin'
hint=recommended, useposix=true, d_sigaction=define
useithreads=define, usemultiplicity=define
useperlio=define, d_sfio=undef, uselargefiles=define, usesocks=undef
use64bitint=define, use64bitall=define, uselongdouble=undef
usemymalloc=n, bincompat5005=undef
Compiler:
cc='cc', ccflags ='-D_REENTRANT -D_GNU_SOURCE -O2 -W -Wformat=2 -Wswitch -Wshadow -Wwrite-strings -Wuninitialized -Wall -pipe -mtune=native -march=native -fomit-frame-pointer -msse2 -msse -mmmx -mfpmath=sse -pedantic -D_FORTIFY_SOURCE=2 -Wpointer-arith -Wstrict-prototypes -fstack-protector -Wstack-protector -Wextra -Wbad-function-cast -Wcast-align -Wcast-qual -Wdisabled-optimization -Wendif-labels -Wfloat-equal -Wformat-nonliteral -Winline -Wmissing-declarations -Wmissing-prototypes -Wnested-externs -Wpointer-arith -Wundef -Wformat-security -ftree-vectorize -fdiagnostics-color=auto -fno-strict-aliasing -I/usr/local/include -D_LARGEFILE_SOURCE -D_FILE_OFFSET_BITS=64',
optimize='-O2',
cppflags='-D_REENTRANT -D_GNU_SOURCE -O2 -W -Wformat=2 -Wswitch -Wshadow -Wwrite-strings -Wuninitialized -Wall -pipe -mtune=native -march=native -fomit-frame-pointer -msse2 -msse -mmmx -mfpmath=sse -pedantic -D_FORTIFY_SOURCE=2 -Wpointer-arith -Wstrict-prototypes -fstack-protector -Wstack-protector -Wextra -Wbad-function-cast -Wcast-align -Wcast-qual -Wdisabled-optimization -Wendif-labels -Wfloat-equal -Wformat-nonliteral -Winline -Wmissing-declarations -Wmissing-prototypes -Wnested-externs -Wpointer-arith -Wundef -Wformat-security -ftree-vectorize -fdiagnostics-color=auto -fno-strict-aliasing -I/usr/local/include'
ccversion='', gccversion='4.9.2', gccosandvers=''
intsize=4, longsize=8, ptrsize=8, doublesize=8, byteorder=12345678
d_longlong=define, longlongsize=8, d_longdbl=define, longdblsize=16
ivtype='long', ivsize=8, nvtype='double', nvsize=8, Off_t='off_t', lseeksize=8
alignbytes=8, prototype=define
Linker and Libraries:
ld='cc', ldflags =' -fstack-protector -L/usr/local/lib'
libpth=/usr/local/lib /lib/x86_64-linux-gnu /lib/../lib /usr/lib/x86_64-linux-gnu /usr/lib/../lib /lib /usr/lib
libs=-lnsl -lgdbm -ldb -ldl -lm -lcrypt -lutil -lpthread -lc -lgdbm_compat
perllibs=-lnsl -ldl -lm -lcrypt -lutil -lpthread -lc
libc=libc-2.19.so, so=so, useshrplib=false, libperl=libperl.a
gnulibc_version='2.19'
Dynamic Linking:
dlsrc=dl_dlopen.xs, dlext=so, d_dlsymun=undef, ccdlflags='-Wl,-E'
cccdlflags='-fPIC', lddlflags='-shared -O2 -L/usr/local/lib -fstack-protector'
Characteristics of this binary (from libperl):
Compile-time options: HAS_TIMES MULTIPLICITY PERLIO_LAYERS
PERL_DONT_CREATE_GVSV
PERL_HASH_FUNC_ONE_AT_A_TIME_HARD
PERL_IMPLICIT_CONTEXT PERL_MALLOC_WRAP
PERL_PRESERVE_IVUV PERL_SAWAMPERSAND PERL_USE_DEVEL
USE_64_BIT_ALL USE_64_BIT_INT USE_ITHREADS
USE_LARGE_FILES USE_LOCALE USE_LOCALE_COLLATE
USE_LOCALE_CTYPE USE_LOCALE_NUMERIC USE_PERLIO
USE_PERL_ATOF USE_REENTRANT_API
Built under linux
Compiled at Nov 12 2014 14:20:50
%ENV:
PERL5LIB="/home/njh/.cpan/build/Throwable-0.200013-2/blib/arch:/home/njh/.cpan/build/Throwable-0.200013-2/blib/lib:/home/njh/.cpan/build/Data-DPath-0.57-2/blib/arch:/home/njh/.cpan/build/Data-DPath-0.57-2/blib/lib:/home/njh/.cpan/build/Iterator-Util-0.02-2/blib/arch:/home/njh/.cpan/build/Iterator-Util-0.02-2/blib/lib:/home/njh/.cpan/build/Iterator-0.03-2/blib/arch:/home/njh/.cpan/build/Iterator-0.03-2/blib/lib:/home/njh/.cpan/build/Config-Any-0.32-5/blib/arch:/home/njh/.cpan/build/Config-Any-0.32-5/blib/lib:/home/njh/.cpan/build/Beam-Service-0.001-2/blib/arch:/home/njh/.cpan/build/Beam-Service-0.001-2/blib/lib:/home/njh/.cpan/build/Beam-Emitter-1.007-2/blib/arch:/home/njh/.cpan/build/Beam-Emitter-1.007-2/blib/lib:/home/njh/.cpan/build/Type-Tiny-1.002001-4/blib/arch:/home/njh/.cpan/build/Type-Tiny-1.002001-4/blib/lib:/home/njh/.cpan/build/Exporter-Tiny-1.000000-0/blib/arch:/home/njh/.cpan/build/Exporter-Tiny-1.000000-0/blib/lib:/home/njh/.cpan/build/Test-Lib-0.002-2/blib/arch:/home/njh/.cpan/build/Test-Lib-0.002-2/blib/lib:/home/njh/.cpan/build/Test-API-0.010-2/blib/arch:/home/njh/.cpan/build/Test-API-0.010-2/blib/lib"
PERL5OPT=""
PERL5_CPANPLUS_IS_RUNNING="12603"
PERL5_CPAN_IS_RUNNING="12603"
PERL5_MINISMOKEBOX="0.68"
PERLBREW_LIB=""
PERLBREW_MANPATH="/home/njh/perl5/perlbrew/perls/perl-5.18.4/man"
PERLBREW_PATH="/home/njh/perl5/perlbrew/bin:/home/njh/perl5/perlbrew/perls/perl-5.18.4/bin"
PERLBREW_PERL="perl-5.18.4"
PERLBREW_ROOT="/home/njh/perl5/perlbrew"
PERLBREW_SHELLRC_VERSION="0.82"
PERLBREW_VERSION="0.82"
PERL_EXTUTILS_AUTOINSTALL="--defaultdeps"
PERL_LOCAL_LIB_ROOT=""
PERL_MM_USE_DEFAULT="1"
@INC:
/home/njh/.cpan/build/Throwable-0.200013-2/blib/arch
/home/njh/.cpan/build/Throwable-0.200013-2/blib/lib
/home/njh/.cpan/build/Data-DPath-0.57-2/blib/arch
/home/njh/.cpan/build/Data-DPath-0.57-2/blib/lib
/home/njh/.cpan/build/Iterator-Util-0.02-2/blib/arch
/home/njh/.cpan/build/Iterator-Util-0.02-2/blib/lib
/home/njh/.cpan/build/Iterator-0.03-2/blib/arch
/home/njh/.cpan/build/Iterator-0.03-2/blib/lib
/home/njh/.cpan/build/Config-Any-0.32-5/blib/arch
/home/njh/.cpan/build/Config-Any-0.32-5/blib/lib
/home/njh/.cpan/build/Beam-Service-0.001-2/blib/arch
/home/njh/.cpan/build/Beam-Service-0.001-2/blib/lib
/home/njh/.cpan/build/Beam-Emitter-1.007-2/blib/arch
/home/njh/.cpan/build/Beam-Emitter-1.007-2/blib/lib
/home/njh/.cpan/build/Type-Tiny-1.002001-4/blib/arch
/home/njh/.cpan/build/Type-Tiny-1.002001-4/blib/lib
/home/njh/.cpan/build/Exporter-Tiny-1.000000-0/blib/arch
/home/njh/.cpan/build/Exporter-Tiny-1.000000-0/blib/lib
/home/njh/.cpan/build/Test-Lib-0.002-2/blib/arch
/home/njh/.cpan/build/Test-Lib-0.002-2/blib/lib
/home/njh/.cpan/build/Test-API-0.010-2/blib/arch
/home/njh/.cpan/build/Test-API-0.010-2/blib/lib
/home/njh/perl5/perlbrew/perls/perl-5.18.4/lib/site_perl/5.18.4/x86_64-linux-thread-multi
/home/njh/perl5/perlbrew/perls/perl-5.18.4/lib/site_perl/5.18.4
/home/njh/perl5/perlbrew/perls/perl-5.18.4/lib/5.18.4/x86_64-linux-thread-multi
/home/njh/perl5/perlbrew/perls/perl-5.18.4/lib/5.18.4
.