FFI-Platypus v1.10 Perl 5 v5.20.1 amd64-freebsd-ld

Status
Pass
From
Slaven Rezić (SREZIC)
Dist
FFI-Platypus v1.10
Platform
Perl 5 v5.20.1 amd64-freebsd-ld
Date
2020-02-06 00:21:36
ID
a2cb0082-4876-11ea-959c-af6a1f24ea8f
This distribution has been tested as part of the CPAN Testers
project, supporting the Perl programming language.  See
http://wiki.cpantesters.org/ for more information or email
questions to cpan-testers-discuss@perl.org


--
Dear Graham Ollis,

This is a computer-generated report for FFI-Platypus-1.10
on perl 5.20.1, created by CPAN-Reporter-1.2018.

Thank you for uploading your work to CPAN.  Congratulations!
All tests were successful.

Sections of this report:

    * Tester comments
    * Program output
    * Prerequisites
    * Environment and other context

------------------------------
TESTER COMMENTS
------------------------------

Additional comments from tester:

none provided

------------------------------
PROGRAM OUTPUT
------------------------------

Output from '/usr/bin/make test':

"/usr/perl5.20.1Dp/bin/perl5.20.1" -MExtUtils::Command::MM -e 'cp_nonempty' -- lib/FFI/Platypus.bs blib/arch/auto/FFI/Platypus/Platypus.bs 644
CC t/ffi/align.c
CC t/ffi/align_array.c
CC t/ffi/align_fixed.c
CC t/ffi/align_string.c
CC t/ffi/basic.c
CC t/ffi/closure.c
CC t/ffi/color.c
CC t/ffi/complex_double.c
CC t/ffi/complex_float.c
CC t/ffi/double.c
CC t/ffi/float.c
CC t/ffi/gh117.c
CC t/ffi/gh174.c
CC t/ffi/longdouble.c
CC t/ffi/memcmp4.c
CC t/ffi/meta.c
CC t/ffi/pointer.c
CC t/ffi/record.c
CC t/ffi/sint16.c
CC t/ffi/sint32.c
CC t/ffi/sint64.c
CC t/ffi/sint8.c
CC t/ffi/string.c
CC t/ffi/string_array.c
CC t/ffi/uint16.c
CC t/ffi/uint32.c
CC t/ffi/uint64.c
CC t/ffi/uint8.c
CC t/ffi/variadic.c
LD t/ffi/libtest.so
PERL_DL_NONLAZY=1 "/usr/perl5.20.1Dp/bin/perl5.20.1" "-MExtUtils::Command::MM" "-MTest::Harness" "-e" "undef *Test::Harness::Switches; test_harness(0, 'blib/lib', 'blib/arch')" t/*.t
# 
# 
# 
# HARNESS_ACTIVE=1
# HARNESS_VERSION=3.30
# LC_ALL=de_DE.ISO8859-1
# PERL5LIB=/home/cpansand/.cpan/build/2020020601/FFI-Platypus-1.10-ccfPXT/blib/lib:/home/cpansand/.cpan/build/2020020601/FFI-Platypus-1.10-ccfPXT/blib/arch:/home/cpansand/.cpan/build/2020020601/Scalar-List-Utils-1.54-eDwVbg/blib/arch:/home/cpansand/.cpan/build/2020020601/Scalar-List-Utils-1.54-eDwVbg/blib/lib:/home/cpansand/.cpan/build/2020020601/constant-1.33-be3aUK/blib/arch:/home/cpansand/.cpan/build/2020020601/constant-1.33-be3aUK/blib/lib:/home/cpansand/.cpan/build/2020020601/ExtUtils-ParseXS-3.35-KY5g_Y/blib/arch:/home/cpansand/.cpan/build/2020020601/ExtUtils-ParseXS-3.35-KY5g_Y/blib/lib:/home/cpansand/.cpan/build/2020020601/ExtUtils-MakeMaker-7.44-LFyhyZ/blib/arch:/home/cpansand/.cpan/build/2020020601/ExtUtils-MakeMaker-7.44-LFyhyZ/blib/lib:/home/cpansand/.cpan/build/2020020601/Scalar-List-Utils-1.54-eDwVbg/blib/arch:/home/cpansand/.cpan/build/2020020601/Scalar-List-Utils-1.54-eDwVbg/blib/lib:/home/cpansand/.cpan/build/2020020601/constant-1.33-be3aUK/blib/arch:/home/cpansand/.cpan/build/2020020601/constant-1.33-be3aUK/blib/lib:/home/cpansand/.cpan/build/2020020601/ExtUtils-ParseXS-3.35-KY5g_Y/blib/arch:/home/cpansand/.cpan/build/2020020601/ExtUtils-ParseXS-3.35-KY5g_Y/blib/lib:/home/cpansand/.cpan/build/2020020601/ExtUtils-MakeMaker-7.44-LFyhyZ/blib/arch:/home/cpansand/.cpan/build/2020020601/ExtUtils-MakeMaker-7.44-LFyhyZ/blib/lib
# PERL5OPT=
# PERL5_CPANPLUS_IS_RUNNING=75102
# PERL5_CPAN_IS_RUNNING=75102
# PERL5_CPAN_IS_RUNNING_IN_RECURSION=74930,75102
# PERLDOC=-MPod::Perldoc::ToTextOverstrike
# PERL_BATCH=yes
# PERL_CANARY_STABILITY_NOPROMPT=1
# PERL_CPAN_REPORTER_CONFIG=/var/tmp/cpansmoker-1023/2020020601/cpanreporter_000_config.ini
# PERL_DL_NONLAZY=1
# PERL_EXTUTILS_AUTOINSTALL=--defaultdeps
# SHELL=/usr/local/bin/zsh
# 
# 
# 
# PERL5LIB path
# /home/cpansand/.cpan/build/2020020601/FFI-Platypus-1.10-ccfPXT/blib/lib
# /home/cpansand/.cpan/build/2020020601/FFI-Platypus-1.10-ccfPXT/blib/arch
# /home/cpansand/.cpan/build/2020020601/Scalar-List-Utils-1.54-eDwVbg/blib/arch
# /home/cpansand/.cpan/build/2020020601/Scalar-List-Utils-1.54-eDwVbg/blib/lib
# /home/cpansand/.cpan/build/2020020601/constant-1.33-be3aUK/blib/arch
# /home/cpansand/.cpan/build/2020020601/constant-1.33-be3aUK/blib/lib
# /home/cpansand/.cpan/build/2020020601/ExtUtils-ParseXS-3.35-KY5g_Y/blib/arch
# /home/cpansand/.cpan/build/2020020601/ExtUtils-ParseXS-3.35-KY5g_Y/blib/lib
# /home/cpansand/.cpan/build/2020020601/ExtUtils-MakeMaker-7.44-LFyhyZ/blib/arch
# /home/cpansand/.cpan/build/2020020601/ExtUtils-MakeMaker-7.44-LFyhyZ/blib/lib
# /home/cpansand/.cpan/build/2020020601/Scalar-List-Utils-1.54-eDwVbg/blib/arch
# /home/cpansand/.cpan/build/2020020601/Scalar-List-Utils-1.54-eDwVbg/blib/lib
# /home/cpansand/.cpan/build/2020020601/constant-1.33-be3aUK/blib/arch
# /home/cpansand/.cpan/build/2020020601/constant-1.33-be3aUK/blib/lib
# /home/cpansand/.cpan/build/2020020601/ExtUtils-ParseXS-3.35-KY5g_Y/blib/arch
# /home/cpansand/.cpan/build/2020020601/ExtUtils-ParseXS-3.35-KY5g_Y/blib/lib
# /home/cpansand/.cpan/build/2020020601/ExtUtils-MakeMaker-7.44-LFyhyZ/blib/arch
# /home/cpansand/.cpan/build/2020020601/ExtUtils-MakeMaker-7.44-LFyhyZ/blib/lib
# 
# 
# 
# perl                5.020001
# Alien::Base         0.015
# Capture::Tiny       0.28
# Devel::Hide         0.0009
# ExtUtils::CBuilder  0.280217
# ExtUtils::MakeMaker 7.44
# ExtUtils::ParseXS   3.35
# FFI::CheckLib       0.11
# IPC::Cmd            0.92
# JSON::PP            2.27400
# List::Util          1.54
# Math::LongDouble    -
# PkgConfig           -
# Test::More          1.001014
# constant            1.33
# forks               -
# 
# 
# 
# mode : system
# Alien::FFI::pkgconfig->VERSION      = undef
# Alien::FFI::pkgconfig->install_type = system
# Alien::FFI::pkgconfig->cflags       = -I/usr/local/lib/libffi-3.2.1/include  
# Alien::FFI::pkgconfig->libs         = -L/usr/local/lib -lffi  
# Alien::FFI::pkgconfig->version      = 3.2.1
# 
# 
# 
# ffi.platypus.memory.strdup_impl =libc
# ffi.platypus.memory.strndup_impl=libc
# 
# 
# 
# Types:
#   double   : double, float complex
#   float    : float
#   longdouble : double complex, long double, long double complex
#   sint16   : int16_t, short, signed short
#   sint32   : int, int32_t, senum, signed int, wchar_t, wint_t
#   sint64   : blkcnt_t, int64_t, intptr_t, long, long long, off_t, ptrdiff_t, signed long, signed long long, ssize_t, time_t
#   sint8    : char, int8_t, signed char
#   uint16   : mode_t, nlink_t, uint16_t, unsigned short, ushort
#   uint32   : blksize_t, dev_t, enum, gid_t, ino_t, uid_t, uint, uint32_t, unsigned int
#   uint64   : size_t, uint64_t, uintptr_t, ulong, unsigned long, unsigned long long
#   uint8    : bool, uchar, uint8_t, unsigned char
# 
# 
# 
# ABIs:
#   default_abi          2
#   fastcall             4
#   pascal               6
#   register             7
#   stdcall              5
#   sysv                 1
#   thiscall             3
#   unix64               2
# 
# 
# 
# Probes:
#   alloca               1
#   longdouble           1
#   bigendian64          0
#   abi                  1
#   recordvalue          1
#   variadic             1
#   bigendian            0
# 
# 
# 
# [PLATFORM]
# osname            : freebsd
# cc                : cc
# cxx               : c++
# for               : gfortran
# ld                : cc
# ccflags           : -DPIC -fPIC -DHAS_FPSETMASK -DHAS_FLOATINGPOINT_H -fno-strict-aliasing -pipe -fstack-protector -I/usr/local/include -O -I/home/cpansand/.cpan/build/2020020601/FFI-Platypus-1.10-ccfPXT/blib/lib/auto/share/dist/FFI-Platypus/include
# ldflags           : -shared -L/usr/local/lib -fstack-protector
# object suffix     : .o
# library prefix    : lib
# library suffix    : .so
# cc mm works       : -MM
# 
# 
# 
t/00_diag.t .............................. ok
t/01_use.t ............................... ok
t/ffi_build.t ............................ ok
t/ffi_build_file_base.t .................. ok
t/ffi_build_file_c.t ..................... ok
t/ffi_build_file_cxx.t ................... ok
t/ffi_build_file_library.t ............... ok
t/ffi_build_file_object.t ................ ok
t/ffi_build_mm.t ......................... ok
t/ffi_build_platform.t ................... ok
t/ffi_platypus.t ......................... ok
t/ffi_platypus_api.t ..................... ok
t/ffi_platypus_buffer.t .................. ok
t/ffi_platypus_bundle.t .................. ok
t/ffi_platypus_closure.t ................. ok
t/ffi_platypus_constant.t ................ ok
t/ffi_platypus_declare.t ................. ok
t/ffi_platypus_dl.t ...................... ok
t/ffi_platypus_function.t ................ ok
t/ffi_platypus_function_wrapper.t ........ ok
t/ffi_platypus_internal.t ................ ok
t/ffi_platypus_lang.t .................... ok
t/ffi_platypus_lang_asm.t ................ ok
t/ffi_platypus_lang_c.t .................. ok
t/ffi_platypus_lang_win32.t .............. ok
t/ffi_platypus_legacy.t .................. ok
t/ffi_platypus_memory.t .................. ok
t/ffi_platypus_record.t .................. ok
t/ffi_platypus_record_meta.t ............. ok
t/ffi_platypus_record_tiearray.t ......... ok
t/ffi_platypus_shareconfig.t ............. ok
t/ffi_platypus_type.t .................... ok
t/ffi_platypus_type_pointersizebuffer.t .. ok
t/ffi_platypus_type_stringarray.t ........ ok
t/ffi_platypus_type_stringpointer.t ...... ok
t/ffi_platypus_typeparser.t .............. ok
t/ffi_platypus_typeparser_version0.t ..... ok
t/ffi_platypus_typeparser_version1.t ..... ok
t/ffi_probe.t ............................ ok
t/ffi_probe_runner.t ..................... ok
t/ffi_probe_runner_builder.t ............. ok
t/ffi_probe_runner_result.t .............. ok
t/ffi_temp.t ............................. ok
t/forks.t ................................ skipped: Test requires forks
t/gh117.t ................................ ok
t/gh129.t ................................ ok
t/memory.t ............................... skipped: tested only in CI
t/threads.t .............................. skipped: Test requires a threading Perl
t/type_complex_double.t .................. skipped: Test requires support for double complex
t/type_complex_float.t ................... skipped: Test requires support for float complex
t/type_custom.t .......................... ok
t/type_double.t .......................... ok
t/type_float.t ........................... ok
t/type_longdouble.t ...................... ok
t/type_longdouble__array.t ............... ok
t/type_longdouble__hide.t ................ skipped: test requires Devel::Hide 0.0010
t/type_longdouble__ptr.t ................. ok
t/type_opaque.t .......................... ok
t/type_record.t .......................... ok
t/type_record_value.t .................... ok
t/type_sint16.t .......................... ok
t/type_sint32.t .......................... ok
t/type_sint64.t .......................... ok
t/type_sint8.t ........................... ok
t/type_string.t .......................... ok
t/type_uint16.t .......................... ok
t/type_uint32.t .......................... ok
t/type_uint64.t .......................... ok
t/type_uint8.t ........................... ok
All tests successful.
Files=69, Tests=338,  7 wallclock secs ( 0.06 usr  0.37 sys +  1.20 cusr  3.91 csys =  5.54 CPU)
Result: PASS

------------------------------
PREREQUISITES
------------------------------

Prerequisite modules loaded:

requires:

    Module              Need     Have    
    ------------------- -------- --------
    Capture::Tiny       0        0.28    
    constant            1.32     1.33    
    ExtUtils::MakeMaker 7.12     7.44    
    FFI::CheckLib       0.05     0.11    
    IPC::Cmd            0        0.92    
    JSON::PP            0        2.27400 
    List::Util          1.45     1.54    
    perl                5.008001 5.020001

build_requires:

    Module              Need     Have    
    ------------------- -------- --------
    Capture::Tiny       0        0.28    
    ExtUtils::CBuilder  0        0.280217
    Test::More          0.98     1.001014

configure_requires:

    Module              Need     Have    
    ------------------- -------- --------
    Capture::Tiny       0        0.28    
    ExtUtils::MakeMaker 7.12     7.44    
    ExtUtils::ParseXS   3.30     3.35    
    IPC::Cmd            0        0.92    
    perl                5.006    5.020001


------------------------------
ENVIRONMENT AND OTHER CONTEXT
------------------------------

Environment variables:

    LC_ALL = de_DE.ISO8859-1
    PATH = /usr/local/bin:/usr/bin:/bin:/usr/local/sbin:/usr/sbin:/sbin:/home/cpansand/bin/freebsd10.3:/home/cpansand/bin/sh:/home/cpansand/bin:/usr/games:/home/cpansand/devel:/home/eserte/src/srezic-misc/scripts
    PERL5LIB = /home/cpansand/.cpan/build/2020020601/Scalar-List-Utils-1.54-eDwVbg/blib/arch:/home/cpansand/.cpan/build/2020020601/Scalar-List-Utils-1.54-eDwVbg/blib/lib:/home/cpansand/.cpan/build/2020020601/constant-1.33-be3aUK/blib/arch:/home/cpansand/.cpan/build/2020020601/constant-1.33-be3aUK/blib/lib:/home/cpansand/.cpan/build/2020020601/ExtUtils-ParseXS-3.35-KY5g_Y/blib/arch:/home/cpansand/.cpan/build/2020020601/ExtUtils-ParseXS-3.35-KY5g_Y/blib/lib:/home/cpansand/.cpan/build/2020020601/ExtUtils-MakeMaker-7.44-LFyhyZ/blib/arch:/home/cpansand/.cpan/build/2020020601/ExtUtils-MakeMaker-7.44-LFyhyZ/blib/lib
    PERL5OPT = 
    PERL5_CPANPLUS_IS_RUNNING = 75102
    PERL5_CPAN_IS_RUNNING = 75102
    PERL5_CPAN_IS_RUNNING_IN_RECURSION = 74930,75102
    PERLDOC = -MPod::Perldoc::ToTextOverstrike
    PERL_BATCH = yes
    PERL_CANARY_STABILITY_NOPROMPT = 1
    PERL_CPAN_REPORTER_CONFIG = /var/tmp/cpansmoker-1023/2020020601/cpanreporter_000_config.ini
    PERL_EXTUTILS_AUTOINSTALL = --defaultdeps
    SHELL = /usr/local/bin/zsh
    TERM = screen
    TMPDIR = /var/tmp/cpansmoker-1023/2020020601

Perl special variables (and OS-specific diagnostics, for MSWin32):

    $^X = /usr/perl5.20.1Dp/bin/perl5.20.1
    $UID/$EUID = 1023 / 1023
    $GID = 1023 1023
    $EGID = 1023 1023

Perl module toolchain versions installed:

    Module              Have    
    ------------------- --------
    CPAN                2.05    
    CPAN::Meta          2.143240
    Cwd                 3.48    
    ExtUtils::CBuilder  0.280217
    ExtUtils::Command   7.44    
    ExtUtils::Install   2.06    
    ExtUtils::MakeMaker 7.44    
    ExtUtils::Manifest  1.70    
    ExtUtils::ParseXS   3.35    
    File::Spec          3.48    
    JSON                2.90    
    JSON::PP            2.27400 
    Module::Build       0.4211  
    Module::Signature   n/a     
    Parse::CPAN::Meta   1.4422  
    Test::Harness       3.30    
    Test::More          1.001014
    YAML                1.14    
    YAML::Syck          1.29    
    version             0.9909  


--

Summary of my perl5 (revision 5 version 20 subversion 1) configuration:
   
  Platform:
    osname=freebsd, osvers=10.1-release, archname=amd64-freebsd-ld
    uname='freebsd cvrsnica-freebsd-101.herceg.de 10.1-release freebsd 10.1-release #0 r274401: tue nov 11 21:02:49 utc 2014 root@releng1.nyi.freebsd.org:usrobjusrsrcsysgeneric amd64 '
    config_args='-ds -e -Dprefix=/usr/perl5.20.1Dp -Duselongdouble'
    hint=recommended, useposix=true, d_sigaction=define
    useithreads=undef, usemultiplicity=undef
    use64bitint=define, use64bitall=define, uselongdouble=define
    usemymalloc=n, bincompat5005=undef
  Compiler:
    cc='cc', ccflags ='-DHAS_FPSETMASK -DHAS_FLOATINGPOINT_H -fno-strict-aliasing -pipe -fstack-protector -I/usr/local/include',
    optimize='-O',
    cppflags='-DHAS_FPSETMASK -DHAS_FLOATINGPOINT_H -fno-strict-aliasing -pipe -fstack-protector -I/usr/local/include'
    ccversion='', gccversion='4.2.1 Compatible FreeBSD Clang 3.4.1 (tags/RELEASE_34/dot1-final 208032)', gccosandvers=''
    intsize=4, longsize=8, ptrsize=8, doublesize=8, byteorder=12345678
    d_longlong=define, longlongsize=8, d_longdbl=define, longdblsize=16
    ivtype='long', ivsize=8, nvtype='long double', nvsize=16, Off_t='off_t', lseeksize=8
    alignbytes=16, prototype=define
  Linker and Libraries:
    ld='cc', ldflags ='-pthread -Wl,-E  -fstack-protector -L/usr/local/lib'
    libpth=/usr/lib /usr/local/lib /usr/include/clang/3.4.1 /usr/lib
    libs=-lgdbm -lm -lcrypt -lutil -lc
    perllibs=-lm -lcrypt -lutil -lc
    libc=, so=so, useshrplib=false, libperl=libperl.a
    gnulibc_version=''
  Dynamic Linking:
    dlsrc=dl_dlopen.xs, dlext=so, d_dlsymun=undef, ccdlflags=' '
    cccdlflags='-DPIC -fPIC', lddlflags='-shared  -L/usr/local/lib -fstack-protector'


Characteristics of this binary (from libperl): 
  Compile-time options: HAS_TIMES PERLIO_LAYERS PERL_DONT_CREATE_GVSV
                        PERL_HASH_FUNC_ONE_AT_A_TIME_HARD PERL_MALLOC_WRAP
                        PERL_NEW_COPY_ON_WRITE PERL_PRESERVE_IVUV
                        USE_64_BIT_ALL USE_64_BIT_INT USE_LARGE_FILES
                        USE_LOCALE USE_LOCALE_COLLATE USE_LOCALE_CTYPE
                        USE_LOCALE_NUMERIC USE_LONG_DOUBLE USE_PERLIO
                        USE_PERL_ATOF
  Built under freebsd
  Compiled at Feb 13 2015 08:17:27
  %ENV:
    PERL5LIB="/home/cpansand/.cpan/build/2020020601/Scalar-List-Utils-1.54-eDwVbg/blib/arch:/home/cpansand/.cpan/build/2020020601/Scalar-List-Utils-1.54-eDwVbg/blib/lib:/home/cpansand/.cpan/build/2020020601/constant-1.33-be3aUK/blib/arch:/home/cpansand/.cpan/build/2020020601/constant-1.33-be3aUK/blib/lib:/home/cpansand/.cpan/build/2020020601/ExtUtils-ParseXS-3.35-KY5g_Y/blib/arch:/home/cpansand/.cpan/build/2020020601/ExtUtils-ParseXS-3.35-KY5g_Y/blib/lib:/home/cpansand/.cpan/build/2020020601/ExtUtils-MakeMaker-7.44-LFyhyZ/blib/arch:/home/cpansand/.cpan/build/2020020601/ExtUtils-MakeMaker-7.44-LFyhyZ/blib/lib"
    PERL5OPT=""
    PERL5_CPANPLUS_IS_RUNNING="75102"
    PERL5_CPAN_IS_RUNNING="75102"
    PERL5_CPAN_IS_RUNNING_IN_RECURSION="74930,75102"
    PERLDOC="-MPod::Perldoc::ToTextOverstrike"
    PERL_BATCH="yes"
    PERL_CANARY_STABILITY_NOPROMPT="1"
    PERL_CPAN_REPORTER_CONFIG="/var/tmp/cpansmoker-1023/2020020601/cpanreporter_000_config.ini"
    PERL_EXTUTILS_AUTOINSTALL="--defaultdeps"
  @INC:
    /home/cpansand/.cpan/build/2020020601/Scalar-List-Utils-1.54-eDwVbg/blib/arch
    /home/cpansand/.cpan/build/2020020601/Scalar-List-Utils-1.54-eDwVbg/blib/lib
    /home/cpansand/.cpan/build/2020020601/constant-1.33-be3aUK/blib/arch
    /home/cpansand/.cpan/build/2020020601/constant-1.33-be3aUK/blib/lib
    /home/cpansand/.cpan/build/2020020601/ExtUtils-ParseXS-3.35-KY5g_Y/blib/arch
    /home/cpansand/.cpan/build/2020020601/ExtUtils-ParseXS-3.35-KY5g_Y/blib/lib
    /home/cpansand/.cpan/build/2020020601/ExtUtils-MakeMaker-7.44-LFyhyZ/blib/arch
    /home/cpansand/.cpan/build/2020020601/ExtUtils-MakeMaker-7.44-LFyhyZ/blib/lib
    /usr/perl5.20.1Dp/lib/site_perl/5.20.1/amd64-freebsd-ld
    /usr/perl5.20.1Dp/lib/site_perl/5.20.1
    /usr/perl5.20.1Dp/lib/5.20.1/amd64-freebsd-ld
    /usr/perl5.20.1Dp/lib/5.20.1
    .