DBIx-Class-MoreHelpers v1.0001 Perl 5 v5.18.2 amd64-freebsd

Status
Pass
From
Slaven Rezić
Dist
DBIx-Class-MoreHelpers v1.0001
Platform
Perl 5 v5.18.2 amd64-freebsd
Date
2023-07-10 16:05:48
ID
a260a01c-1f3b-11ee-8440-26416e8775ea
This distribution has been tested as part of the CPAN Testers
project, supporting the Perl programming language.  See
http://wiki.cpantesters.org/ for more information or email
questions to cpan-testers-discuss@perl.org


--
Dear D Ruth Holloway,

This is a computer-generated report for DBIx-Class-MoreHelpers-1.0001
on perl 5.18.2, created by CPAN-Reporter-1.2019.

Thank you for uploading your work to CPAN.  Congratulations!
All tests were successful.

Sections of this report:

    * Tester comments
    * Program output
    * Prerequisites
    * Environment and other context

------------------------------
TESTER COMMENTS
------------------------------

Additional comments from tester:

none provided

------------------------------
PROGRAM OUTPUT
------------------------------

Output from '/usr/bin/make test':

PERL_DL_NONLAZY=1 "/usr/perl5.18.2/bin/perl" "-MExtUtils::Command::MM" "-MTest::Harness" "-e" "undef *Test::Harness::Switches; test_harness(0, 'blib/lib', 'blib/arch')" t/*.t
t/00-compile.t ......... ok
# 
# Versions for all modules listed in MYMETA.json (including optional ones):
# 
# === Configure Requires ===
# 
#     Module               Want     Have
#     ------------------- ----- --------
#     ExtUtils::MakeMaker   any     7.70
#     perl                5.006 5.018002
# 
# === Build Requires ===
# 
#     Module              Want Have
#     ------------------- ---- ----
#     ExtUtils::MakeMaker  any 7.70
# 
# === Test Requires ===
# 
#     Module                      Want       Have
#     -------------------------- ----- ----------
#     DBIx::Class::Core            any      undef
#     DBIx::Class::ResultSet       any      undef
#     DBIx::Class::Schema          any      undef
#     ExtUtils::MakeMaker          any       7.70
#     File::Spec                   any       3.75
#     FindBin                      any       1.53
#     IO::Handle                   any       1.51
#     IPC::Open3                   any       1.13
#     Modern::Perl                 any 1.20220515
#     Test2::Plugin::ExitSummary   any   0.000155
#     Test2::Plugin::NoWarnings    any       0.09
#     Test2::Plugin::Times         any   0.000155
#     Test2::V0                    any   0.000155
#     Test::DBIx::Class            any       0.52
#     Test::More                   any   1.302195
#     base                         any       2.23
#     lib                          any       0.63
#     perl                       5.006   5.018002
# 
# === Test Recommends ===
# 
#     Module         Want     Have
#     ---------- -------- --------
#     CPAN::Meta 2.120900 2.150010
# 
# === Runtime Requires ===
# 
#     Module                                                  Want     Have
#     ------------------------------------------------------ ----- --------
#     DBIx::Class::Helper::ResultSet::SetOperations            any 2.036000
#     DBIx::Class::Helper::ResultSet::Shortcut::Search::Base   any 2.036000
#     parent                                                   any    0.241
#     perl                                                   5.006 5.018002
#     strict                                                   any     1.07
#     warnings                                                 any     1.18
# 
t/00-report-prereqs.t .. ok
t/001_blank.t .......... ok
t/002_is.t ............. ok
t/003_numerics.t ....... ok
All tests successful.
Files=5, Tests=42,  3 wallclock secs ( 0.02 usr  0.01 sys +  2.38 cusr  0.40 csys =  2.81 CPU)
Result: PASS

------------------------------
PREREQUISITES
------------------------------

Prerequisite modules loaded:

requires:

    Module                                                 Need     Have      
    ------------------------------------------------------ -------- ----------
    DBIx::Class::Helper::ResultSet::SetOperations          0        2.036000  
    DBIx::Class::Helper::ResultSet::Shortcut::Search::Base 0        2.036000  
    parent                                                 0        0.241     
    perl                                                   5.006    5.018002  
    strict                                                 0        1.07      
    warnings                                               0        1.18      

build_requires:

    Module                                                 Need     Have      
    ------------------------------------------------------ -------- ----------
    base                                                   0        2.23      
    DBIx::Class::Core                                      0        0         
    DBIx::Class::ResultSet                                 0        0         
    DBIx::Class::Schema                                    0        0         
    ExtUtils::MakeMaker                                    0        7.70      
    File::Spec                                             0        3.75      
    FindBin                                                0        1.53      
    IO::Handle                                             0        1.51      
    IPC::Open3                                             0        1.13      
    lib                                                    0        0.63      
    Modern::Perl                                           0        1.20220515
    Test2::Plugin::ExitSummary                             0        0.000155  
    Test2::Plugin::NoWarnings                              0        0.09      
    Test2::Plugin::Times                                   0        0.000155  
    Test2::V0                                              0        0.000155  
    Test::DBIx::Class                                      0        0.52      
    Test::More                                             0        1.302195  

configure_requires:

    Module                                                 Need     Have      
    ------------------------------------------------------ -------- ----------
    ExtUtils::MakeMaker                                    0        7.70      
    perl                                                   5.006    5.018002  

opt_build_requires:

    Module                                                 Need     Have      
    ------------------------------------------------------ -------- ----------
    CPAN::Meta                                             2.120900 2.150010  


------------------------------
ENVIRONMENT AND OTHER CONTEXT
------------------------------

Environment variables:

    LC_ALL = de_DE.ISO8859-1
    PATH = /usr/local/bin:/usr/bin:/bin:/usr/local/sbin:/usr/sbin:/sbin:/home/cpansand/bin/freebsd9.3:/home/cpansand/bin/sh:/home/cpansand/bin:/usr/games:/home/cpansand/devel:/usr/home/eserte/src/srezic-misc/scripts
    PERL5LIB = 
    PERL5OPT = 
    PERL5_CPANPLUS_IS_RUNNING = 92162
    PERL5_CPAN_IS_RUNNING = 92162
    PERL5_CPAN_IS_RUNNING_IN_RECURSION = 91908,92162
    PERLDOC = -MPod::Perldoc::ToTextOverstrike
    PERL_BATCH = yes
    PERL_CANARY_STABILITY_NOPROMPT = 1
    PERL_CPAN_REPORTER_CONFIG = /var/tmp/cpansmoker-1023/2023071018/cpanreporter_000_config.ini
    PERL_EXTUTILS_AUTOINSTALL = --defaultdeps
    PERL_USE_UNSAFE_INC = 1
    SHELL = /usr/local/bin/zsh
    TERM = screen
    TMPDIR = /var/tmp/cpansmoker-1023/2023071018

Perl special variables (and OS-specific diagnostics, for MSWin32):

    $^X = /usr/perl5.18.2/bin/perl
    $UID/$EUID = 1023 / 1023
    $GID = 1023 1023
    $EGID = 1023 1023

Perl module toolchain versions installed:

    Module              Have    
    ------------------- --------
    CPAN                2.36    
    CPAN::Meta          2.150010
    Cwd                 3.75    
    ExtUtils::CBuilder  0.280236
    ExtUtils::Command   7.70    
    ExtUtils::Install   2.22    
    ExtUtils::MakeMaker 7.70    
    ExtUtils::Manifest  1.75    
    ExtUtils::ParseXS   3.35    
    File::Spec          3.75    
    JSON                4.10    
    JSON::PP            4.16    
    Module::Build       0.4234  
    Module::Signature   0.88    
    Parse::CPAN::Meta   2.150010
    Test2               1.302195
    Test::Harness       3.44    
    Test::More          1.302195
    YAML                1.30    
    YAML::Syck          1.34    
    version             0.9929  


--

Summary of my perl5 (revision 5 version 18 subversion 2) configuration:
   
  Platform:
    osname=freebsd, osvers=9.2-release-p4, archname=amd64-freebsd
    uname='freebsd cvrsnica-freebsd-92 9.2-release-p4 freebsd 9.2-release-p4 #0: tue apr 8 18:08:22 utc 2014 root@amd64-builder.daemonology.net:usrobjusrsrcsysgeneric amd64 '
    config_args='-ds -e -Dprefix=/usr/perl5.18.2'
    hint=recommended, useposix=true, d_sigaction=define
    useithreads=undef, usemultiplicity=undef
    useperlio=define, d_sfio=undef, uselargefiles=define, usesocks=undef
    use64bitint=define, use64bitall=define, uselongdouble=undef
    usemymalloc=n, bincompat5005=undef
  Compiler:
    cc='cc', ccflags ='-DHAS_FPSETMASK -DHAS_FLOATINGPOINT_H -fno-strict-aliasing -pipe -fstack-protector -I/usr/local/include',
    optimize='-O',
    cppflags='-DHAS_FPSETMASK -DHAS_FLOATINGPOINT_H -fno-strict-aliasing -pipe -fstack-protector -I/usr/local/include'
    ccversion='', gccversion='4.2.1 20070831 patched [FreeBSD]', gccosandvers=''
    intsize=4, longsize=8, ptrsize=8, doublesize=8, byteorder=12345678
    d_longlong=define, longlongsize=8, d_longdbl=define, longdblsize=16
    ivtype='long', ivsize=8, nvtype='double', nvsize=8, Off_t='off_t', lseeksize=8
    alignbytes=8, prototype=define
  Linker and Libraries:
    ld='cc', ldflags ='-Wl,-E  -fstack-protector -L/usr/local/lib'
    libpth=/usr/lib /usr/local/lib
    libs=-lgdbm -lm -lcrypt -lutil -lc
    perllibs=-lm -lcrypt -lutil -lc
    libc=, so=so, useshrplib=false, libperl=libperl.a
    gnulibc_version=''
  Dynamic Linking:
    dlsrc=dl_dlopen.xs, dlext=so, d_dlsymun=undef, ccdlflags=' '
    cccdlflags='-DPIC -fPIC', lddlflags='-shared  -L/usr/local/lib -fstack-protector'


Characteristics of this binary (from libperl): 
  Compile-time options: HAS_TIMES PERLIO_LAYERS PERL_DONT_CREATE_GVSV
                        PERL_HASH_FUNC_ONE_AT_A_TIME_HARD PERL_MALLOC_WRAP
                        PERL_PRESERVE_IVUV PERL_SAWAMPERSAND USE_64_BIT_ALL
                        USE_64_BIT_INT USE_LARGE_FILES USE_LOCALE
                        USE_LOCALE_COLLATE USE_LOCALE_CTYPE
                        USE_LOCALE_NUMERIC USE_PERLIO USE_PERL_ATOF
  Built under freebsd
  Compiled at May 16 2014 01:27:28
  %ENV:
    PERL5LIB=""
    PERL5OPT=""
    PERL5_CPANPLUS_IS_RUNNING="92162"
    PERL5_CPAN_IS_RUNNING="92162"
    PERL5_CPAN_IS_RUNNING_IN_RECURSION="91908,92162"
    PERLDOC="-MPod::Perldoc::ToTextOverstrike"
    PERL_BATCH="yes"
    PERL_CANARY_STABILITY_NOPROMPT="1"
    PERL_CPAN_REPORTER_CONFIG="/var/tmp/cpansmoker-1023/2023071018/cpanreporter_000_config.ini"
    PERL_EXTUTILS_AUTOINSTALL="--defaultdeps"
    PERL_USE_UNSAFE_INC="1"
  @INC:
    /usr/perl5.18.2/lib/site_perl/5.18.2/amd64-freebsd
    /usr/perl5.18.2/lib/site_perl/5.18.2
    /usr/perl5.18.2/lib/5.18.2/amd64-freebsd
    /usr/perl5.18.2/lib/5.18.2
    .