Statocles v0.093 Perl 5 v5.28.0 OpenBSD.amd64-openbsd-thread-multi

Status
Pass
From
Alceu Rodrigues de Freitas Junior
Dist
Statocles v0.093
Platform
Perl 5 v5.28.0 OpenBSD.amd64-openbsd-thread-multi
Date
2018-06-21 13:04:30
ID
a25de594-7553-11e8-b12e-6ba6b1a5e34e
This distribution has been tested as part of the CPAN Testers
project, supporting the Perl programming language.  See
http://wiki.cpantesters.org/ for more information or email
questions to cpan-testers-discuss@perl.org


--
Dear Doug Bell,

This is a computer-generated report for Statocles-0.093
on perl 5.28.0, created by CPAN-Reporter-1.2018.

Thank you for uploading your work to CPAN.  Congratulations!
All tests were successful.

Sections of this report:

    * Tester comments
    * Program output
    * Prerequisites
    * Environment and other context

------------------------------
TESTER COMMENTS
------------------------------

Additional comments from tester:

this report is from an automated smoke testing program
and was not reviewed by a human for accuracy

------------------------------
PROGRAM OUTPUT
------------------------------

Output from '/usr/bin/make test':

Skip blib/lib/auto/share/dist/Statocles/theme/bootstrap/site/sitemap.xml.ep (unchanged)
Skip blib/lib/auto/share/dist/Statocles/create/blog/post.markdown (unchanged)
Skip blib/lib/auto/share/dist/Statocles/theme/default/site/robots.txt.ep (unchanged)
Skip blib/lib/auto/share/dist/Statocles/theme/bootstrap/site/header_after.html.ep (unchanged)
Skip blib/lib/auto/share/dist/Statocles/theme/bootstrap/site/robots.txt.ep (unchanged)
Skip blib/lib/auto/share/dist/Statocles/theme/default/plugin/highlight/solarized-dark.css (unchanged)
Skip blib/lib/auto/share/dist/Statocles/theme/default/site/footer.html.ep (unchanged)
Skip blib/lib/auto/share/dist/Statocles/theme/bootstrap/site/footer.html.ep (unchanged)
Skip blib/lib/auto/share/dist/Statocles/theme/default/site/navbar_extra.html.ep (unchanged)
Skip blib/lib/auto/share/dist/Statocles/theme/default/perldoc/source.html.ep (unchanged)
Skip blib/lib/auto/share/dist/Statocles/theme/default/perldoc/pod.html.ep (unchanged)
Skip blib/lib/auto/share/dist/Statocles/theme/bootstrap/site/head_after.html.ep (unchanged)
Skip blib/lib/auto/share/dist/Statocles/theme/default/site/header_after.html.ep (unchanged)
Skip blib/lib/auto/share/dist/Statocles/theme/default/site/head_after.html.ep (unchanged)
Skip blib/lib/auto/share/dist/Statocles/theme/bootstrap/site/style.html (unchanged)
Skip blib/lib/auto/share/dist/Statocles/theme/default/blog/post.html.ep (unchanged)
Skip blib/lib/auto/share/dist/Statocles/theme/default/site/style.html (unchanged)
Skip blib/lib/auto/share/dist/Statocles/create/script.yml (unchanged)
Skip blib/lib/auto/share/dist/Statocles/theme/default/css/skeleton.css (unchanged)
Skip blib/lib/auto/share/dist/Statocles/theme/bootstrap/site/sidebar_before.html.ep (unchanged)
Skip blib/lib/auto/share/dist/Statocles/theme/bootstrap/blog/index.rss.ep (unchanged)
Skip blib/lib/auto/share/dist/Statocles/theme/default/css/statocles-default.css (unchanged)
Skip blib/lib/auto/share/dist/Statocles/theme/bootstrap/perldoc/pod.html.ep (unchanged)
Skip blib/lib/auto/share/dist/Statocles/theme/bootstrap/plugin/highlight/solarized-light.css (unchanged)
Skip blib/lib/auto/share/dist/Statocles/theme/default/blog/index.html.ep (unchanged)
Skip blib/lib/auto/share/dist/Statocles/theme/default/plugin/highlight/solarized-light.css (unchanged)
Skip blib/lib/auto/share/dist/Statocles/theme/bootstrap/layout/default.html.ep (unchanged)
Skip blib/lib/auto/share/dist/Statocles/zsh/_statocles (unchanged)
Skip blib/lib/auto/share/dist/Statocles/theme/default/blog/index.rss.ep (unchanged)
Skip blib/lib/auto/share/dist/Statocles/theme/default/plugin/highlight/default.css (unchanged)
Skip blib/lib/auto/share/dist/Statocles/create/page/index.markdown (unchanged)
Skip blib/lib/auto/share/dist/Statocles/theme/default/layout/default.html.ep (unchanged)
Skip blib/lib/auto/share/dist/Statocles/theme/default/css/normalize.css (unchanged)
Skip blib/lib/auto/share/dist/Statocles/theme/bootstrap/perldoc/source.html.ep (unchanged)
Skip blib/lib/auto/share/dist/Statocles/theme/bootstrap/blog/index.html.ep (unchanged)
Skip blib/lib/auto/share/dist/Statocles/theme/bootstrap/site/navbar_extra.html.ep (unchanged)
Skip blib/lib/auto/share/dist/Statocles/theme/bootstrap/blog/index.atom.ep (unchanged)
Skip blib/lib/auto/share/dist/Statocles/theme/default/blog/index.atom.ep (unchanged)
Skip blib/lib/auto/share/dist/Statocles/theme/default/layout/full-width.html.ep (unchanged)
Skip blib/lib/auto/share/dist/Statocles/theme/default/layout/blank.html.ep (unchanged)
Skip blib/lib/auto/share/dist/Statocles/theme/default/site/sidebar_before.html.ep (unchanged)
Skip blib/lib/auto/share/dist/Statocles/theme/bootstrap/layout/blank.html.ep (unchanged)
Skip blib/lib/auto/share/dist/Statocles/create/site.yml (unchanged)
Skip blib/lib/auto/share/dist/Statocles/theme/bootstrap/css/statocles-bootstrap.css (unchanged)
Skip blib/lib/auto/share/dist/Statocles/theme/bootstrap/plugin/highlight/default.css (unchanged)
Skip blib/lib/auto/share/dist/Statocles/theme/bootstrap/blog/post.html.ep (unchanged)
Skip blib/lib/auto/share/dist/Statocles/theme/bootstrap/plugin/highlight/solarized-dark.css (unchanged)
Skip blib/lib/auto/share/dist/Statocles/theme/bootstrap/layout/full-width.html.ep (unchanged)
Skip blib/lib/auto/share/dist/Statocles/theme/default/site/sitemap.xml.ep (unchanged)
PERL_DL_NONLAZY=1 "/home/vegeta/perl5/perlbrew/perls/perl-blead/bin/perl5.28.0" "-MExtUtils::Command::MM" "-MTest::Harness" "-e" "undef *Test::Harness::Switches; test_harness(0, 'blib/lib', 'blib/arch')" t/*.t t/app/*.t t/app/basic/*.t t/app/blog/*.t t/app/perldoc/*.t t/app/role/*.t t/command/*.t t/deploy/*.t t/link/*.t t/page/*.t t/plugin/*.t t/template/*.t t/theme/*.t
t/00-compile.t ................ ok
# 
# Versions for all modules listed in MYMETA.json (including optional ones):
# 
# === Configure Requires ===
# 
#     Module                  Want    Have
#     ----------------------- ---- -------
#     ExtUtils::MakeMaker      any 7.35_03
#     File::ShareDir::Install 0.06    0.13
# 
# === Build Requires ===
# 
#     Module              Want    Have
#     ------------------- ---- -------
#     ExtUtils::MakeMaker  any 7.35_03
# 
# === Test Requires ===
# 
#     Module                  Want     Have
#     ------------------- -------- --------
#     Capture::Tiny            any     0.48
#     Dir::Self                any     0.11
#     ExtUtils::MakeMaker      any  7.35_03
#     File::Spec               any     3.74
#     IO::Handle               any     1.39
#     IPC::Open3               any     1.20
#     Storable                 any     3.11
#     Test::Deep               any    1.128
#     Test::Differences       0.64     0.64
#     Test::Exception         0.42     0.43
#     Test::Lib                any    0.002
#     Test::More          1.001005 1.302136
# 
# === Test Recommends ===
# 
#     Module         Want     Have
#     ---------- -------- --------
#     CPAN::Meta 2.120900 2.150010
# 
# === Runtime Requires ===
# 
#     Module                 Want      Have
#     ------------------ -------- ---------
#     Beam::Emitter         0.007     1.007
#     Beam::Wire            1.018     1.021
#     DateTime::Moonpig       any      1.03
#     Encode                  any      2.98
#     File::Share             any      0.25
#     Git::Repository         any     1.322
#     Import::Base          0.012     1.004
#     JSON::PP                any   2.97001
#     List::UtilsBy          0.09      0.11
#     Mojolicious            6.54      7.84
#     Moo                2.000001  2.003004
#     Path::Tiny            0.084     0.104
#     Pod::Simple            3.31      3.35
#     Pod::Usage::Return      any     0.003
#     Text::Markdown          any  1.000031
#     Text::Unidecode         any      1.30
#     Type::Tiny              any 1.003_004
#     Types::Path::Tiny       any     0.006
#     YAML                    any      1.26
#     strict                  any      1.11
#     warnings                any      1.42
# 
# === Runtime Recommends ===
# 
#     Module                           Want     Have
#     ------------------------------- ----- --------
#     HTML::Lint::Pluggable            0.06     0.08
#     PPI                               any    1.236
#     Pod::Elemental                    any 0.103004
#     Pod::Weaver                     4.015    4.015
#     Syntax::Highlight::Engine::Kate   any     0.14
# 
t/00-report-prereqs.t ......... ok
t/app/basic/command.t ......... ok
t/app/basic/constructor.t ..... ok
t/app/basic/pages.t ........... ok
t/app/blog/command.t .......... ok
t/app/blog/constructor.t ...... ok
    # Current LC_TIME locale: C
t/app/blog/pages.t ............ ok
t/app/blog/post_date.t ........ ok
t/app/blog/recent_posts.t ..... ok
t/app/blog/slugs.t ............ ok
t/app/events.t ................ ok
t/app/perldoc/constructor.t ... ok
# /mnt/cpan_build_dir/vegeta/Statocles-0.093-0/t/share
t/app/perldoc/highlight.t ..... ok
t/app/perldoc/pages.t ......... ok
t/app/role/store.t ............ ok
t/app/template.t .............. ok
t/app/url.t ................... ok
t/command/apps.t .............. ok
t/command/build.t ............. ok
t/command/bundle.t ............ ok
    # Git version: 2.016002
t/command/create.t ............ ok
t/command/daemon.t ............ ok
t/command/deploy.t ............ ok
t/command/error.t ............. ok
t/command/help_and_version.t .. ok
t/command/mojo_app.t .......... ok
t/deploy/file.t ............... ok
# Git version: 2.016002
[Thu Jun 21 10:02:47 2018] [warn] No files changed
[Thu Jun 21 10:02:48 2018] [warn] No files changed
[Thu Jun 21 10:03:07 2018] [warn] Git remote "origin" does not exist. Not pushing.
[Thu Jun 21 10:03:09 2018] [warn] Git remote "nondefault" does not exist. Not pushing.
t/deploy/git.t ................ ok
t/deprecated.t ................ ok
t/document.t .................. ok
t/image.t ..................... ok
t/link.t ...................... ok
t/link/tree.t ................. ok
t/page/basename.t ............. ok
t/page/content_sections.t ..... ok
Invalid data attribute in document "/required.markdown". Data attributes that are not hashes are deprecated and will be removed in v2.0. Please use a hash instead. See Statocles::Help::Upgrading
Invalid data attribute in document "/links/alternate_single.markdown". Data attributes that are not hashes are deprecated and will be removed in v2.0. Please use a hash instead. See Statocles::Help::Upgrading
t/page/document.t ............. ok
t/page/file.t ................. ok
t/page/images.t ............... ok
t/page/links.t ................ ok
t/page/list.t ................. ok
t/page/list_item.t ............ ok
[Thu Jun 21 10:03:41 2018] [debug] Render page: /path/to/page.html
t/page/plain.t ................ ok
t/page/type.t ................. ok
t/person.t .................... ok
t/plugin.t .................... ok
Unescaped left brace in regex is deprecated here (and will be fatal in Perl 5.32), passed through in regex; marked by <-- HERE in m/^({ <-- HERE [^}]+})/ at /home/vegeta/perl5/perlbrew/perls/perl-blead/lib/site_perl/5.28.0/Syntax/Highlight/Engine/Kate/Template.pm line 850.
t/plugin/highlight.t .......... ok
t/plugin/html_lint.t .......... ok
t/plugin/link_check.t ......... ok
t/plugin/mermaid.t ............ ok
t/site.t ...................... ok
[Thu Jun 21 10:04:04 2018] [warn] Store path "/mnt/cpan_build_dir/vegeta/Statocles-0.093-0/t/share/DOES_NOT_EXIST" does not exist
t/store.t ..................... ok
t/template/basic.t ............ ok
t/template/content.t .......... ok
t/template/include.t .......... ok
t/template/markdown.t ......... ok
Odd number of elements in hash assignment at /home/vegeta/perl5/perlbrew/perls/perl-blead/lib/site_perl/5.28.0/Mojo/DOM/CSS.pm line 77.
Odd number of elements in hash assignment at /home/vegeta/perl5/perlbrew/perls/perl-blead/lib/site_perl/5.28.0/Mojo/DOM/CSS.pm line 77.
Odd number of elements in hash assignment at /home/vegeta/perl5/perlbrew/perls/perl-blead/lib/site_perl/5.28.0/Mojo/DOM/CSS.pm line 77.
Odd number of elements in hash assignment at /home/vegeta/perl5/perlbrew/perls/perl-blead/lib/site_perl/5.28.0/Mojo/DOM/CSS.pm line 77.
Odd number of elements in hash assignment at /home/vegeta/perl5/perlbrew/perls/perl-blead/lib/site_perl/5.28.0/Mojo/DOM/CSS.pm line 77.
Odd number of elements in hash assignment at /home/vegeta/perl5/perlbrew/perls/perl-blead/lib/site_perl/5.28.0/Mojo/DOM/CSS.pm line 77.
Odd number of elements in hash assignment at /home/vegeta/perl5/perlbrew/perls/perl-blead/lib/site_perl/5.28.0/Mojo/DOM/CSS.pm line 77.
Odd number of elements in hash assignment at /home/vegeta/perl5/perlbrew/perls/perl-blead/lib/site_perl/5.28.0/Mojo/DOM/CSS.pm line 77.
Odd number of elements in hash assignment at /home/vegeta/perl5/perlbrew/perls/perl-blead/lib/site_perl/5.28.0/Mojo/DOM/CSS.pm line 77.
Odd number of elements in hash assignment at /home/vegeta/perl5/perlbrew/perls/perl-blead/lib/site_perl/5.28.0/Mojo/DOM/CSS.pm line 77.
Odd number of elements in hash assignment at /home/vegeta/perl5/perlbrew/perls/perl-blead/lib/site_perl/5.28.0/Mojo/DOM/CSS.pm line 77.
Odd number of elements in hash assignment at /home/vegeta/perl5/perlbrew/perls/perl-blead/lib/site_perl/5.28.0/Mojo/DOM/CSS.pm line 77.
Odd number of elements in hash assignment at /home/vegeta/perl5/perlbrew/perls/perl-blead/lib/site_perl/5.28.0/Mojo/DOM/CSS.pm line 77.
Odd number of elements in hash assignment at /home/vegeta/perl5/perlbrew/perls/perl-blead/lib/site_perl/5.28.0/Mojo/DOM/CSS.pm line 77.
Odd number of elements in hash assignment at /home/vegeta/perl5/perlbrew/perls/perl-blead/lib/site_perl/5.28.0/Mojo/DOM/CSS.pm line 77.
Odd number of elements in hash assignment at /home/vegeta/perl5/perlbrew/perls/perl-blead/lib/site_perl/5.28.0/Mojo/DOM/CSS.pm line 77.
Odd number of elements in hash assignment at /home/vegeta/perl5/perlbrew/perls/perl-blead/lib/site_perl/5.28.0/Mojo/DOM/CSS.pm line 77.
Odd number of elements in hash assignment at /home/vegeta/perl5/perlbrew/perls/perl-blead/lib/site_perl/5.28.0/Mojo/DOM/CSS.pm line 77.
Odd number of elements in hash assignment at /home/vegeta/perl5/perlbrew/perls/perl-blead/lib/site_perl/5.28.0/Mojo/DOM/CSS.pm line 77.
Odd number of elements in hash assignment at /home/vegeta/perl5/perlbrew/perls/perl-blead/lib/site_perl/5.28.0/Mojo/DOM/CSS.pm line 77.
Odd number of elements in hash assignment at /home/vegeta/perl5/perlbrew/perls/perl-blead/lib/site_perl/5.28.0/Mojo/DOM/CSS.pm line 77.
Odd number of elements in hash assignment at /home/vegeta/perl5/perlbrew/perls/perl-blead/lib/site_perl/5.28.0/Mojo/DOM/CSS.pm line 77.
Odd number of elements in hash assignment at /home/vegeta/perl5/perlbrew/perls/perl-blead/lib/site_perl/5.28.0/Mojo/DOM/CSS.pm line 77.
Odd number of elements in hash assignment at /home/vegeta/perl5/perlbrew/perls/perl-blead/lib/site_perl/5.28.0/Mojo/DOM/CSS.pm line 77.
Odd number of elements in hash assignment at /home/vegeta/perl5/perlbrew/perls/perl-blead/lib/site_perl/5.28.0/Mojo/DOM/CSS.pm line 77.
Odd number of elements in hash assignment at /home/vegeta/perl5/perlbrew/perls/perl-blead/lib/site_perl/5.28.0/Mojo/DOM/CSS.pm line 77.
Odd number of elements in hash assignment at /home/vegeta/perl5/perlbrew/perls/perl-blead/lib/site_perl/5.28.0/Mojo/DOM/CSS.pm line 77.
Odd number of elements in hash assignment at /home/vegeta/perl5/perlbrew/perls/perl-blead/lib/site_perl/5.28.0/Mojo/DOM/CSS.pm line 77.
Odd number of elements in hash assignment at /home/vegeta/perl5/perlbrew/perls/perl-blead/lib/site_perl/5.28.0/Mojo/DOM/CSS.pm line 77.
Odd number of elements in hash assignment at /home/vegeta/perl5/perlbrew/perls/perl-blead/lib/site_perl/5.28.0/Mojo/DOM/CSS.pm line 77.
Odd number of elements in hash assignment at /home/vegeta/perl5/perlbrew/perls/perl-blead/lib/site_perl/5.28.0/Mojo/DOM/CSS.pm line 77.
Odd number of elements in hash assignment at /home/vegeta/perl5/perlbrew/perls/perl-blead/lib/site_perl/5.28.0/Mojo/DOM/CSS.pm line 77.
Odd number of elements in hash assignment at /home/vegeta/perl5/perlbrew/perls/perl-blead/lib/site_perl/5.28.0/Mojo/DOM/CSS.pm line 77.
Odd number of elements in hash assignment at /home/vegeta/perl5/perlbrew/perls/perl-blead/lib/site_perl/5.28.0/Mojo/DOM/CSS.pm line 77.
Odd number of elements in hash assignment at /home/vegeta/perl5/perlbrew/perls/perl-blead/lib/site_perl/5.28.0/Mojo/DOM/CSS.pm line 77.
Odd number of elements in hash assignment at /home/vegeta/perl5/perlbrew/perls/perl-blead/lib/site_perl/5.28.0/Mojo/DOM/CSS.pm line 77.
Odd number of elements in hash assignment at /home/vegeta/perl5/perlbrew/perls/perl-blead/lib/site_perl/5.28.0/Mojo/DOM/CSS.pm line 77.
Odd number of elements in hash assignment at /home/vegeta/perl5/perlbrew/perls/perl-blead/lib/site_perl/5.28.0/Mojo/DOM/CSS.pm line 77.
Odd number of elements in hash assignment at /home/vegeta/perl5/perlbrew/perls/perl-blead/lib/site_perl/5.28.0/Mojo/DOM/CSS.pm line 77.
Odd number of elements in hash assignment at /home/vegeta/perl5/perlbrew/perls/perl-blead/lib/site_perl/5.28.0/Mojo/DOM/CSS.pm line 77.
Odd number of elements in hash assignment at /home/vegeta/perl5/perlbrew/perls/perl-blead/lib/site_perl/5.28.0/Mojo/DOM/CSS.pm line 77.
Odd number of elements in hash assignment at /home/vegeta/perl5/perlbrew/perls/perl-blead/lib/site_perl/5.28.0/Mojo/DOM/CSS.pm line 77.
Odd number of elements in hash assignment at /home/vegeta/perl5/perlbrew/perls/perl-blead/lib/site_perl/5.28.0/Mojo/DOM/CSS.pm line 77.
Odd number of elements in hash assignment at /home/vegeta/perl5/perlbrew/perls/perl-blead/lib/site_perl/5.28.0/Mojo/DOM/CSS.pm line 77.
Odd number of elements in hash assignment at /home/vegeta/perl5/perlbrew/perls/perl-blead/lib/site_perl/5.28.0/Mojo/DOM/CSS.pm line 77.
Odd number of elements in hash assignment at /home/vegeta/perl5/perlbrew/perls/perl-blead/lib/site_perl/5.28.0/Mojo/DOM/CSS.pm line 77.
Odd number of elements in hash assignment at /home/vegeta/perl5/perlbrew/perls/perl-blead/lib/site_perl/5.28.0/Mojo/DOM/CSS.pm line 77.
Odd number of elements in hash assignment at /home/vegeta/perl5/perlbrew/perls/perl-blead/lib/site_perl/5.28.0/Mojo/DOM/CSS.pm line 77.
Odd number of elements in hash assignment at /home/vegeta/perl5/perlbrew/perls/perl-blead/lib/site_perl/5.28.0/Mojo/DOM/CSS.pm line 77.
Odd number of elements in hash assignment at /home/vegeta/perl5/perlbrew/perls/perl-blead/lib/site_perl/5.28.0/Mojo/DOM/CSS.pm line 77.
Odd number of elements in hash assignment at /home/vegeta/perl5/perlbrew/perls/perl-blead/lib/site_perl/5.28.0/Mojo/DOM/CSS.pm line 77.
Odd number of elements in hash assignment at /home/vegeta/perl5/perlbrew/perls/perl-blead/lib/site_perl/5.28.0/Mojo/DOM/CSS.pm line 77.
Odd number of elements in hash assignment at /home/vegeta/perl5/perlbrew/perls/perl-blead/lib/site_perl/5.28.0/Mojo/DOM/CSS.pm line 77.
Odd number of elements in hash assignment at /home/vegeta/perl5/perlbrew/perls/perl-blead/lib/site_perl/5.28.0/Mojo/DOM/CSS.pm line 77.
Odd number of elements in hash assignment at /home/vegeta/perl5/perlbrew/perls/perl-blead/lib/site_perl/5.28.0/Mojo/DOM/CSS.pm line 77.
Odd number of elements in hash assignment at /home/vegeta/perl5/perlbrew/perls/perl-blead/lib/site_perl/5.28.0/Mojo/DOM/CSS.pm line 77.
Odd number of elements in hash assignment at /home/vegeta/perl5/perlbrew/perls/perl-blead/lib/site_perl/5.28.0/Mojo/DOM/CSS.pm line 77.
Odd number of elements in hash assignment at /home/vegeta/perl5/perlbrew/perls/perl-blead/lib/site_perl/5.28.0/Mojo/DOM/CSS.pm line 77.
Odd number of elements in hash assignment at /home/vegeta/perl5/perlbrew/perls/perl-blead/lib/site_perl/5.28.0/Mojo/DOM/CSS.pm line 77.
Odd number of elements in hash assignment at /home/vegeta/perl5/perlbrew/perls/perl-blead/lib/site_perl/5.28.0/Mojo/DOM/CSS.pm line 77.
Odd number of elements in hash assignment at /home/vegeta/perl5/perlbrew/perls/perl-blead/lib/site_perl/5.28.0/Mojo/DOM/CSS.pm line 77.
Odd number of elements in hash assignment at /home/vegeta/perl5/perlbrew/perls/perl-blead/lib/site_perl/5.28.0/Mojo/DOM/CSS.pm line 77.
Odd number of elements in hash assignment at /home/vegeta/perl5/perlbrew/perls/perl-blead/lib/site_perl/5.28.0/Mojo/DOM/CSS.pm line 77.
Odd number of elements in hash assignment at /home/vegeta/perl5/perlbrew/perls/perl-blead/lib/site_perl/5.28.0/Mojo/DOM/CSS.pm line 77.
Odd number of elements in hash assignment at /home/vegeta/perl5/perlbrew/perls/perl-blead/lib/site_perl/5.28.0/Mojo/DOM/CSS.pm line 77.
Odd number of elements in hash assignment at /home/vegeta/perl5/perlbrew/perls/perl-blead/lib/site_perl/5.28.0/Mojo/DOM/CSS.pm line 77.
Odd number of elements in hash assignment at /home/vegeta/perl5/perlbrew/perls/perl-blead/lib/site_perl/5.28.0/Mojo/DOM/CSS.pm line 77.
Odd number of elements in hash assignment at /home/vegeta/perl5/perlbrew/perls/perl-blead/lib/site_perl/5.28.0/Mojo/DOM/CSS.pm line 77.
Odd number of elements in hash assignment at /home/vegeta/perl5/perlbrew/perls/perl-blead/lib/site_perl/5.28.0/Mojo/DOM/CSS.pm line 77.
Odd number of elements in hash assignment at /home/vegeta/perl5/perlbrew/perls/perl-blead/lib/site_perl/5.28.0/Mojo/DOM/CSS.pm line 77.
Odd number of elements in hash assignment at /home/vegeta/perl5/perlbrew/perls/perl-blead/lib/site_perl/5.28.0/Mojo/DOM/CSS.pm line 77.
Odd number of elements in hash assignment at /home/vegeta/perl5/perlbrew/perls/perl-blead/lib/site_perl/5.28.0/Mojo/DOM/CSS.pm line 77.
Odd number of elements in hash assignment at /home/vegeta/perl5/perlbrew/perls/perl-blead/lib/site_perl/5.28.0/Mojo/DOM/CSS.pm line 77.
Odd number of elements in hash assignment at /home/vegeta/perl5/perlbrew/perls/perl-blead/lib/site_perl/5.28.0/Mojo/DOM/CSS.pm line 77.
Odd number of elements in hash assignment at /home/vegeta/perl5/perlbrew/perls/perl-blead/lib/site_perl/5.28.0/Mojo/DOM/CSS.pm line 77.
Odd number of elements in hash assignment at /home/vegeta/perl5/perlbrew/perls/perl-blead/lib/site_perl/5.28.0/Mojo/DOM/CSS.pm line 77.
Odd number of elements in hash assignment at /home/vegeta/perl5/perlbrew/perls/perl-blead/lib/site_perl/5.28.0/Mojo/DOM/CSS.pm line 77.
Odd number of elements in hash assignment at /home/vegeta/perl5/perlbrew/perls/perl-blead/lib/site_perl/5.28.0/Mojo/DOM/CSS.pm line 77.
Odd number of elements in hash assignment at /home/vegeta/perl5/perlbrew/perls/perl-blead/lib/site_perl/5.28.0/Mojo/DOM/CSS.pm line 77.
Odd number of elements in hash assignment at /home/vegeta/perl5/perlbrew/perls/perl-blead/lib/site_perl/5.28.0/Mojo/DOM/CSS.pm line 77.
Odd number of elements in hash assignment at /home/vegeta/perl5/perlbrew/perls/perl-blead/lib/site_perl/5.28.0/Mojo/DOM/CSS.pm line 77.
Odd number of elements in hash assignment at /home/vegeta/perl5/perlbrew/perls/perl-blead/lib/site_perl/5.28.0/Mojo/DOM/CSS.pm line 77.
Odd number of elements in hash assignment at /home/vegeta/perl5/perlbrew/perls/perl-blead/lib/site_perl/5.28.0/Mojo/DOM/CSS.pm line 77.
Odd number of elements in hash assignment at /home/vegeta/perl5/perlbrew/perls/perl-blead/lib/site_perl/5.28.0/Mojo/DOM/CSS.pm line 77.
Odd number of elements in hash assignment at /home/vegeta/perl5/perlbrew/perls/perl-blead/lib/site_perl/5.28.0/Mojo/DOM/CSS.pm line 77.
Odd number of elements in hash assignment at /home/vegeta/perl5/perlbrew/perls/perl-blead/lib/site_perl/5.28.0/Mojo/DOM/CSS.pm line 77.
Odd number of elements in hash assignment at /home/vegeta/perl5/perlbrew/perls/perl-blead/lib/site_perl/5.28.0/Mojo/DOM/CSS.pm line 77.
Odd number of elements in hash assignment at /home/vegeta/perl5/perlbrew/perls/perl-blead/lib/site_perl/5.28.0/Mojo/DOM/CSS.pm line 77.
Odd number of elements in hash assignment at /home/vegeta/perl5/perlbrew/perls/perl-blead/lib/site_perl/5.28.0/Mojo/DOM/CSS.pm line 77.
Odd number of elements in hash assignment at /home/vegeta/perl5/perlbrew/perls/perl-blead/lib/site_perl/5.28.0/Mojo/DOM/CSS.pm line 77.
t/theme/check.t ............... ok
t/theme/helper.t .............. ok
t/theme/pages.t ............... ok
t/theme/template.t ............ ok
t/types.t ..................... ok
sh: HOPEFULLY_DOES_NOT_EXIST: not found
Terminated 
t/util.t ...................... ok
All tests successful.
Files=62, Tests=316, 217 wallclock secs ( 0.50 usr  0.80 sys + 138.75 cusr 65.26 csys = 205.31 CPU)
Result: PASS

------------------------------
PREREQUISITES
------------------------------

Prerequisite modules loaded:

requires:

    Module                          Need     Have     
    ------------------------------- -------- ---------
    Beam::Emitter                   0.007    1.007    
    Beam::Wire                      1.018    1.021    
    DateTime::Moonpig               0        1.03     
    Encode                          0        2.98     
    File::Share                     0        0.25     
    Git::Repository                 0        1.322    
    Import::Base                    0.012    1.004    
    JSON::PP                        0        2.97001  
    List::UtilsBy                   0.09     0.11     
    Mojolicious                     6.54     7.84     
    Moo                             2.000001 2.003004 
    Path::Tiny                      0.084    0.104    
    perl                            5.010    5.028000 
    Pod::Simple                     3.31     3.35     
    Pod::Usage::Return              0        0.003    
    strict                          0        1.11     
    Text::Markdown                  0        1.000031 
    Text::Unidecode                 0        1.30     
    Type::Tiny                      0        1.003_004
    Types::Path::Tiny               0        0.006    
    warnings                        0        1.42     
    YAML                            0        1.26     

build_requires:

    Module                          Need     Have     
    ------------------------------- -------- ---------
    Capture::Tiny                   0        0.48     
    Dir::Self                       0        0.11     
    ExtUtils::MakeMaker             0        7.35_03  
    File::Spec                      0        3.74     
    IO::Handle                      0        1.39     
    IPC::Open3                      0        1.20     
    Storable                        0        3.11     
    Test::Deep                      0        1.128    
    Test::Differences               0.64     0.64     
    Test::Exception                 0.42     0.43     
    Test::Lib                       0        0.002    
    Test::More                      1.001005 1.302136 

configure_requires:

    Module                          Need     Have     
    ------------------------------- -------- ---------
    ExtUtils::MakeMaker             0        7.35_03  
    File::ShareDir::Install         0.06     0.13     

opt_requires:

    Module                          Need     Have     
    ------------------------------- -------- ---------
    HTML::Lint::Pluggable           0.06     0.08     
    Pod::Elemental                  0        0.103004 
    Pod::Weaver                     4.015    4.015    
    PPI                             0        1.236    
    Syntax::Highlight::Engine::Kate 0        0.14     

opt_build_requires:

    Module                          Need     Have     
    ------------------------------- -------- ---------
    CPAN::Meta                      2.120900 2.150010 


------------------------------
ENVIRONMENT AND OTHER CONTEXT
------------------------------

Environment variables:

    AUTOMATED_TESTING = 1
    DBD_MYSQL_TESTDB = test
    DBD_MYSQL_TESTHOST = localhost
    DBD_MYSQL_TESTPASSWORD = 
    DBD_MYSQL_TESTPORT = 3306
    DBD_MYSQL_TESTUSER = vegeta
    EXTENDED_TESTING = 1
    PATH = /home/vegeta/perl5/perlbrew/bin:/home/vegeta/perl5/perlbrew/perls/perl-blead/bin:/home/vegeta/bin:/usr/bin:/bin:/usr/sbin:/sbin:/usr/X11R6/bin:/usr/local/bin:/usr/local/sbin
    PERL5LIB = 
    PERL5OPT = 
    PERL5_CPANPLUS_IS_RUNNING = 93615
    PERL5_CPAN_IS_RUNNING = 93615
    PERL5_CPAN_IS_RUNNING_IN_RECURSION = 89828,93615
    PERLBREW_HOME = /home/vegeta/.perlbrew
    PERLBREW_MANPATH = /home/vegeta/perl5/perlbrew/perls/perl-blead/man
    PERLBREW_PATH = /home/vegeta/perl5/perlbrew/bin:/home/vegeta/perl5/perlbrew/perls/perl-blead/bin
    PERLBREW_PERL = perl-blead
    PERLBREW_ROOT = /home/vegeta/perl5/perlbrew
    PERLBREW_SHELLRC_VERSION = 0.83
    PERLBREW_VERSION = 0.83
    PERL_CR_SMOKER_CURRENT = Statocles-0.093
    PERL_EXTUTILS_AUTOINSTALL = --defaultdeps
    PERL_MM_USE_DEFAULT = 1
    PERL_USE_UNSAFE_INC = 1
    SHELL = /usr/local/bin/bash
    TERM = vt220

Perl special variables (and OS-specific diagnostics, for MSWin32):

    $^X = /home/vegeta/perl5/perlbrew/perls/perl-blead/bin/perl5.28.0
    $UID/$EUID = 1001 / 1001
    $GID = 999 999 1001
    $EGID = 999 999 1001

Perl module toolchain versions installed:

    Module              Have    
    ------------------- --------
    CPAN                2.20    
    CPAN::Meta          2.150010
    Cwd                 3.74    
    ExtUtils::CBuilder  0.280230
    ExtUtils::Command   7.35_03 
    ExtUtils::Install   2.14    
    ExtUtils::MakeMaker 7.35_03 
    ExtUtils::Manifest  1.71    
    ExtUtils::ParseXS   3.39    
    File::Spec          3.74    
    JSON                2.97001 
    JSON::PP            2.97001 
    Module::Build       0.42_28 
    Module::Signature   0.81    
    Parse::CPAN::Meta   2.150010
    Test::Harness       3.42    
    Test::More          1.302136
    YAML                1.26    
    YAML::Syck          n/a     
    version             0.9924  


--

Summary of my perl5 (revision 5 version 28 subversion 0) configuration:
  Snapshot of: 197e7984e9f640254af80f8553707bad217f3814
  Platform:
    osname=openbsd
    osvers=6.3
    archname=OpenBSD.amd64-openbsd-thread-multi
    uname='openbsd cpan-smoker-openbsd 6.3 generic.mp#107 amd64 '
    config_args='-de -Dprefix=/home/vegeta/perl5/perlbrew/perls/perl-blead -Dman1dir=none -Dman3dir=none -Duse64bitall -Dusemultiplicity -Duse64bitint -Dusethreads -Dusedevel -Aeval:scriptdir=/home/vegeta/perl5/perlbrew/perls/perl-blead/bin'
    hint=recommended
    useposix=true
    d_sigaction=define
    useithreads=define
    usemultiplicity=define
    use64bitint=define
    use64bitall=define
    uselongdouble=undef
    usemymalloc=n
    default_inc_excludes_dot=define
    bincompat5005=undef
  Compiler:
    cc='cc'
    ccflags ='-pthread -fno-strict-aliasing -pipe -fstack-protector-strong -I/usr/local/include -D_FORTIFY_SOURCE=2'
    optimize='-O2'
    cppflags='-pthread -fno-strict-aliasing -pipe -fstack-protector-strong -I/usr/local/include'
    ccversion=''
    gccversion='4.2.1 Compatible OpenBSD Clang 5.0.1 (tags/RELEASE_501/final)'
    gccosandvers=''
    intsize=4
    longsize=8
    ptrsize=8
    doublesize=8
    byteorder=12345678
    doublekind=3
    d_longlong=define
    longlongsize=8
    d_longdbl=define
    longdblsize=16
    longdblkind=3
    ivtype='long'
    ivsize=8
    nvtype='double'
    nvsize=8
    Off_t='off_t'
    lseeksize=8
    alignbytes=8
    prototype=define
  Linker and Libraries:
    ld='cc'
    ldflags ='-pthread -Wl,-E  -fstack-protector-strong -L/usr/local/lib'
    libpth=/usr/lib /usr/local/lib
    libs=-lpthread -lm -lutil -lc
    perllibs=-lpthread -lm -lutil -lc
    libc=/usr/lib/libc.so.92.3
    so=so
    useshrplib=false
    libperl=libperl.a
    gnulibc_version=''
  Dynamic Linking:
    dlsrc=dl_dlopen.xs
    dlext=so
    d_dlsymun=undef
    ccdlflags=' '
    cccdlflags='-DPIC -fPIC '
    lddlflags='-shared -fPIC  -L/usr/local/lib -fstack-protector-strong'


Characteristics of this binary (from libperl): 
  Compile-time options:
    HAS_TIMES
    MULTIPLICITY
    PERLIO_LAYERS
    PERL_COPY_ON_WRITE
    PERL_DONT_CREATE_GVSV
    PERL_IMPLICIT_CONTEXT
    PERL_MALLOC_WRAP
    PERL_OP_PARENT
    PERL_PRESERVE_IVUV
    PERL_USE_DEVEL
    USE_64_BIT_ALL
    USE_64_BIT_INT
    USE_ITHREADS
    USE_LARGE_FILES
    USE_LOCALE
    USE_LOCALE_COLLATE
    USE_LOCALE_CTYPE
    USE_LOCALE_NUMERIC
    USE_LOCALE_TIME
    USE_PERLIO
    USE_PERL_ATOF
    USE_REENTRANT_API
  Locally applied patches:
    Devel::PatchPerl 1.48
  Built under openbsd
  Compiled at Jun 10 2018 14:27:57
  %ENV:
    PERL5LIB=""
    PERL5OPT=""
    PERL5_CPANPLUS_IS_RUNNING="93615"
    PERL5_CPAN_IS_RUNNING="93615"
    PERL5_CPAN_IS_RUNNING_IN_RECURSION="89828,93615"
    PERLBREW_HOME="/home/vegeta/.perlbrew"
    PERLBREW_MANPATH="/home/vegeta/perl5/perlbrew/perls/perl-blead/man"
    PERLBREW_PATH="/home/vegeta/perl5/perlbrew/bin:/home/vegeta/perl5/perlbrew/perls/perl-blead/bin"
    PERLBREW_PERL="perl-blead"
    PERLBREW_ROOT="/home/vegeta/perl5/perlbrew"
    PERLBREW_SHELLRC_VERSION="0.83"
    PERLBREW_VERSION="0.83"
    PERL_CR_SMOKER_CURRENT="Statocles-0.093"
    PERL_EXTUTILS_AUTOINSTALL="--defaultdeps"
    PERL_MM_USE_DEFAULT="1"
    PERL_USE_UNSAFE_INC="1"
  @INC:
    /home/vegeta/perl5/perlbrew/perls/perl-blead/lib/site_perl/5.28.0/OpenBSD.amd64-openbsd-thread-multi
    /home/vegeta/perl5/perlbrew/perls/perl-blead/lib/site_perl/5.28.0
    /home/vegeta/perl5/perlbrew/perls/perl-blead/lib/5.28.0/OpenBSD.amd64-openbsd-thread-multi
    /home/vegeta/perl5/perlbrew/perls/perl-blead/lib/5.28.0
    .