Catmandu-FileStore v1.16 Perl 5 v5.14.4 amd64-freebsd

Status
Pass
From
Slaven Rezić (SREZIC)
Dist
Catmandu-FileStore v1.16
Platform
Perl 5 v5.14.4 amd64-freebsd
Date
2019-12-17 02:40:48
ID
a22f4a3e-2076-11ea-a731-6e7e1f24ea8f
This distribution has been tested as part of the CPAN Testers
project, supporting the Perl programming language.  See
http://wiki.cpantesters.org/ for more information or email
questions to cpan-testers-discuss@perl.org


--
Dear Patrick Hochstenbach,

This is a computer-generated report for Catmandu-FileStore-1.16
on perl 5.14.4, created by CPAN-Reporter-1.2018.

Thank you for uploading your work to CPAN.  Congratulations!
All tests were successful.

Sections of this report:

    * Tester comments
    * Program output
    * Prerequisites
    * Environment and other context

------------------------------
TESTER COMMENTS
------------------------------

Additional comments from tester:

none provided

------------------------------
PROGRAM OUTPUT
------------------------------

Output from './Build test':

t/Catmandu-Cmd-stream.t ............... ok
t/Catmandu-DirectoryIndex-Map.t ....... ok
t/Catmandu-DirectoryIndex-Number.t .... ok
t/Catmandu-DirectoryIndex-UUID.t ...... ok
t/Catmandu-DirectoryIndex.t ........... ok
t/Catmandu-FileBag-Index.t ............ ok
t/Catmandu-FileBag.t .................. ok
t/Catmandu-FileStore.t ................ ok
t/Catmandu-Plugin-SideCar.t ........... ok
t/Catmandu-Store-File-Memory-Bag.t .... ok
t/Catmandu-Store-File-Memory-Index.t .. ok
t/Catmandu-Store-File-Memory.t ........ ok
t/Catmandu-Store-File-Multi-Bag.t ..... ok
t/Catmandu-Store-File-Multi-Index.t ... ok
t/Catmandu-Store-File-Multi.t ......... ok
t/Catmandu-Store-File-Simple-Bag.t .... ok
t/Catmandu-Store-File-Simple-Index.t .. ok
t/Catmandu-Store-File-Simple.t ........ ok
t/author-pod-syntax.t ................. skipped: these tests are for testing by the author
All tests successful.
Files=19, Tests=340,  5 wallclock secs ( 0.02 usr  0.13 sys +  3.44 cusr  0.51 csys =  4.09 CPU)
Result: PASS

------------------------------
PREREQUISITES
------------------------------

Prerequisite modules loaded:

requires:

    Module                            Need    Have    
    --------------------------------- ------- --------
    Catmandu                          1.06    1.2004  
    Clone                             0       0.42    
    Hash::Merge::Simple               0       0.051   
    IO::String                        0       1.08    
    Module::Build                     0.4229  0.4229  
    Moo                               0       2.003004
    Moo::Role                         0       2.003004
    namespace::clean                  0       0.27    
    Package::Stash                    0       0.38    
    Path::Iterator::Rule              0       1.014   
    Path::Tiny                        0       0.108   
    perl                              v5.10.1 5.014004
    URI::Escape                       0       3.31    

build_requires:

    Module                            Need    Have    
    --------------------------------- ------- --------
    App::Cmd::Tester::CaptureExternal 0       0.331   
    Cpanel::JSON::XS                  0       4.18    
    IO::Callback                      0       1.12    
    Log::Any::Adapter::Log4perl       0       0.08    
    Log::Any::Test                    1.03    1.707   
    Log::Log4perl                     0       1.49    
    Module::Build                     0.4229  0.4229  
    Role::Tiny                        0       2.000008
    Test::Deep                        0.112   1.128   
    Test::Exception                   0.43    0.43    
    Test::LWP::UserAgent              0       0.033   
    Test::More                        0.99    1.302170
    Test::Pod                         0       1.52    

configure_requires:

    Module                            Need    Have    
    --------------------------------- ------- --------
    Module::Build                     0.28    0.4229  

opt_requires:

    Module                            Need    Have    
    --------------------------------- ------- --------
    Log::Any::Adapter::Log4perl       0.06    0.08    
    Log::Log4perl                     1.44    1.49    


------------------------------
ENVIRONMENT AND OTHER CONTEXT
------------------------------

Environment variables:

    LC_ALL = de_DE.ISO8859-1
    PATH = /usr/local/bin:/usr/bin:/bin:/usr/local/sbin:/usr/sbin:/sbin:/home/cpansand/bin/freebsd9.3:/home/cpansand/bin/sh:/home/cpansand/bin:/usr/games:/home/cpansand/devel:/usr/home/eserte/src/srezic-misc/scripts
    PERL5LIB = 
    PERL5OPT = 
    PERL5_CPANPLUS_IS_RUNNING = 98804
    PERL5_CPAN_IS_RUNNING = 98804
    PERL5_CPAN_IS_RUNNING_IN_RECURSION = 47470,98804
    PERLDOC = -MPod::Perldoc::ToTextOverstrike
    PERL_BATCH = yes
    PERL_CANARY_STABILITY_NOPROMPT = 1
    PERL_CPAN_REPORTER_CONFIG = /var/tmp/cpansmoker-1023/2019121620/cpanreporter_000_config.ini
    PERL_EXTUTILS_AUTOINSTALL = --defaultdeps
    PERL_USE_UNSAFE_INC = 1
    SHELL = /usr/local/bin/zsh
    TERM = screen
    TMPDIR = /var/tmp/cpansmoker-1023/2019121620

Perl special variables (and OS-specific diagnostics, for MSWin32):

    $^X = /usr/perl5.14.4/bin/perl
    $UID/$EUID = 1023 / 1023
    $GID = 1023 1023
    $EGID = 1023 1023

Perl module toolchain versions installed:

    Module              Have    
    ------------------- --------
    CPAN                2.27    
    CPAN::Meta          2.150010
    Cwd                 3.75    
    ExtUtils::CBuilder  0.280231
    ExtUtils::Command   7.36    
    ExtUtils::Install   2.14    
    ExtUtils::MakeMaker 7.36    
    ExtUtils::Manifest  1.72    
    ExtUtils::ParseXS   3.35    
    File::Spec          3.75    
    JSON                4.02    
    JSON::PP            4.04    
    Module::Build       0.4229  
    Module::Signature   0.83    
    Parse::CPAN::Meta   2.150010
    Test::Harness       3.42    
    Test::More          1.302170
    YAML                1.29    
    YAML::Syck          1.31    
    version             0.9924  


--

Summary of my perl5 (revision 5 version 14 subversion 4) configuration:
   
  Platform:
    osname=freebsd, osvers=9.2-release-p4, archname=amd64-freebsd
    uname='freebsd cvrsnica-freebsd-92 9.2-release-p4 freebsd 9.2-release-p4 #0: tue apr 8 18:08:22 utc 2014 root@amd64-builder.daemonology.net:usrobjusrsrcsysgeneric amd64 '
    config_args='-ds -e -Dprefix=/usr/perl5.14.4'
    hint=recommended, useposix=true, d_sigaction=define
    useithreads=undef, usemultiplicity=undef
    useperlio=define, d_sfio=undef, uselargefiles=define, usesocks=undef
    use64bitint=define, use64bitall=define, uselongdouble=undef
    usemymalloc=n, bincompat5005=undef
  Compiler:
    cc='cc', ccflags ='-DHAS_FPSETMASK -DHAS_FLOATINGPOINT_H -fno-strict-aliasing -pipe -fstack-protector -I/usr/local/include',
    optimize='-O',
    cppflags='-DHAS_FPSETMASK -DHAS_FLOATINGPOINT_H -fno-strict-aliasing -pipe -fstack-protector -I/usr/local/include'
    ccversion='', gccversion='4.2.1 20070831 patched [FreeBSD]', gccosandvers=''
    intsize=4, longsize=8, ptrsize=8, doublesize=8, byteorder=12345678
    d_longlong=define, longlongsize=8, d_longdbl=define, longdblsize=16
    ivtype='long', ivsize=8, nvtype='double', nvsize=8, Off_t='off_t', lseeksize=8
    alignbytes=8, prototype=define
  Linker and Libraries:
    ld='cc', ldflags ='-Wl,-E  -fstack-protector -L/usr/local/lib'
    libpth=/usr/lib /usr/local/lib
    libs=-lgdbm -lm -lcrypt -lutil -lc
    perllibs=-lm -lcrypt -lutil -lc
    libc=, so=so, useshrplib=false, libperl=libperl.a
    gnulibc_version=''
  Dynamic Linking:
    dlsrc=dl_dlopen.xs, dlext=so, d_dlsymun=undef, ccdlflags=' '
    cccdlflags='-DPIC -fPIC', lddlflags='-shared  -L/usr/local/lib -fstack-protector'


Characteristics of this binary (from libperl): 
  Compile-time options: PERL_DONT_CREATE_GVSV PERL_MALLOC_WRAP
                        PERL_PRESERVE_IVUV USE_64_BIT_ALL USE_64_BIT_INT
                        USE_LARGE_FILES USE_PERLIO USE_PERL_ATOF
  Built under freebsd
  Compiled at May 16 2014 00:20:44
  %ENV:
    PERL5LIB=""
    PERL5OPT=""
    PERL5_CPANPLUS_IS_RUNNING="98804"
    PERL5_CPAN_IS_RUNNING="98804"
    PERL5_CPAN_IS_RUNNING_IN_RECURSION="47470,98804"
    PERLDOC="-MPod::Perldoc::ToTextOverstrike"
    PERL_BATCH="yes"
    PERL_CANARY_STABILITY_NOPROMPT="1"
    PERL_CPAN_REPORTER_CONFIG="/var/tmp/cpansmoker-1023/2019121620/cpanreporter_000_config.ini"
    PERL_EXTUTILS_AUTOINSTALL="--defaultdeps"
    PERL_USE_UNSAFE_INC="1"
  @INC:
    /usr/perl5.14.4/lib/site_perl/5.14.4/amd64-freebsd
    /usr/perl5.14.4/lib/site_perl/5.14.4
    /usr/perl5.14.4/lib/5.14.4/amd64-freebsd
    /usr/perl5.14.4/lib/5.14.4
    .