Encode v3.21 Perl 5 v5.34.3 darwin-thread-multi-2level

Status
Pass
From
Roland van Ipenburg (IPENBURG)
Dist
Encode v3.21
Platform
Perl 5 v5.34.3 darwin-thread-multi-2level
Date
2024-03-13 13:50:19
ID
a1853d20-e140-11ee-b73d-c757a9127bd3
This distribution has been tested as part of the CPAN Testers
project, supporting the Perl programming language.  See
http://wiki.cpantesters.org/ for more information or email
questions to cpan-testers-discuss@perl.org


--
Dear Dan Kogai,

This is a computer-generated report for Encode-3.21
on perl 5.34.3, created by CPAN-Reporter-1.2019.

Thank you for uploading your work to CPAN.  Congratulations!
All tests were successful.

Sections of this report:

    * Tester comments
    * Program output
    * Prerequisites
    * Environment and other context

------------------------------
TESTER COMMENTS
------------------------------

Additional comments from tester:

none provided

------------------------------
PROGRAM OUTPUT
------------------------------

Output from '/usr/bin/make test':

"/opt/local/bin/perl5.34" -MExtUtils::Command::MM -e 'cp_nonempty' -- Encode.bs blib/arch/auto/Encode/Encode.bs 644
"/opt/local/bin/perl5.34" -MExtUtils::Command::MM -e 'cp_nonempty' -- Byte.bs ../blib/arch/auto/Encode/Byte/Byte.bs 644
"/opt/local/bin/perl5.34" -MExtUtils::Command::MM -e 'cp_nonempty' -- CN.bs ../blib/arch/auto/Encode/CN/CN.bs 644
"/opt/local/bin/perl5.34" -MExtUtils::Command::MM -e 'cp_nonempty' -- EBCDIC.bs ../blib/arch/auto/Encode/EBCDIC/EBCDIC.bs 644
"/opt/local/bin/perl5.34" -MExtUtils::Command::MM -e 'cp_nonempty' -- JP.bs ../blib/arch/auto/Encode/JP/JP.bs 644
"/opt/local/bin/perl5.34" -MExtUtils::Command::MM -e 'cp_nonempty' -- KR.bs ../blib/arch/auto/Encode/KR/KR.bs 644
"/opt/local/bin/perl5.34" -MExtUtils::Command::MM -e 'cp_nonempty' -- Symbol.bs ../blib/arch/auto/Encode/Symbol/Symbol.bs 644
"/opt/local/bin/perl5.34" -MExtUtils::Command::MM -e 'cp_nonempty' -- TW.bs ../blib/arch/auto/Encode/TW/TW.bs 644
"/opt/local/bin/perl5.34" -MExtUtils::Command::MM -e 'cp_nonempty' -- Unicode.bs ../blib/arch/auto/Encode/Unicode/Unicode.bs 644
"/opt/local/bin/perl5.34" -MExtUtils::Command::MM -e 'cp_nonempty' -- Byte.bs ../blib/arch/auto/Encode/Byte/Byte.bs 644
No tests defined for Encode::Byte extension.
"/opt/local/bin/perl5.34" -MExtUtils::Command::MM -e 'cp_nonempty' -- CN.bs ../blib/arch/auto/Encode/CN/CN.bs 644
No tests defined for Encode::CN extension.
"/opt/local/bin/perl5.34" -MExtUtils::Command::MM -e 'cp_nonempty' -- EBCDIC.bs ../blib/arch/auto/Encode/EBCDIC/EBCDIC.bs 644
No tests defined for Encode::EBCDIC extension.
"/opt/local/bin/perl5.34" -MExtUtils::Command::MM -e 'cp_nonempty' -- JP.bs ../blib/arch/auto/Encode/JP/JP.bs 644
No tests defined for Encode::JP extension.
"/opt/local/bin/perl5.34" -MExtUtils::Command::MM -e 'cp_nonempty' -- KR.bs ../blib/arch/auto/Encode/KR/KR.bs 644
No tests defined for Encode::KR extension.
"/opt/local/bin/perl5.34" -MExtUtils::Command::MM -e 'cp_nonempty' -- Symbol.bs ../blib/arch/auto/Encode/Symbol/Symbol.bs 644
No tests defined for Encode::Symbol extension.
"/opt/local/bin/perl5.34" -MExtUtils::Command::MM -e 'cp_nonempty' -- TW.bs ../blib/arch/auto/Encode/TW/TW.bs 644
No tests defined for Encode::TW extension.
"/opt/local/bin/perl5.34" -MExtUtils::Command::MM -e 'cp_nonempty' -- Unicode.bs ../blib/arch/auto/Encode/Unicode/Unicode.bs 644
No tests defined for Encode::Unicode extension.
PERL_DL_NONLAZY=1 "/opt/local/bin/perl5.34" "-MExtUtils::Command::MM" "-MTest::Harness" "-e" "undef *Test::Harness::Switches; test_harness(0, 'blib/lib', 'blib/arch')" t/*.t
t/Aliases.t ................ ok
t/at-cn.t .................. ok
t/at-tw.t .................. ok
t/CJKT.t ................... ok
t/cow.t .................... ok
t/decode.t ................. ok
t/enc_data.t ............... skipped: encoding pragma not supported in Perl 5.25 or later
t/enc_eucjp.t .............. skipped: Perl <=5.25.2 or cperl required
t/enc_module.t ............. skipped: encoding pragma not supported in Perl 5.25 or later
t/enc_utf8.t ............... skipped: Perl <=5.25.2 or cperl required
t/Encode.t ................. ok
t/Encoder.t ................ ok
t/encoding-locale.t ........ ok
t/encoding.t ............... skipped: encoding pragma not supported in Perl 5.25 or later
t/fallback.t ............... ok
t/from_to.t ................ ok
t/grow.t ................... ok
t/gsm0338.t ................ ok
t/guess.t .................. ok
t/isa.t .................... ok
t/jis7-fallback.t .......... ok
t/jperl.t .................. skipped: encoding pragma not supported in Perl 5.25 or later
t/magic.t .................. ok
t/mime-header.t ............ ok
t/mime-name.t .............. ok
t/mime_header_iso2022jp.t .. ok
t/perlio.t ................. ok
t/piconv.t ................. ok
t/rt113164.t ............... ok
t/rt65541.t ................ ok
t/rt76824.t ................ ok
t/rt85489.t ................ ok
t/rt86327.t ................ ok
t/taint.t .................. ok
t/truncated_utf8.t ......... ok
t/undef.t .................. ok
t/Unicode.t ................ ok
t/Unicode_trailing_nul.t ... ok
t/use-Encode-Alias.t ....... ok
t/utf32warnings.t .......... ok
t/utf8ref.t ................ ok
t/utf8strict.t ............. ok
t/utf8warnings.t ........... ok
t/whatwg-aliases.t ......... skipped: For maintainers only
t/xml.t .................... ok
All tests successful.
Files=45, Tests=7769, 17 wallclock secs ( 1.22 usr  0.25 sys + 10.98 cusr  1.70 csys = 14.15 CPU)
Result: PASS

------------------------------
PREREQUISITES
------------------------------

Prerequisite modules loaded:

requires:

    Module              Need  Have    
    ------------------- ----- --------
    Exporter            5.57  5.78    
    parent              0.221 0.241   
    Storable            0     3.25    

build_requires:

    Module              Need  Have    
    ------------------- ----- --------
    ExtUtils::MakeMaker 0     7.70    
    Test::More          0.92  1.302198

configure_requires:

    Module              Need  Have    
    ------------------- ----- --------
    ExtUtils::MakeMaker 0     7.70    


------------------------------
ENVIRONMENT AND OTHER CONTEXT
------------------------------

Environment variables:

    LANG = en_US.UTF-8
    LC_ALL = en_US.UTF-8
    LC_CTYPE = UTF-8
    LDFLAGS = -L/usr/local/lib
    PATH = /opt/local/bin:/opt/local/bin:/opt/local/sbin:/Users/roland/pebble-dev/PebbleSDK-current/bin:/Applications/Rakudo/bin:/Users/roland/.npm-packages/bin:/Users/roland/pebble-dev3/pebble-sdk-4.2-mac/bin:/Applications/Xcode.app/Contents/Developer/usr/bin/:/Applications/android-sdk-macosx/platform-tools:/Applications/android-sdk-macosx/tools:/usr/local/bin:/opt/local/bin:/usr/local/bin:/usr/bin:/bin:/usr/sbin:/sbin:/usr/local/MacGPG2/bin:/usr/local/share/dotnet:/opt/X11/bin:~/.dotnet/tools:/Library/Apple/usr/bin:/Applications/Rakudo/bin:/Applications/Rakudo/share/perl6/site/bin
    PERL5LIB = 
    PERL5OPT = 
    PERL5_CPANPLUS_IS_RUNNING = 11400
    PERL5_CPAN_IS_RUNNING = 11400
    PERL_USE_UNSAFE_INC = 1
    SHELL = /bin/bash
    TEMP = /var/tmp/
    TERM = xterm-256color
    TMPDIR = /var/folders/7l/g84992vx2mv_vz02s8yt60sc0000gn/T/

Perl special variables (and OS-specific diagnostics, for MSWin32):

    $^X = /opt/local/bin/perl5.34
    $UID/$EUID = 501 / 501
    $GID = 20 20 504 12 61 79 80 81 98 702 701 33 100 204 250 395 398
    $EGID = 20 20 504 12 61 79 80 81 98 702 701 33 100 204 250 395 398

Perl module toolchain versions installed:

    Module              Have    
    ------------------- --------
    CPAN                2.36    
    CPAN::Meta          2.150010
    Cwd                 3.75    
    ExtUtils::CBuilder  0.280236
    ExtUtils::Command   7.70    
    ExtUtils::Install   2.22    
    ExtUtils::MakeMaker 7.70    
    ExtUtils::Manifest  1.75    
    ExtUtils::ParseXS   3.51    
    File::Spec          3.75    
    JSON                4.10    
    JSON::PP            4.16    
    Module::Build       0.4234  
    Module::Signature   0.88    
    Parse::CPAN::Meta   2.150010
    Test2               1.302198
    Test::Harness       3.48    
    Test::More          1.302198
    YAML                1.31    
    YAML::Syck          n/a     
    version             0.9930  


--

Summary of my perl5 (revision 5 version 34 subversion 3) configuration:
   
  Platform:
    osname=darwin
    osvers=19.6.0
    archname=darwin-thread-multi-2level
    uname='darwin catalina.internal.macports.net 19.6.0 darwin kernel version 19.6.0: tue jun 21 21:18:39 pdt 2022; root:xnu-6153.141.66~1release_x86_64 x86_64 '
    config_args='-des -Dprefix=/opt/local -Dscriptdir=/opt/local/bin -Dvendorprefix=/opt/local -Dusemultiplicity=y -Dusethreads -Duseshrplib -Dcc=/usr/bin/cc -Dman1ext=1pm -Dman3ext=3pm -Dinstallstyle=lib/perl5 -Dman1dir=/opt/local/share/man/man1p -Dman3dir=/opt/local/share/man/man3p -Dsitebin=/opt/local/libexec/perl5.34/sitebin -Dsiteman1dir=/opt/local/share/perl5.34/siteman/man1 -Dsiteman3dir=/opt/local/share/perl5.34/siteman/man3 -Dvendorbin=/opt/local/libexec/perl5.34 -Dvendorman1dir=/opt/local/share/perl5.34/man/man1 -Dvendorman3dir=/opt/local/share/perl5.34/man/man3 -Dpager=/usr/bin/less -sR -Dperlpath=/opt/local/bin/perl5.34 -Dstartperl=#!/opt/local/bin/perl5.34 -Acppflags=-I/opt/local/include  -Accflags=-pipe -Os   -Alddlflags=-L/opt/local/lib -Wl,-headerpad_max_install_names   -Aldflags=-L/opt/local/lib -Wl,-headerpad_max_install_names  '
    hint=recommended
    useposix=true
    d_sigaction=define
    useithreads=define
    usemultiplicity=define
    use64bitint=define
    use64bitall=define
    uselongdouble=undef
    usemymalloc=n
    default_inc_excludes_dot=define
  Compiler:
    cc='/usr/bin/cc'
    ccflags ='-fno-common -DPERL_DARWIN  -pipe -Os   -fno-strict-aliasing -fstack-protector-strong -I/opt/local/include -DPERL_USE_SAFE_PUTENV'
    optimize='-O3'
    cppflags='-I/opt/local/include  -fno-common -DPERL_DARWIN  -pipe -Os   -fno-strict-aliasing -fstack-protector-strong -I/opt/local/include'
    ccversion=''
    gccversion='4.2.1 Compatible Apple LLVM 11.0.3 (clang-1103.0.32.62)'
    gccosandvers=''
    intsize=4
    longsize=8
    ptrsize=8
    doublesize=8
    byteorder=12345678
    doublekind=3
    d_longlong=define
    longlongsize=8
    d_longdbl=define
    longdblsize=16
    longdblkind=3
    ivtype='long'
    ivsize=8
    nvtype='double'
    nvsize=8
    Off_t='off_t'
    lseeksize=8
    alignbytes=8
    prototype=define
  Linker and Libraries:
    ld='/usr/bin/cc'
    ldflags ='  -L/opt/local/lib -Wl,-headerpad_max_install_names   -fstack-protector-strong'
    libpth=/opt/local/lib /Library/Developer/CommandLineTools/usr/lib/clang/11.0.3/lib /Library/Developer/CommandLineTools/SDKs/MacOSX10.15.sdk/usr/lib /Library/Developer/CommandLineTools/usr/lib /usr/lib
    libs=-lpthread -lgdbm -ldbm -ldl -lm -lutil -lc
    perllibs=-lpthread -ldl -lm -lutil -lc
    libc=
    so=dylib
    useshrplib=true
    libperl=libperl.dylib
    gnulibc_version=''
  Dynamic Linking:
    dlsrc=dl_dlopen.xs
    dlext=bundle
    d_dlsymun=undef
    ccdlflags=' '
    cccdlflags=' '
    lddlflags='  -bundle -undefined dynamic_lookup -L/opt/local/lib -Wl,-headerpad_max_install_names   -fstack-protector-strong'


Characteristics of this binary (from libperl): 
  Compile-time options:
    HAS_TIMES
    MULTIPLICITY
    PERLIO_LAYERS
    PERL_COPY_ON_WRITE
    PERL_DONT_CREATE_GVSV
    PERL_IMPLICIT_CONTEXT
    PERL_MALLOC_WRAP
    PERL_OP_PARENT
    PERL_PRESERVE_IVUV
    PERL_USE_SAFE_PUTENV
    USE_64_BIT_ALL
    USE_64_BIT_INT
    USE_ITHREADS
    USE_LARGE_FILES
    USE_LOCALE
    USE_LOCALE_COLLATE
    USE_LOCALE_CTYPE
    USE_LOCALE_NUMERIC
    USE_LOCALE_TIME
    USE_PERLIO
    USE_PERL_ATOF
    USE_REENTRANT_API
    USE_THREAD_SAFE_LOCALE
  Built under darwin
  Compiled at Dec  5 2023 22:59:35
  %ENV:
    PERL5LIB=""
    PERL5OPT=""
    PERL5_CPANPLUS_IS_RUNNING="11400"
    PERL5_CPAN_IS_RUNNING="11400"
    PERL_USE_UNSAFE_INC="1"
  @INC:
    /opt/local/lib/perl5/site_perl/5.34/darwin-thread-multi-2level
    /opt/local/lib/perl5/site_perl/5.34
    /opt/local/lib/perl5/vendor_perl/5.34/darwin-thread-multi-2level
    /opt/local/lib/perl5/vendor_perl/5.34
    /opt/local/lib/perl5/5.34/darwin-thread-multi-2level
    /opt/local/lib/perl5/5.34
    .