Dancer2-Plugin-DBIx-Class v1.04 Perl 5 v5.26.3 x86_64-linux
- Status
- Pass
- From
- Slaven Rezić
- Dist
-
Dancer2-Plugin-DBIx-Class v1.04
- Platform
- Perl 5 v5.26.3 x86_64-linux
- Date
- 2021-10-14 01:47:02
- ID
- a08b3008-2c90-11ec-b176-195b1f24ea8f
This distribution has been tested as part of the CPAN Testers
project, supporting the Perl programming language. See
http://wiki.cpantesters.org/ for more information or email
questions to cpan-testers-discuss@perl.org
--
Dear D Ruth Holloway,
This is a computer-generated report for Dancer2-Plugin-DBIx-Class-1.04
on perl 5.26.3, created by CPAN-Reporter-1.2018.
Thank you for uploading your work to CPAN. Congratulations!
All tests were successful.
Sections of this report:
* Tester comments
* Program output
* Prerequisites
* Environment and other context
------------------------------
TESTER COMMENTS
------------------------------
Additional comments from tester:
none provided
------------------------------
PROGRAM OUTPUT
------------------------------
Output from '/usr/bin/make test':
PERL_DL_NONLAZY=1 "/opt/perl-5.26.3/bin/perl" "-MExtUtils::Command::MM" "-MTest::Harness" "-e" "undef *Test::Harness::Switches; test_harness(0, 'blib/lib', 'blib/arch')" t/*.t
t/00-compile.t ................ ok
#
# Versions for all modules listed in MYMETA.json (including optional ones):
#
# === Configure Requires ===
#
# Module Want Have
# ------------------- ---- ----
# ExtUtils::MakeMaker any 7.62
#
# === Build Requires ===
#
# Module Want Have
# ------------------- ---- ----
# ExtUtils::MakeMaker any 7.62
#
# === Test Requires ===
#
# Module Want Have
# ----------------------------------- ---- --------
# DBIx::Class::Core any undef
# DBIx::Class::Schema any undef
# DBIx::Class::Schema::ResultSetNames any 1.02
# Dancer2 any 0.301004
# ExtUtils::MakeMaker any 7.62
# File::Spec any 3.75
# HTTP::Request::Common any 6.33
# IO::Handle any 1.48
# IPC::Open3 any 1.20
# JSON::MaybeXS any 1.004003
# Plack::Test any undef
# Test2::V0 any 0.000141
# Test::More any 1.302188
#
# === Test Recommends ===
#
# Module Want Have
# ---------- -------- --------
# CPAN::Meta 2.120900 2.150010
#
# === Runtime Requires ===
#
# Module Want Have
# ------------------------ ---- ----------
# Carp any 1.42
# Class::C3::Componentised any 1.001002
# Dancer2::Plugin any 0.301004
# Modern::Perl any 1.20200211
# Moo any 2.005004
# curry any 1.001000
#
t/00-report-prereqs.t ......... ok
t/00_core_keywords.t .......... ok
t/01_both_using_rsnames.t ..... ok
t/02_first_using_rsnames.t .... ok
t/03_second_using_rsnames.t ... ok
t/04_neither_using_rsnames.t .. ok
t/author-critic.t ............. skipped: these tests are for testing by the author
t/author-distmeta.t ........... skipped: these tests are for testing by the author
t/author-no-tabs.t ............ skipped: these tests are for testing by the author
t/author-pod-syntax.t ......... skipped: these tests are for testing by the author
t/release-unused-vars.t ....... skipped: these tests are for release candidate testing
All tests successful.
Files=12, Tests=8, 2 wallclock secs ( 0.04 usr 0.00 sys + 2.62 cusr 0.17 csys = 2.83 CPU)
Result: PASS
------------------------------
PREREQUISITES
------------------------------
Prerequisite modules loaded:
requires:
Module Need Have
----------------------------------- ----- ----------
Carp 0 1.42
Class::C3::Componentised 0 1.001002
curry 0 1.001000
Dancer2::Plugin 0 0.301004
Modern::Perl 0 1.20200211
Moo 0 2.005004
perl 5.012 5.026003
build_requires:
Module Need Have
----------------------------------- ----- ----------
Dancer2 0 0.301004
DBIx::Class::Core 0 0
DBIx::Class::Schema 0 0
DBIx::Class::Schema::ResultSetNames 0 1.02
ExtUtils::MakeMaker 0 7.62
File::Spec 0 3.75
HTTP::Request::Common 0 6.33
IO::Handle 0 1.48
IPC::Open3 0 1.20
JSON::MaybeXS 0 1.004003
Plack::Test 0 0
Test2::V0 0 0.000141
Test::More 0 1.302188
configure_requires:
Module Need Have
----------------------------------- ----- ----------
ExtUtils::MakeMaker 0 7.62
------------------------------
ENVIRONMENT AND OTHER CONTEXT
------------------------------
Environment variables:
LANG = en_US.UTF-8
PATH = /usr/local/bin:/usr/bin:/bin:/usr/local/sbin:/usr/sbin:/sbin:/home/cpansand/bin/linux-gnu:/home/cpansand/bin/sh:/home/cpansand/bin:/usr/games:/home/cpansand/devel:/home/eserte/src/srezic-misc/scripts
PERL5LIB = /home/cpansand/.local/share/.cpan/build/2021101403/Dancer2-0.301004-4/blib/arch:/home/cpansand/.local/share/.cpan/build/2021101403/Dancer2-0.301004-4/blib/lib:/home/cpansand/.local/share/.cpan/build/2021101403/Template-Tiny-1.14-4/blib/arch:/home/cpansand/.local/share/.cpan/build/2021101403/Template-Tiny-1.14-4/blib/lib:/home/cpansand/.local/share/.cpan/build/2021101403/CLI-Osprey-0.08-4/blib/arch:/home/cpansand/.local/share/.cpan/build/2021101403/CLI-Osprey-0.08-4/blib/lib:/home/cpansand/.local/share/.cpan/build/2021101403/DBIx-Class-Schema-ResultSetNames-1.02-4/blib/arch:/home/cpansand/.local/share/.cpan/build/2021101403/DBIx-Class-Schema-ResultSetNames-1.02-4/blib/lib
PERL5OPT =
PERL5_CPANPLUS_IS_RUNNING = 28956
PERL5_CPAN_IS_RUNNING = 28956
PERL5_CPAN_IS_RUNNING_IN_RECURSION = 14479,28956
PERLDOC = -MPod::Perldoc::ToTextOverstrike
PERL_BATCH = yes
PERL_CANARY_STABILITY_NOPROMPT = 1
PERL_CPAN_REPORTER_CONFIG = /var/tmp/cpansmoker-1023/2021101403/cpanreporter_000_config.ini
PERL_EXTUTILS_AUTOINSTALL = --defaultdeps
PERL_USE_UNSAFE_INC = 1
SHELL = /usr/bin/zsh
TERM = screen
TMPDIR = /var/tmp/cpansmoker-1023/2021101403
Perl special variables (and OS-specific diagnostics, for MSWin32):
$^X = /opt/perl-5.26.3/bin/perl
$UID/$EUID = 1023 / 1023
$GID = 1023 1023
$EGID = 1023 1023
Perl module toolchain versions installed:
Module Have
------------------- --------
CPAN 2.18
CPAN::Meta 2.150010
Cwd 3.75
ExtUtils::CBuilder 0.280225
ExtUtils::Command 7.62
ExtUtils::Install 2.06
ExtUtils::MakeMaker 7.62
ExtUtils::Manifest 1.70
ExtUtils::ParseXS 3.34
File::Spec 3.75
JSON 4.03
JSON::PP 4.06
Module::Build 0.4231
Module::Signature n/a
Parse::CPAN::Meta 2.150010
Test::Harness 3.38
Test::More 1.302188
YAML 1.30
YAML::Syck 1.34
version 0.9917
--
Summary of my perl5 (revision 5 version 26 subversion 3) configuration:
Platform:
osname=linux
osvers=4.15.0-154-generic
archname=x86_64-linux
uname='linux cloud6.bbbike.org 4.15.0-154-generic #161-ubuntu smp fri jul 30 13:04:17 utc 2021 x86_64 x86_64 x86_64 gnulinux '
config_args='-ds -e -Dprefix=/opt/perl-5.26.3 -Dcf_email=srezic@cpan.org'
hint=recommended
useposix=true
d_sigaction=define
useithreads=undef
usemultiplicity=undef
use64bitint=define
use64bitall=define
uselongdouble=undef
usemymalloc=n
default_inc_excludes_dot=define
bincompat5005=undef
Compiler:
cc='cc'
ccflags ='-fwrapv -fno-strict-aliasing -pipe -fstack-protector-strong -I/usr/local/include -D_LARGEFILE_SOURCE -D_FILE_OFFSET_BITS=64'
optimize='-O2'
cppflags='-fwrapv -fno-strict-aliasing -pipe -fstack-protector-strong -I/usr/local/include'
ccversion=''
gccversion='7.5.0'
gccosandvers=''
intsize=4
longsize=8
ptrsize=8
doublesize=8
byteorder=12345678
doublekind=3
d_longlong=define
longlongsize=8
d_longdbl=define
longdblsize=16
longdblkind=3
ivtype='long'
ivsize=8
nvtype='double'
nvsize=8
Off_t='off_t'
lseeksize=8
alignbytes=8
prototype=define
Linker and Libraries:
ld='cc'
ldflags =' -fstack-protector-strong -L/usr/local/lib'
libpth=/usr/local/lib /usr/lib/gcc/x86_64-linux-gnu/7/include-fixed /usr/include/x86_64-linux-gnu /usr/lib /lib/x86_64-linux-gnu /lib/../lib /usr/lib/x86_64-linux-gnu /usr/lib/../lib /lib
libs=-lpthread -lnsl -lgdbm -ldb -ldl -lm -lcrypt -lutil -lc
perllibs=-lpthread -lnsl -ldl -lm -lcrypt -lutil -lc
libc=libc-2.27.so
so=so
useshrplib=false
libperl=libperl.a
gnulibc_version='2.27'
Dynamic Linking:
dlsrc=dl_dlopen.xs
dlext=so
d_dlsymun=undef
ccdlflags='-Wl,-E'
cccdlflags='-fPIC'
lddlflags='-shared -O2 -L/usr/local/lib -fstack-protector-strong'
Characteristics of this binary (from libperl):
Compile-time options:
HAS_TIMES
PERLIO_LAYERS
PERL_COPY_ON_WRITE
PERL_DONT_CREATE_GVSV
PERL_MALLOC_WRAP
PERL_OP_PARENT
PERL_PRESERVE_IVUV
USE_64_BIT_ALL
USE_64_BIT_INT
USE_LARGE_FILES
USE_LOCALE
USE_LOCALE_COLLATE
USE_LOCALE_CTYPE
USE_LOCALE_NUMERIC
USE_LOCALE_TIME
USE_PERLIO
USE_PERL_ATOF
Locally applied patches:
Devel::PatchPerl 2.08
Built under linux
Compiled at Sep 10 2021 22:51:12
%ENV:
PERL5LIB="/home/cpansand/.local/share/.cpan/build/2021101403/Dancer2-0.301004-4/blib/arch:/home/cpansand/.local/share/.cpan/build/2021101403/Dancer2-0.301004-4/blib/lib:/home/cpansand/.local/share/.cpan/build/2021101403/Template-Tiny-1.14-4/blib/arch:/home/cpansand/.local/share/.cpan/build/2021101403/Template-Tiny-1.14-4/blib/lib:/home/cpansand/.local/share/.cpan/build/2021101403/CLI-Osprey-0.08-4/blib/arch:/home/cpansand/.local/share/.cpan/build/2021101403/CLI-Osprey-0.08-4/blib/lib:/home/cpansand/.local/share/.cpan/build/2021101403/DBIx-Class-Schema-ResultSetNames-1.02-4/blib/arch:/home/cpansand/.local/share/.cpan/build/2021101403/DBIx-Class-Schema-ResultSetNames-1.02-4/blib/lib"
PERL5OPT=""
PERL5_CPANPLUS_IS_RUNNING="28956"
PERL5_CPAN_IS_RUNNING="28956"
PERL5_CPAN_IS_RUNNING_IN_RECURSION="14479,28956"
PERLDOC="-MPod::Perldoc::ToTextOverstrike"
PERL_BATCH="yes"
PERL_CANARY_STABILITY_NOPROMPT="1"
PERL_CPAN_REPORTER_CONFIG="/var/tmp/cpansmoker-1023/2021101403/cpanreporter_000_config.ini"
PERL_EXTUTILS_AUTOINSTALL="--defaultdeps"
PERL_USE_UNSAFE_INC="1"
@INC:
/home/cpansand/.local/share/.cpan/build/2021101403/Dancer2-0.301004-4/blib/arch
/home/cpansand/.local/share/.cpan/build/2021101403/Dancer2-0.301004-4/blib/lib
/home/cpansand/.local/share/.cpan/build/2021101403/Template-Tiny-1.14-4/blib/arch
/home/cpansand/.local/share/.cpan/build/2021101403/Template-Tiny-1.14-4/blib/lib
/home/cpansand/.local/share/.cpan/build/2021101403/CLI-Osprey-0.08-4/blib/arch
/home/cpansand/.local/share/.cpan/build/2021101403/CLI-Osprey-0.08-4/blib/lib
/home/cpansand/.local/share/.cpan/build/2021101403/DBIx-Class-Schema-ResultSetNames-1.02-4/blib/arch
/home/cpansand/.local/share/.cpan/build/2021101403/DBIx-Class-Schema-ResultSetNames-1.02-4/blib/lib
/opt/perl-5.26.3/lib/site_perl/5.26.3/x86_64-linux
/opt/perl-5.26.3/lib/site_perl/5.26.3
/opt/perl-5.26.3/lib/5.26.3/x86_64-linux
/opt/perl-5.26.3/lib/5.26.3
.