Encode v3.18 Perl 5 v5.8.8 x86_64-linux-thread-multi
- Status
- Pass
- From
- Nigel Horne
- Dist
-
Encode v3.18
- Platform
- Perl 5 v5.8.8 x86_64-linux-thread-multi
- Date
- 2022-07-19 16:55:42
- ID
- a02124be-0783-11ed-94ef-a269544cb3c9
This distribution has been tested as part of the CPAN Testers
project, supporting the Perl programming language. See
http://wiki.cpantesters.org/ for more information or email
questions to cpan-testers-discuss@perl.org
--
Dear Dan Kogai,
This is a computer-generated report for Encode-3.18
on perl 5.8.8, created by CPAN-Reporter-1.2018.
Thank you for uploading your work to CPAN. Congratulations!
All tests were successful.
Sections of this report:
* Tester comments
* Program output
* Prerequisites
* Environment and other context
------------------------------
TESTER COMMENTS
------------------------------
Additional comments from tester:
none provided
------------------------------
PROGRAM OUTPUT
------------------------------
Output from '/usr/bin/make test':
"/home/njh/perl5/perlbrew/perls/perl-5.8.8-thread-multi/bin/perl5.8.8" -MExtUtils::Command::MM -e 'cp_nonempty' -- Encode.bs blib/arch/auto/Encode/Encode.bs 644
make[1]: Entering directory '/tmp/user/1002/build/Encode-3.18-0/Byte'
"/home/njh/perl5/perlbrew/perls/perl-5.8.8-thread-multi/bin/perl5.8.8" -MExtUtils::Command::MM -e 'cp_nonempty' -- Byte.bs ../blib/arch/auto/Encode/Byte/Byte.bs 644
make[1]: Leaving directory '/tmp/user/1002/build/Encode-3.18-0/Byte'
make[1]: Entering directory '/tmp/user/1002/build/Encode-3.18-0/CN'
"/home/njh/perl5/perlbrew/perls/perl-5.8.8-thread-multi/bin/perl5.8.8" -MExtUtils::Command::MM -e 'cp_nonempty' -- CN.bs ../blib/arch/auto/Encode/CN/CN.bs 644
make[1]: Leaving directory '/tmp/user/1002/build/Encode-3.18-0/CN'
make[1]: Entering directory '/tmp/user/1002/build/Encode-3.18-0/EBCDIC'
"/home/njh/perl5/perlbrew/perls/perl-5.8.8-thread-multi/bin/perl5.8.8" -MExtUtils::Command::MM -e 'cp_nonempty' -- EBCDIC.bs ../blib/arch/auto/Encode/EBCDIC/EBCDIC.bs 644
make[1]: Leaving directory '/tmp/user/1002/build/Encode-3.18-0/EBCDIC'
make[1]: Entering directory '/tmp/user/1002/build/Encode-3.18-0/JP'
"/home/njh/perl5/perlbrew/perls/perl-5.8.8-thread-multi/bin/perl5.8.8" -MExtUtils::Command::MM -e 'cp_nonempty' -- JP.bs ../blib/arch/auto/Encode/JP/JP.bs 644
make[1]: Leaving directory '/tmp/user/1002/build/Encode-3.18-0/JP'
make[1]: Entering directory '/tmp/user/1002/build/Encode-3.18-0/KR'
"/home/njh/perl5/perlbrew/perls/perl-5.8.8-thread-multi/bin/perl5.8.8" -MExtUtils::Command::MM -e 'cp_nonempty' -- KR.bs ../blib/arch/auto/Encode/KR/KR.bs 644
make[1]: Leaving directory '/tmp/user/1002/build/Encode-3.18-0/KR'
make[1]: Entering directory '/tmp/user/1002/build/Encode-3.18-0/Symbol'
"/home/njh/perl5/perlbrew/perls/perl-5.8.8-thread-multi/bin/perl5.8.8" -MExtUtils::Command::MM -e 'cp_nonempty' -- Symbol.bs ../blib/arch/auto/Encode/Symbol/Symbol.bs 644
make[1]: Leaving directory '/tmp/user/1002/build/Encode-3.18-0/Symbol'
make[1]: Entering directory '/tmp/user/1002/build/Encode-3.18-0/TW'
"/home/njh/perl5/perlbrew/perls/perl-5.8.8-thread-multi/bin/perl5.8.8" -MExtUtils::Command::MM -e 'cp_nonempty' -- TW.bs ../blib/arch/auto/Encode/TW/TW.bs 644
make[1]: Leaving directory '/tmp/user/1002/build/Encode-3.18-0/TW'
make[1]: Entering directory '/tmp/user/1002/build/Encode-3.18-0/Unicode'
"/home/njh/perl5/perlbrew/perls/perl-5.8.8-thread-multi/bin/perl5.8.8" -MExtUtils::Command::MM -e 'cp_nonempty' -- Unicode.bs ../blib/arch/auto/Encode/Unicode/Unicode.bs 644
make[1]: Leaving directory '/tmp/user/1002/build/Encode-3.18-0/Unicode'
make[1]: Entering directory '/tmp/user/1002/build/Encode-3.18-0/Byte'
"/home/njh/perl5/perlbrew/perls/perl-5.8.8-thread-multi/bin/perl5.8.8" -MExtUtils::Command::MM -e 'cp_nonempty' -- Byte.bs ../blib/arch/auto/Encode/Byte/Byte.bs 644
No tests defined for Encode::Byte extension.
make[1]: Leaving directory '/tmp/user/1002/build/Encode-3.18-0/Byte'
make[1]: Entering directory '/tmp/user/1002/build/Encode-3.18-0/CN'
"/home/njh/perl5/perlbrew/perls/perl-5.8.8-thread-multi/bin/perl5.8.8" -MExtUtils::Command::MM -e 'cp_nonempty' -- CN.bs ../blib/arch/auto/Encode/CN/CN.bs 644
No tests defined for Encode::CN extension.
make[1]: Leaving directory '/tmp/user/1002/build/Encode-3.18-0/CN'
make[1]: Entering directory '/tmp/user/1002/build/Encode-3.18-0/EBCDIC'
"/home/njh/perl5/perlbrew/perls/perl-5.8.8-thread-multi/bin/perl5.8.8" -MExtUtils::Command::MM -e 'cp_nonempty' -- EBCDIC.bs ../blib/arch/auto/Encode/EBCDIC/EBCDIC.bs 644
No tests defined for Encode::EBCDIC extension.
make[1]: Leaving directory '/tmp/user/1002/build/Encode-3.18-0/EBCDIC'
make[1]: Entering directory '/tmp/user/1002/build/Encode-3.18-0/JP'
"/home/njh/perl5/perlbrew/perls/perl-5.8.8-thread-multi/bin/perl5.8.8" -MExtUtils::Command::MM -e 'cp_nonempty' -- JP.bs ../blib/arch/auto/Encode/JP/JP.bs 644
No tests defined for Encode::JP extension.
make[1]: Leaving directory '/tmp/user/1002/build/Encode-3.18-0/JP'
make[1]: Entering directory '/tmp/user/1002/build/Encode-3.18-0/KR'
"/home/njh/perl5/perlbrew/perls/perl-5.8.8-thread-multi/bin/perl5.8.8" -MExtUtils::Command::MM -e 'cp_nonempty' -- KR.bs ../blib/arch/auto/Encode/KR/KR.bs 644
No tests defined for Encode::KR extension.
make[1]: Leaving directory '/tmp/user/1002/build/Encode-3.18-0/KR'
make[1]: Entering directory '/tmp/user/1002/build/Encode-3.18-0/Symbol'
"/home/njh/perl5/perlbrew/perls/perl-5.8.8-thread-multi/bin/perl5.8.8" -MExtUtils::Command::MM -e 'cp_nonempty' -- Symbol.bs ../blib/arch/auto/Encode/Symbol/Symbol.bs 644
No tests defined for Encode::Symbol extension.
make[1]: Leaving directory '/tmp/user/1002/build/Encode-3.18-0/Symbol'
make[1]: Entering directory '/tmp/user/1002/build/Encode-3.18-0/TW'
"/home/njh/perl5/perlbrew/perls/perl-5.8.8-thread-multi/bin/perl5.8.8" -MExtUtils::Command::MM -e 'cp_nonempty' -- TW.bs ../blib/arch/auto/Encode/TW/TW.bs 644
No tests defined for Encode::TW extension.
make[1]: Leaving directory '/tmp/user/1002/build/Encode-3.18-0/TW'
make[1]: Entering directory '/tmp/user/1002/build/Encode-3.18-0/Unicode'
"/home/njh/perl5/perlbrew/perls/perl-5.8.8-thread-multi/bin/perl5.8.8" -MExtUtils::Command::MM -e 'cp_nonempty' -- Unicode.bs ../blib/arch/auto/Encode/Unicode/Unicode.bs 644
No tests defined for Encode::Unicode extension.
make[1]: Leaving directory '/tmp/user/1002/build/Encode-3.18-0/Unicode'
PERL_DL_NONLAZY=1 "/home/njh/perl5/perlbrew/perls/perl-5.8.8-thread-multi/bin/perl5.8.8" "-MExtUtils::Command::MM" "-MTest::Harness" "-e" "undef *Test::Harness::Switches; test_harness(0, 'blib/lib', 'blib/arch')" t/*.t
t/at-cn.t .................. ok
t/at-tw.t .................. ok
t/Aliases.t ................ ok
t/cow.t .................... ok
t/decode.t ................. ok
t/enc_data.t ............... ok
t/enc_eucjp.t .............. ok
t/enc_module.t ............. ok
t/enc_utf8.t ............... ok
t/CJKT.t ................... ok
t/Encoder.t ................ ok
t/encoding-locale.t ........ ok
t/encoding.t ............... ok
t/fallback.t ............... ok
t/from_to.t ................ ok
t/grow.t ................... ok
t/Encode.t ................. ok
t/guess.t .................. ok
t/isa.t .................... ok
t/gsm0338.t ................ ok
t/jis7-fallback.t .......... ok
t/jperl.t .................. ok
t/magic.t .................. ok
t/mime-header.t ............ ok
t/mime-name.t .............. ok
t/mime_header_iso2022jp.t .. ok
t/piconv.t ................. ok
t/rt113164.t ............... ok
t/rt65541.t ................ ok
t/rt76824.t ................ ok
t/rt85489.t ................ ok
t/rt86327.t ................ ok
t/perlio.t ................. ok
t/truncated_utf8.t ......... skipped: Perl <= 5.9 or later required
t/taint.t .................. ok
t/undef.t .................. ok
t/Unicode_trailing_nul.t ... skipped: Perl <= 5.9 or later required
t/use-Encode-Alias.t ....... ok
t/utf32warnings.t .......... skipped: Perl <= 5.9 or later required
t/Unicode.t ................ ok
t/utf8ref.t ................ ok
t/utf8strict.t ............. ok
t/utf8warnings.t ........... ok
t/xml.t .................... skipped: Perl <= 5.9 or later required
t/whatwg-aliases.t ......... skipped: For maintainers only
All tests successful.
Files=45, Tests=7775, 12 wallclock secs ( 2.59 usr 0.35 sys + 18.64 cusr 1.84 csys = 23.42 CPU)
Result: PASS
------------------------------
PREREQUISITES
------------------------------
Prerequisite modules loaded:
requires:
Module Need Have
------------------- ----- --------
Exporter 5.57 5.58
parent 0.221 0.237
Storable 0 2.15
build_requires:
Module Need Have
------------------- ----- --------
ExtUtils::MakeMaker 0 7.38
Test::More 0.92 1.302168
configure_requires:
Module Need Have
------------------- ----- --------
ExtUtils::MakeMaker 0 7.38
------------------------------
ENVIRONMENT AND OTHER CONTEXT
------------------------------
Environment variables:
HARNESS_OPTIONS = j2:c
LANG = C.UTF-8
LC_TERMINAL = iTerm2
LC_TERMINAL_VERSION = 3.4.16
PATH = /home/njh/perl5/perlbrew/bin:/home/njh/perl5/perlbrew/perls/perl-5.8.8-thread-multi/bin:/home/njh/bin:/usr/local/sbin:/usr/local/bin:/usr/sbin:/usr/bin:/sbin:/bin:/usr/games:/usr/local/games:/snap/bin
PERL5LIB =
PERL5OPT =
PERL5_CPANPLUS_IS_RUNNING = 3826
PERL5_CPAN_IS_RUNNING = 3826
PERLBREW_HOME = /home/njh/.perlbrew
PERLBREW_MANPATH = /home/njh/perl5/perlbrew/perls/perl-5.8.8-thread-multi/man
PERLBREW_PATH = /home/njh/perl5/perlbrew/bin:/home/njh/perl5/perlbrew/perls/perl-5.8.8-thread-multi/bin
PERLBREW_PERL = perl-5.8.8-thread-multi
PERLBREW_ROOT = /home/njh/perl5/perlbrew
PERLBREW_SHELLRC_VERSION = 0.92
PERLBREW_VERSION = 0.92
PERL_USE_UNSAFE_INC = 1
SHELL = /bin/bash
TEMP = /tmp/user/1002
TERM = xterm-256color
TMPDIR = /tmp/user/1002
Perl special variables (and OS-specific diagnostics, for MSWin32):
$^X = /home/njh/perl5/perlbrew/perls/perl-5.8.8-thread-multi/bin/perl5.8.8
$UID/$EUID = 1002 / 1002
$GID = 1002 1002 120
$EGID = 1002 1002 120
Perl module toolchain versions installed:
Module Have
------------------- --------
CPAN 2.34
CPAN::Meta 2.150010
Cwd 3.75
ExtUtils::CBuilder 0.280231
ExtUtils::Command 7.38
ExtUtils::Install 2.06
ExtUtils::MakeMaker 7.38
ExtUtils::Manifest 1.70
ExtUtils::ParseXS 3.35
File::Spec 3.75
JSON 4.02
JSON::PP 4.04
Module::Build 0.4229
Module::Signature n/a
Parse::CPAN::Meta 2.150010
Test::Harness 3.42
Test::More 1.302168
YAML 1.30
YAML::Syck n/a
version 0.9924
--
Summary of my perl5 (revision 5 version 8 subversion 8) configuration:
Platform:
osname=linux, osvers=4.15.0-1025-oracle, archname=x86_64-linux-thread-multi
uname='linux oracle1 4.15.0-1025-oracle #28-ubuntu smp mon sep 16 12:54:27 utc 2019 x86_64 x86_64 x86_64 gnulinux '
config_args='-de -Dprefix=/home/njh/perl5/perlbrew/perls/perl-5.8.8-thread-multi -Dusedevel -Dusemultiplicity -Dusethreads -Accflags= -Aeval:scriptdir=/home/njh/perl5/perlbrew/perls/perl-5.8.8-thread-multi/bin'
hint=recommended, useposix=true, d_sigaction=define
usethreads=define use5005threads=undef useithreads=define usemultiplicity=define
useperlio=define d_sfio=undef uselargefiles=define usesocks=undef
use64bitint=define use64bitall=define uselongdouble=undef
usemymalloc=n, bincompat5005=undef
Compiler:
cc='cc', ccflags ='-D_REENTRANT -D_GNU_SOURCE -fwrapv -fno-strict-aliasing -pipe -Wdeclaration-after-statement -I/usr/local/include -D_LARGEFILE_SOURCE -D_FILE_OFFSET_BITS=64',
optimize='-O2',
cppflags='-D_REENTRANT -D_GNU_SOURCE -fwrapv -fno-strict-aliasing -pipe -Wdeclaration-after-statement -I/usr/local/include'
ccversion='', gccversion='7.4.0', gccosandvers=''
intsize=4, longsize=8, ptrsize=8, doublesize=8, byteorder=12345678
d_longlong=define, longlongsize=8, d_longdbl=define, longdblsize=16
ivtype='long', ivsize=8, nvtype='double', nvsize=8, Off_t='off_t', lseeksize=8
alignbytes=8, prototype=define
Linker and Libraries:
ld='cc', ldflags =' -L/usr/local/lib'
libpth=/usr/local/lib /lib/x86_64-linux-gnu /lib/../lib /usr/lib/x86_64-linux-gnu /usr/lib/../lib /lib /usr/lib
libs=-lnsl -lgdbm -ldb -ldl -lm -lcrypt -lutil -lpthread -lc
perllibs=-lnsl -ldl -lm -lcrypt -lutil -lpthread -lc
libc=libc-2.27.so, so=so, useshrplib=false, libperl=libperl.a
gnulibc_version='2.27'
Dynamic Linking:
dlsrc=dl_dlopen.xs, dlext=so, d_dlsymun=undef, ccdlflags='-Wl,-E'
cccdlflags='-fpic', lddlflags='-shared -L/usr/local/lib'
Characteristics of this binary (from libperl):
Compile-time options: MULTIPLICITY PERL_IMPLICIT_CONTEXT
PERL_MALLOC_WRAP USE_64_BIT_ALL USE_64_BIT_INT
USE_ITHREADS USE_LARGE_FILES USE_PERLIO
USE_REENTRANT_API
Locally applied patches:
Devel::PatchPerl 1.64
Built under linux
Compiled at Sep 29 2019 03:48:44
%ENV:
PERL5LIB=""
PERL5OPT=""
PERL5_CPANPLUS_IS_RUNNING="3826"
PERL5_CPAN_IS_RUNNING="3826"
PERLBREW_HOME="/home/njh/.perlbrew"
PERLBREW_MANPATH="/home/njh/perl5/perlbrew/perls/perl-5.8.8-thread-multi/man"
PERLBREW_PATH="/home/njh/perl5/perlbrew/bin:/home/njh/perl5/perlbrew/perls/perl-5.8.8-thread-multi/bin"
PERLBREW_PERL="perl-5.8.8-thread-multi"
PERLBREW_ROOT="/home/njh/perl5/perlbrew"
PERLBREW_SHELLRC_VERSION="0.92"
PERLBREW_VERSION="0.92"
PERL_USE_UNSAFE_INC="1"
@INC:
/home/njh/perl5/perlbrew/perls/perl-5.8.8-thread-multi/lib/5.8.8/x86_64-linux-thread-multi
/home/njh/perl5/perlbrew/perls/perl-5.8.8-thread-multi/lib/5.8.8
/home/njh/perl5/perlbrew/perls/perl-5.8.8-thread-multi/lib/site_perl/5.8.8/x86_64-linux-thread-multi
/home/njh/perl5/perlbrew/perls/perl-5.8.8-thread-multi/lib/site_perl/5.8.8
/home/njh/perl5/perlbrew/perls/perl-5.8.8-thread-multi/lib/site_perl
.