Beam-Wire v1.021 Perl 5 v5.24.4 RC1 x86_64-linux
- Status
- Pass
- From
- Slaven Rezić (SREZIC)
- Dist
-
Beam-Wire v1.021
- Platform
- Perl 5 v5.24.4 RC1 x86_64-linux
- Date
- 2018-03-25 05:30:26
- ID
- 9f918268-2fed-11e8-aa9f-d2b2586ba4dd
This distribution has been tested as part of the CPAN Testers
project, supporting the Perl programming language. See
http://wiki.cpantesters.org/ for more information or email
questions to cpan-testers-discuss@perl.org
--
Dear Doug Bell,
This is a computer-generated report for Beam-Wire-1.021
on perl 5.24.4, created by CPAN-Reporter-1.2018.
Thank you for uploading your work to CPAN. Congratulations!
All tests were successful.
Sections of this report:
* Tester comments
* Program output
* Prerequisites
* Environment and other context
------------------------------
TESTER COMMENTS
------------------------------
Additional comments from tester:
none provided
------------------------------
PROGRAM OUTPUT
------------------------------
Output from '/usr/bin/make test':
PERL_DL_NONLAZY=1 "/opt/perl-5.24.4-RC1/bin/perl" "-MExtUtils::Command::MM" "-MTest::Harness" "-e" "undef *Test::Harness::Switches; test_harness(0, 'blib/lib', 'blib/arch')" t/*.t t/container/*.t t/dependency/*.t t/deprecated/*.t t/method/*.t t/regression/*.t t/service/*.t
t/00-compile.t ..................... ok
#
# Versions for all modules listed in MYMETA.json (including optional ones):
#
# === Configure Requires ===
#
# Module Want Have
# ------------------------ -------- --------
# CPAN::Meta::Requirements 2.120620 2.140
# ExtUtils::MakeMaker any 7.34
# Module::Metadata any 1.000031
#
# === Build Requires ===
#
# Module Want Have
# ------------------- ---- ----
# ExtUtils::MakeMaker any 7.34
#
# === Test Requires ===
#
# Module Want Have
# ------------------- -------- --------
# ExtUtils::MakeMaker any 7.34
# File::Spec any 3.63_01
# IO::Handle any 1.36
# IPC::Open3 any 1.20
# Test::Deep any 1.127
# Test::Differences 0.64 0.64
# Test::Exception any 0.43
# Test::Lib any 0.002
# Test::More 1.001005 1.302133
#
# === Test Recommends ===
#
# Module Want Have
# ---------- -------- --------
# CPAN::Meta 2.120900 2.150010
#
# === Runtime Requires ===
#
# Module Want Have
# --------------- ----- --------
# Beam::Emitter any 1.007
# Beam::Service any 0.001
# Config::Any 0.23 0.32
# Data::DPath 0.51 0.57
# Module::Runtime any 0.016
# Moo any 2.003004
# Path::Tiny 0.055 0.104
# Throwable any 0.200013
# Types::Standard any 1.002001
# YAML any 1.24
#
# === Runtime Recommends ===
#
# Module Want Have
# ------ ---- -------
# JSON any 2.97001
#
t/00-report-prereqs.t .............. ok
t/container/config.t ............... ok
t/container/inner.t ................ ok
t/container/override.t ............. ok
t/dependency/anonymous.t ........... ok
t/dependency/call.t ................ ok
t/dependency/config.t .............. ok
t/dependency/value.t ............... ok
t/deprecated/event_listeners.t ..... ok
t/deprecated/method_call.t ......... ok
t/exception.t ...................... ok
t/method/create_service.t .......... ok
t/method/is_meta.t ................. ok
t/regression/60_unprefixed_meta.t .. ok
t/service/attributes.t ............. ok
t/service/class_args.t ............. ok
t/service/config.t ................. ok
t/service/event_listener.t ......... ok
t/service/extends.t ................ ok
t/service/lifecycle.t .............. ok
t/service/method.t ................. ok
t/service/value.t .................. ok
t/service/with.t ................... ok
t/service/with_args.t .............. ok
All tests successful.
Files=25, Tests=81, 5 wallclock secs ( 0.07 usr 0.08 sys + 4.39 cusr 0.57 csys = 5.11 CPU)
Result: PASS
------------------------------
PREREQUISITES
------------------------------
Prerequisite modules loaded:
requires:
Module Need Have
------------------------ -------- --------
Beam::Emitter 0 1.007
Beam::Service 0 0.001
Config::Any 0.23 0.32
Data::DPath 0.51 0.57
Module::Runtime 0 0.016
Moo 0 2.003004
Path::Tiny 0.055 0.104
Throwable 0 0.200013
Types::Standard 0 1.002001
YAML 0 1.24
build_requires:
Module Need Have
------------------------ -------- --------
ExtUtils::MakeMaker 0 7.34
File::Spec 0 3.63_01
IO::Handle 0 1.36
IPC::Open3 0 1.20
Test::Deep 0 1.127
Test::Differences 0.64 0.64
Test::Exception 0 0.43
Test::Lib 0 0.002
Test::More 1.001005 1.302133
configure_requires:
Module Need Have
------------------------ -------- --------
CPAN::Meta::Requirements 2.120620 2.140
ExtUtils::MakeMaker 0 7.34
Module::Metadata 0 1.000031
opt_requires:
Module Need Have
------------------------ -------- --------
JSON 0 2.97001
opt_build_requires:
Module Need Have
------------------------ -------- --------
CPAN::Meta 2.120900 2.150010
------------------------------
ENVIRONMENT AND OTHER CONTEXT
------------------------------
Environment variables:
LANG = en_US.UTF-8
LC_ALL = de_DE.UTF-8
PATH = /usr/local/bin:/usr/bin:/bin:/usr/local/sbin:/usr/sbin:/sbin:/home/cpansand/bin/linux-gnu:/home/cpansand/bin/sh:/home/cpansand/bin:/usr/games:/home/cpansand/devel:/home/eserte/src/srezic-misc/scripts
PERL5LIB = /home/cpansand/.cpan/build/2018032503/Mail-SPF-v2.9.0-j4t1Ee/blib/arch:/home/cpansand/.cpan/build/2018032503/Mail-SPF-v2.9.0-j4t1Ee/blib/lib
PERL5OPT =
PERL5_CPANPLUS_IS_RUNNING = 14103
PERL5_CPAN_IS_RUNNING = 14103
PERL5_CPAN_IS_RUNNING_IN_RECURSION = 13942,14103
PERLDOC = -MPod::Perldoc::ToTextOverstrike
PERL_BATCH = yes
PERL_CANARY_STABILITY_NOPROMPT = 1
PERL_CPAN_REPORTER_CONFIG = /var/tmp/cpansmoker-1023/2018032503/cpanreporter_001_config.ini
PERL_EXTUTILS_AUTOINSTALL = --defaultdeps
PERL_PARALLEL_SMOKER = yes
SHELL = /usr/bin/zsh
TERM = screen
TMPDIR = /var/tmp/cpansmoker-1023/2018032503
Perl special variables (and OS-specific diagnostics, for MSWin32):
$^X = /opt/perl-5.24.4-RC1/bin/perl
$UID/$EUID = 1023 / 1023
$GID = 1023 1023
$EGID = 1023 1023
Perl module toolchain versions installed:
Module Have
------------------- ----------
CPAN 2.11_01
CPAN::Meta 2.150010
Cwd 3.63_01
ExtUtils::CBuilder 0.280225
ExtUtils::Command 7.34
ExtUtils::Install 2.06
ExtUtils::MakeMaker 7.34
ExtUtils::Manifest 1.70
ExtUtils::ParseXS 3.31
File::Spec 3.63_01
JSON 2.97001
JSON::PP 2.27300_01
Module::Build 0.4224
Module::Signature 0.81
Parse::CPAN::Meta 2.150010
Test::Harness 3.36_01
Test::More 1.302133
YAML 1.24
YAML::Syck 1.30
version 0.9916
--
Summary of my perl5 (revision 5 version 24 subversion 4) configuration:
Platform:
osname=linux, osvers=4.4.0-116-generic, archname=x86_64-linux
uname='linux ubuntu16 4.4.0-116-generic #140-ubuntu smp mon feb 12 21:23:04 utc 2018 x86_64 x86_64 x86_64 gnulinux '
config_args='-ds -e -Dprefix=/opt/perl-5.24.4-RC1 -Dcf_email=srezic@cpan.org'
hint=recommended, useposix=true, d_sigaction=define
useithreads=undef, usemultiplicity=undef
use64bitint=define, use64bitall=define, uselongdouble=undef
usemymalloc=n, bincompat5005=undef
Compiler:
cc='cc', ccflags ='-fwrapv -fno-strict-aliasing -pipe -fstack-protector-strong -I/usr/local/include -D_LARGEFILE_SOURCE -D_FILE_OFFSET_BITS=64',
optimize='-O2',
cppflags='-fwrapv -fno-strict-aliasing -pipe -fstack-protector-strong -I/usr/local/include'
ccversion='', gccversion='5.4.0 20160609', gccosandvers=''
intsize=4, longsize=8, ptrsize=8, doublesize=8, byteorder=12345678, doublekind=3
d_longlong=define, longlongsize=8, d_longdbl=define, longdblsize=16, longdblkind=3
ivtype='long', ivsize=8, nvtype='double', nvsize=8, Off_t='off_t', lseeksize=8
alignbytes=8, prototype=define
Linker and Libraries:
ld='cc', ldflags =' -fstack-protector-strong -L/usr/local/lib'
libpth=/usr/local/lib /usr/lib/gcc/x86_64-linux-gnu/5/include-fixed /usr/include/x86_64-linux-gnu /usr/lib /lib/x86_64-linux-gnu /lib/../lib /usr/lib/x86_64-linux-gnu /usr/lib/../lib /lib
libs=-lpthread -lnsl -lgdbm -ldb -ldl -lm -lcrypt -lutil -lc -lgdbm_compat
perllibs=-lpthread -lnsl -ldl -lm -lcrypt -lutil -lc
libc=libc-2.23.so, so=so, useshrplib=false, libperl=libperl.a
gnulibc_version='2.23'
Dynamic Linking:
dlsrc=dl_dlopen.xs, dlext=so, d_dlsymun=undef, ccdlflags='-Wl,-E'
cccdlflags='-fPIC', lddlflags='-shared -O2 -L/usr/local/lib -fstack-protector-strong'
Characteristics of this binary (from libperl):
Compile-time options: HAS_TIMES PERLIO_LAYERS PERL_COPY_ON_WRITE
PERL_DONT_CREATE_GVSV
PERL_HASH_FUNC_ONE_AT_A_TIME_HARD PERL_MALLOC_WRAP
PERL_PRESERVE_IVUV USE_64_BIT_ALL USE_64_BIT_INT
USE_LARGE_FILES USE_LOCALE USE_LOCALE_COLLATE
USE_LOCALE_CTYPE USE_LOCALE_NUMERIC USE_LOCALE_TIME
USE_PERLIO USE_PERL_ATOF
Locally applied patches:
RC1
Built under linux
Compiled at Mar 24 2018 19:56:23
%ENV:
PERL5LIB="/home/cpansand/.cpan/build/2018032503/Mail-SPF-v2.9.0-j4t1Ee/blib/arch:/home/cpansand/.cpan/build/2018032503/Mail-SPF-v2.9.0-j4t1Ee/blib/lib"
PERL5OPT=""
PERL5_CPANPLUS_IS_RUNNING="14103"
PERL5_CPAN_IS_RUNNING="14103"
PERL5_CPAN_IS_RUNNING_IN_RECURSION="13942,14103"
PERLDOC="-MPod::Perldoc::ToTextOverstrike"
PERL_BATCH="yes"
PERL_CANARY_STABILITY_NOPROMPT="1"
PERL_CPAN_REPORTER_CONFIG="/var/tmp/cpansmoker-1023/2018032503/cpanreporter_001_config.ini"
PERL_EXTUTILS_AUTOINSTALL="--defaultdeps"
PERL_PARALLEL_SMOKER="yes"
@INC:
/home/cpansand/.cpan/build/2018032503/Mail-SPF-v2.9.0-j4t1Ee/blib/arch
/home/cpansand/.cpan/build/2018032503/Mail-SPF-v2.9.0-j4t1Ee/blib/lib
/opt/perl-5.24.4-RC1/lib/site_perl/5.24.4/x86_64-linux
/opt/perl-5.24.4-RC1/lib/site_perl/5.24.4
/opt/perl-5.24.4-RC1/lib/5.24.4/x86_64-linux
/opt/perl-5.24.4-RC1/lib/5.24.4
.