Encode v3.16 Perl 5 v5.20.3 x86_64-linux-ld

Status
Pass
From
Nigel Horne
Dist
Encode v3.16
Platform
Perl 5 v5.20.3 x86_64-linux-ld
Date
2022-01-05 19:21:03
ID
9f756edc-6e5c-11ec-bf68-29e3ad979c28
This distribution has been tested as part of the CPAN Testers
project, supporting the Perl programming language.  See
http://wiki.cpantesters.org/ for more information or email
questions to cpan-testers-discuss@perl.org


--
Dear Dan Kogai,

This is a computer-generated report for Encode-3.16
on perl 5.20.3, created by CPAN-Reporter-1.2018.

Thank you for uploading your work to CPAN.  Congratulations!
All tests were successful.

Sections of this report:

    * Tester comments
    * Program output
    * Prerequisites
    * Environment and other context

------------------------------
TESTER COMMENTS
------------------------------

Additional comments from tester:

none provided

------------------------------
PROGRAM OUTPUT
------------------------------

Output from '/usr/bin/make test':

"/home/njh/perl5/perlbrew/perls/perl-5.20.3-ld/bin/perl5.20.3" -MExtUtils::Command::MM -e 'cp_nonempty' -- Encode.bs blib/arch/auto/Encode/Encode.bs 644
make[1]: Entering directory '/tmp/user/1002/build/Encode-3.16-1/Byte'
"/home/njh/perl5/perlbrew/perls/perl-5.20.3-ld/bin/perl5.20.3" -MExtUtils::Command::MM -e 'cp_nonempty' -- Byte.bs ../blib/arch/auto/Encode/Byte/Byte.bs 644
make[1]: Leaving directory '/tmp/user/1002/build/Encode-3.16-1/Byte'
make[1]: Entering directory '/tmp/user/1002/build/Encode-3.16-1/CN'
"/home/njh/perl5/perlbrew/perls/perl-5.20.3-ld/bin/perl5.20.3" -MExtUtils::Command::MM -e 'cp_nonempty' -- CN.bs ../blib/arch/auto/Encode/CN/CN.bs 644
make[1]: Leaving directory '/tmp/user/1002/build/Encode-3.16-1/CN'
make[1]: Entering directory '/tmp/user/1002/build/Encode-3.16-1/EBCDIC'
"/home/njh/perl5/perlbrew/perls/perl-5.20.3-ld/bin/perl5.20.3" -MExtUtils::Command::MM -e 'cp_nonempty' -- EBCDIC.bs ../blib/arch/auto/Encode/EBCDIC/EBCDIC.bs 644
make[1]: Leaving directory '/tmp/user/1002/build/Encode-3.16-1/EBCDIC'
make[1]: Entering directory '/tmp/user/1002/build/Encode-3.16-1/JP'
"/home/njh/perl5/perlbrew/perls/perl-5.20.3-ld/bin/perl5.20.3" -MExtUtils::Command::MM -e 'cp_nonempty' -- JP.bs ../blib/arch/auto/Encode/JP/JP.bs 644
make[1]: Leaving directory '/tmp/user/1002/build/Encode-3.16-1/JP'
make[1]: Entering directory '/tmp/user/1002/build/Encode-3.16-1/KR'
"/home/njh/perl5/perlbrew/perls/perl-5.20.3-ld/bin/perl5.20.3" -MExtUtils::Command::MM -e 'cp_nonempty' -- KR.bs ../blib/arch/auto/Encode/KR/KR.bs 644
make[1]: Leaving directory '/tmp/user/1002/build/Encode-3.16-1/KR'
make[1]: Entering directory '/tmp/user/1002/build/Encode-3.16-1/Symbol'
"/home/njh/perl5/perlbrew/perls/perl-5.20.3-ld/bin/perl5.20.3" -MExtUtils::Command::MM -e 'cp_nonempty' -- Symbol.bs ../blib/arch/auto/Encode/Symbol/Symbol.bs 644
make[1]: Leaving directory '/tmp/user/1002/build/Encode-3.16-1/Symbol'
make[1]: Entering directory '/tmp/user/1002/build/Encode-3.16-1/TW'
"/home/njh/perl5/perlbrew/perls/perl-5.20.3-ld/bin/perl5.20.3" -MExtUtils::Command::MM -e 'cp_nonempty' -- TW.bs ../blib/arch/auto/Encode/TW/TW.bs 644
make[1]: Leaving directory '/tmp/user/1002/build/Encode-3.16-1/TW'
make[1]: Entering directory '/tmp/user/1002/build/Encode-3.16-1/Unicode'
"/home/njh/perl5/perlbrew/perls/perl-5.20.3-ld/bin/perl5.20.3" -MExtUtils::Command::MM -e 'cp_nonempty' -- Unicode.bs ../blib/arch/auto/Encode/Unicode/Unicode.bs 644
make[1]: Leaving directory '/tmp/user/1002/build/Encode-3.16-1/Unicode'
make[1]: Entering directory '/tmp/user/1002/build/Encode-3.16-1/Byte'
"/home/njh/perl5/perlbrew/perls/perl-5.20.3-ld/bin/perl5.20.3" -MExtUtils::Command::MM -e 'cp_nonempty' -- Byte.bs ../blib/arch/auto/Encode/Byte/Byte.bs 644
No tests defined for Encode::Byte extension.
make[1]: Leaving directory '/tmp/user/1002/build/Encode-3.16-1/Byte'
make[1]: Entering directory '/tmp/user/1002/build/Encode-3.16-1/CN'
"/home/njh/perl5/perlbrew/perls/perl-5.20.3-ld/bin/perl5.20.3" -MExtUtils::Command::MM -e 'cp_nonempty' -- CN.bs ../blib/arch/auto/Encode/CN/CN.bs 644
No tests defined for Encode::CN extension.
make[1]: Leaving directory '/tmp/user/1002/build/Encode-3.16-1/CN'
make[1]: Entering directory '/tmp/user/1002/build/Encode-3.16-1/EBCDIC'
"/home/njh/perl5/perlbrew/perls/perl-5.20.3-ld/bin/perl5.20.3" -MExtUtils::Command::MM -e 'cp_nonempty' -- EBCDIC.bs ../blib/arch/auto/Encode/EBCDIC/EBCDIC.bs 644
No tests defined for Encode::EBCDIC extension.
make[1]: Leaving directory '/tmp/user/1002/build/Encode-3.16-1/EBCDIC'
make[1]: Entering directory '/tmp/user/1002/build/Encode-3.16-1/JP'
"/home/njh/perl5/perlbrew/perls/perl-5.20.3-ld/bin/perl5.20.3" -MExtUtils::Command::MM -e 'cp_nonempty' -- JP.bs ../blib/arch/auto/Encode/JP/JP.bs 644
No tests defined for Encode::JP extension.
make[1]: Leaving directory '/tmp/user/1002/build/Encode-3.16-1/JP'
make[1]: Entering directory '/tmp/user/1002/build/Encode-3.16-1/KR'
"/home/njh/perl5/perlbrew/perls/perl-5.20.3-ld/bin/perl5.20.3" -MExtUtils::Command::MM -e 'cp_nonempty' -- KR.bs ../blib/arch/auto/Encode/KR/KR.bs 644
No tests defined for Encode::KR extension.
make[1]: Leaving directory '/tmp/user/1002/build/Encode-3.16-1/KR'
make[1]: Entering directory '/tmp/user/1002/build/Encode-3.16-1/Symbol'
"/home/njh/perl5/perlbrew/perls/perl-5.20.3-ld/bin/perl5.20.3" -MExtUtils::Command::MM -e 'cp_nonempty' -- Symbol.bs ../blib/arch/auto/Encode/Symbol/Symbol.bs 644
No tests defined for Encode::Symbol extension.
make[1]: Leaving directory '/tmp/user/1002/build/Encode-3.16-1/Symbol'
make[1]: Entering directory '/tmp/user/1002/build/Encode-3.16-1/TW'
"/home/njh/perl5/perlbrew/perls/perl-5.20.3-ld/bin/perl5.20.3" -MExtUtils::Command::MM -e 'cp_nonempty' -- TW.bs ../blib/arch/auto/Encode/TW/TW.bs 644
No tests defined for Encode::TW extension.
make[1]: Leaving directory '/tmp/user/1002/build/Encode-3.16-1/TW'
make[1]: Entering directory '/tmp/user/1002/build/Encode-3.16-1/Unicode'
"/home/njh/perl5/perlbrew/perls/perl-5.20.3-ld/bin/perl5.20.3" -MExtUtils::Command::MM -e 'cp_nonempty' -- Unicode.bs ../blib/arch/auto/Encode/Unicode/Unicode.bs 644
No tests defined for Encode::Unicode extension.
make[1]: Leaving directory '/tmp/user/1002/build/Encode-3.16-1/Unicode'
PERL_DL_NONLAZY=1 "/home/njh/perl5/perlbrew/perls/perl-5.20.3-ld/bin/perl5.20.3" "-MExtUtils::Command::MM" "-MTest::Harness" "-e" "undef *Test::Harness::Switches; test_harness(0, 'blib/lib', 'blib/arch')" t/*.t
t/Aliases.t ................ ok
t/at-cn.t .................. ok
t/at-tw.t .................. ok
t/CJKT.t ................... ok
t/cow.t .................... ok
t/decode.t ................. ok
t/enc_data.t ............... ok
t/enc_eucjp.t .............. ok
t/enc_module.t ............. ok
t/enc_utf8.t ............... ok
t/Encode.t ................. ok
t/Encoder.t ................ ok
t/encoding-locale.t ........ ok
t/encoding.t ............... ok
t/fallback.t ............... ok
t/from_to.t ................ ok
t/grow.t ................... ok
t/gsm0338.t ................ ok
t/guess.t .................. ok
t/isa.t .................... ok
t/jis7-fallback.t .......... ok
t/jperl.t .................. ok
t/magic.t .................. ok
t/mime-header.t ............ ok
t/mime-name.t .............. ok
t/mime_header_iso2022jp.t .. ok
t/perlio.t ................. ok
t/piconv.t ................. ok
t/rt113164.t ............... ok
t/rt65541.t ................ ok
t/rt76824.t ................ ok
t/rt85489.t ................ ok
t/rt86327.t ................ ok
t/taint.t .................. ok
t/truncated_utf8.t ......... ok
t/undef.t .................. ok
t/Unicode.t ................ ok
# temp file: /tmp/user/1002/R5icQ1dkoi
t/Unicode_trailing_nul.t ... ok
t/use-Encode-Alias.t ....... ok
t/utf8ref.t ................ ok
t/utf8strict.t ............. ok
t/utf8warnings.t ........... ok
t/whatwg-aliases.t ......... skipped: For maintainers only
t/xml.t .................... ok
All tests successful.

Test Summary Report
-------------------
t/truncated_utf8.t       (Wstat: 0 Tests: 9 Failed: 0)
  TODO passed:   9
Files=44, Tests=7778, 18 wallclock secs ( 1.85 usr  0.34 sys + 15.92 cusr  1.18 csys = 19.29 CPU)
Result: PASS

------------------------------
PREREQUISITES
------------------------------

Prerequisite modules loaded:

requires:

    Module              Need  Have    
    ------------------- ----- --------
    Exporter            5.57  5.71    
    parent              0.221 0.228   
    Storable            0     3.15    

build_requires:

    Module              Need  Have    
    ------------------- ----- --------
    ExtUtils::MakeMaker 0     7.38    
    Test::More          0.92  1.302187

configure_requires:

    Module              Need  Have    
    ------------------- ----- --------
    ExtUtils::MakeMaker 0     7.38    


------------------------------
ENVIRONMENT AND OTHER CONTEXT
------------------------------

Environment variables:

    LANG = C.UTF-8
    LC_TERMINAL = iTerm2
    LC_TERMINAL_VERSION = 3.4.14
    NONINTERACTIVE_TESTING = 1
    PATH = /home/njh/perl5/perlbrew/bin:/home/njh/perl5/perlbrew/perls/perl-5.20.3-ld/bin:/usr/local/sbin:/usr/local/bin:/usr/sbin:/usr/bin:/sbin:/bin:/usr/games:/usr/local/games:/snap/bin
    PERL5LIB = 
    PERL5OPT = 
    PERL5_CPANPLUS_IS_RUNNING = 23731
    PERL5_CPAN_IS_RUNNING = 23731
    PERLBREW_LIB = 
    PERLBREW_MANPATH = /home/njh/perl5/perlbrew/perls/perl-5.20.3-ld/man
    PERLBREW_PATH = /home/njh/perl5/perlbrew/bin:/home/njh/perl5/perlbrew/perls/perl-5.20.3-ld/bin
    PERLBREW_PERL = perl-5.20.3-ld
    PERLBREW_ROOT = /home/njh/perl5/perlbrew
    PERLBREW_VERSION = 0.92
    PERL_LOCAL_LIB_ROOT = 
    PERL_MM_USE_DEFAULT = 1
    PERL_USE_UNSAFE_INC = 1
    SHELL = /bin/bash
    TEMP = /tmp/user/1002
    TMPDIR = /tmp/user/1002

Perl special variables (and OS-specific diagnostics, for MSWin32):

    $^X = /home/njh/perl5/perlbrew/perls/perl-5.20.3-ld/bin/perl5.20.3
    $UID/$EUID = 1002 / 1002
    $GID = 1002 120 1002
    $EGID = 1002 120 1002

Perl module toolchain versions installed:

    Module              Have    
    ------------------- --------
    CPAN                2.27    
    CPAN::Meta          2.150010
    Cwd                 3.48_01 
    ExtUtils::CBuilder  0.280236
    ExtUtils::Command   7.38    
    ExtUtils::Install   2.06    
    ExtUtils::MakeMaker 7.38    
    ExtUtils::Manifest  1.70    
    ExtUtils::ParseXS   3.24    
    File::Spec          3.48_01 
    JSON                4.02    
    JSON::PP            4.04    
    Module::Build       0.4229  
    Module::Signature   0.87    
    Parse::CPAN::Meta   2.150010
    Test::Harness       3.42    
    Test::More          1.302187
    YAML                1.30    
    YAML::Syck          1.32    
    version             0.9929  


--

Summary of my perl5 (revision 5 version 20 subversion 3) configuration:
   
  Platform:
    osname=linux, osvers=4.15.0-1025-oracle, archname=x86_64-linux-ld
    uname='linux oracle1 4.15.0-1025-oracle #28-ubuntu smp mon sep 16 12:54:27 utc 2019 x86_64 x86_64 x86_64 gnulinux '
    config_args='-de -Dprefix=/home/njh/perl5/perlbrew/perls/perl-5.20.3-ld -Dusedevel -Duselongdouble -Accflags=-O2 -W -Wformat=2 -Wswitch -Wshadow -Wwrite-strings -Wuninitialized -Wall -pipe -fomit-frame-pointer -pedantic -D_FORTIFY_SOURCE=2 -Wpointer-arith -Wstrict-prototypes -fstack-protector -Wstack-protector -Wextra -Wbad-function-cast -Wcast-align -Wcast-qual -Wdisabled-optimization -Wendif-labels -Wfloat-equal -Wformat-nonliteral -Winline -Wmissing-declarations -Wmissing-prototypes -Wnested-externs -Wpointer-arith -Wundef -Wformat-security -ftree-vectorize -msse -mfpmath=sse -msse2 -mssse3 -msse4.1 -msse4.2 -maes -fdiagnostics-color=auto -mtune=native -march=native -Aeval:scriptdir=/home/njh/perl5/perlbrew/perls/perl-5.20.3-ld/bin'
    hint=recommended, useposix=true, d_sigaction=define
    useithreads=undef, usemultiplicity=undef
    use64bitint=define, use64bitall=define, uselongdouble=define
    usemymalloc=n, bincompat5005=undef
  Compiler:
    cc='cc', ccflags ='-O2 -W -Wformat=2 -Wswitch -Wshadow -Wwrite-strings -Wuninitialized -Wall -pipe -fomit-frame-pointer -pedantic -D_FORTIFY_SOURCE=2 -Wpointer-arith -Wstrict-prototypes -fstack-protector -Wstack-protector -Wextra -Wbad-function-cast -Wcast-align -Wcast-qual -Wdisabled-optimization -Wendif-labels -Wfloat-equal -Wformat-nonliteral -Winline -Wmissing-declarations -Wmissing-prototypes -Wnested-externs -Wpointer-arith -Wundef -Wformat-security -ftree-vectorize -msse -mfpmath=sse -msse2 -mssse3 -msse4.1 -msse4.2 -maes -fdiagnostics-color=auto -mtune=native -march=native -fwrapv -fno-strict-aliasing -I/usr/local/include -D_LARGEFILE_SOURCE -D_FILE_OFFSET_BITS=64',
    optimize='-O2',
    cppflags='-O2 -W -Wformat=2 -Wswitch -Wshadow -Wwrite-strings -Wuninitialized -Wall -pipe -fomit-frame-pointer -pedantic -D_FORTIFY_SOURCE=2 -Wpointer-arith -Wstrict-prototypes -fstack-protector -Wstack-protector -Wextra -Wbad-function-cast -Wcast-align -Wcast-qual -Wdisabled-optimization -Wendif-labels -Wfloat-equal -Wformat-nonliteral -Winline -Wmissing-declarations -Wmissing-prototypes -Wnested-externs -Wpointer-arith -Wundef -Wformat-security -ftree-vectorize -msse -mfpmath=sse -msse2 -mssse3 -msse4.1 -msse4.2 -maes -fdiagnostics-color=auto -mtune=native -march=native -fwrapv -fno-strict-aliasing -I/usr/local/include'
    ccversion='', gccversion='7.4.0', gccosandvers=''
    intsize=4, longsize=8, ptrsize=8, doublesize=8, byteorder=12345678
    d_longlong=define, longlongsize=8, d_longdbl=define, longdblsize=16
    ivtype='long', ivsize=8, nvtype='long double', nvsize=16, Off_t='off_t', lseeksize=8
    alignbytes=16, prototype=define
  Linker and Libraries:
    ld='cc', ldflags =' -fstack-protector -L/usr/local/lib'
    libpth=/usr/local/lib /usr/lib/gcc/x86_64-linux-gnu/7/include-fixed /usr/include/x86_64-linux-gnu /usr/lib /lib/x86_64-linux-gnu /lib/../lib /usr/lib/x86_64-linux-gnu /usr/lib/../lib /lib
    libs=-lpthread -lnsl -lgdbm -ldb -ldl -lm -lcrypt -lutil -lc
    perllibs=-lpthread -lnsl -ldl -lm -lcrypt -lutil -lc
    libc=libc-2.27.so, so=so, useshrplib=false, libperl=libperl.a
    gnulibc_version='2.27'
  Dynamic Linking:
    dlsrc=dl_dlopen.xs, dlext=so, d_dlsymun=undef, ccdlflags='-Wl,-E'
    cccdlflags='-fPIC', lddlflags='-shared -O2 -L/usr/local/lib -fstack-protector'


Characteristics of this binary (from libperl): 
  Compile-time options: HAS_TIMES PERLIO_LAYERS PERL_DONT_CREATE_GVSV
                        PERL_HASH_FUNC_ONE_AT_A_TIME_HARD PERL_MALLOC_WRAP
                        PERL_NEW_COPY_ON_WRITE PERL_PRESERVE_IVUV
                        PERL_USE_DEVEL USE_64_BIT_ALL USE_64_BIT_INT
                        USE_LARGE_FILES USE_LOCALE USE_LOCALE_COLLATE
                        USE_LOCALE_CTYPE USE_LOCALE_NUMERIC USE_LONG_DOUBLE
                        USE_PERLIO USE_PERL_ATOF
  Locally applied patches:
	Devel::PatchPerl 1.64
  Built under linux
  Compiled at Sep 22 2019 11:46:54
  %ENV:
    PERL5LIB=""
    PERL5OPT=""
    PERL5_CPANPLUS_IS_RUNNING="23731"
    PERL5_CPAN_IS_RUNNING="23731"
    PERLBREW_LIB=""
    PERLBREW_MANPATH="/home/njh/perl5/perlbrew/perls/perl-5.20.3-ld/man"
    PERLBREW_PATH="/home/njh/perl5/perlbrew/bin:/home/njh/perl5/perlbrew/perls/perl-5.20.3-ld/bin"
    PERLBREW_PERL="perl-5.20.3-ld"
    PERLBREW_ROOT="/home/njh/perl5/perlbrew"
    PERLBREW_VERSION="0.92"
    PERL_LOCAL_LIB_ROOT=""
    PERL_MM_USE_DEFAULT="1"
    PERL_USE_UNSAFE_INC="1"
  @INC:
    /home/njh/perl5/perlbrew/perls/perl-5.20.3-ld/lib/site_perl/5.20.3/x86_64-linux-ld
    /home/njh/perl5/perlbrew/perls/perl-5.20.3-ld/lib/site_perl/5.20.3
    /home/njh/perl5/perlbrew/perls/perl-5.20.3-ld/lib/5.20.3/x86_64-linux-ld
    /home/njh/perl5/perlbrew/perls/perl-5.20.3-ld/lib/5.20.3
    .