Path-Tiny v0.144 Perl 5 v5.39.0 x86_64-dragonfly-thread-multi
- Status
- Pass
- From
- Carlos Guevara
- Dist
-
Path-Tiny v0.144
- Platform
- Perl 5 v5.39.0 x86_64-dragonfly-thread-multi
- Date
- 2023-07-17 17:37:37
- ID
- 9ef8b058-24c8-11ee-ad5c-5eeaa459ba30
This distribution has been tested as part of the CPAN Testers
project, supporting the Perl programming language. See
http://wiki.cpantesters.org/ for more information or email
questions to cpan-testers-discuss@perl.org
--
Dear David Golden,
This is a computer-generated report for Path-Tiny-0.144
on perl 5.39.0, created by CPAN-Reporter-1.2019.
Thank you for uploading your work to CPAN. Congratulations!
All tests were successful.
Sections of this report:
* Tester comments
* Program output
* Prerequisites
* Environment and other context
------------------------------
TESTER COMMENTS
------------------------------
Additional comments from tester:
this report is from an automated smoke testing program
and was not reviewed by a human for accuracy
------------------------------
PROGRAM OUTPUT
------------------------------
Output from '/usr/bin/make test':
PERL_DL_NONLAZY=1 "/home/cpan/bin/perl/bin/perl5.39.0" "-MExtUtils::Command::MM" "-MTest::Harness" "-e" "undef *Test::Harness::Switches; test_harness(0, 'blib/lib', 'blib/arch')" t/*.t
#
# Versions for all modules listed in MYMETA.json (including optional ones):
#
# === Configure Requires ===
#
# Module Want Have
# ------------------- ---- ----
# ExtUtils::MakeMaker 6.17 7.70
#
# === Configure Suggests ===
#
# Module Want Have
# -------- ------- ----
# JSON::PP 2.27300 4.16
#
# === Build Requires ===
#
# Module Want Have
# ------------------- ---- ----
# ExtUtils::MakeMaker any 7.70
#
# === Test Requires ===
#
# Module Want Have
# --------------------- ---- --------
# Digest::MD5 any 2.58_01
# ExtUtils::MakeMaker any 7.70
# File::Basename any 2.86
# File::Spec 0.86 3.88
# File::Spec::Functions any 3.88
# File::Spec::Unix any 3.88
# File::Temp 0.19 0.2311
# Test::More 0.96 1.302195
# lib any 0.65
# open any 1.13
#
# === Test Recommends ===
#
# Module Want Have
# ------------------ -------- --------
# CPAN::Meta 2.120900 2.150010
# Test::FailWarnings any missing
# Test::MockRandom any missing
#
# === Runtime Requires ===
#
# Module Want Have
# ------------------ ---- ------
# Carp any 1.54
# Cwd any 3.89
# Digest 1.03 1.20
# Digest::SHA 5.45 6.04
# Encode any 3.19
# Exporter 5.57 5.77
# Fcntl any 1.15
# File::Compare any 1.1007
# File::Copy any 2.41
# File::Glob any 1.40
# File::Path 2.07 2.18
# File::Spec 0.86 3.88
# File::Temp 0.19 0.2311
# File::stat any 1.13
# constant any 1.33
# overload any 1.37
# strict any 1.12
# warnings any 1.66
# warnings::register any 1.06
#
# === Runtime Recommends ===
#
# Module Want Have
# ------------- ---- -------
# Unicode::UTF8 0.58 missing
#
t/00-report-prereqs.t ............. ok
t/basename.t ...................... ok
t/basic.t ......................... ok
t/children.t ...................... ok
t/chmod.t ......................... ok
t/digest.t ........................ ok
t/exception.t ..................... ok
t/exports.t ....................... ok
t/filesystem.t .................... ok
t/has_same_bytes.t ................ ok
t/input_output.t .................. ok
t/input_output_no_PU_UU.t ......... ok
t/input_output_no_UU.t ............ ok
t/locking.t ....................... ok
t/mkdir.t ......................... ok
t/mkpath.t ........................ ok
t/mutable_tree_while_iterating.t .. ok
t/normalize.t ..................... ok
t/overloading.t ................... ok
t/parent.t ........................ ok
t/recurse.t ....................... ok
t/rel-abs.t ....................... ok
t/sig_die.t ....................... ok
t/size.t .......................... ok
t/subsumes.t ...................... ok
t/symlinks.t ...................... ok
t/temp.t .......................... ok
t/visit.t ......................... ok
t/zz-atomic.t ..................... skipped: Test::MockRandom required for atomicity tests
t/zzz-spec.t ...................... ok
All tests successful.
Files=30, Tests=1769, 8 wallclock secs ( 0.32 usr 0.17 sys + 5.95 cusr 1.66 csys = 8.09 CPU)
Result: PASS
------------------------------
PREREQUISITES
------------------------------
Prerequisite modules loaded:
requires:
Module Need Have
--------------------- -------- --------
Carp 0 1.54
constant 0 1.33
Cwd 0 3.89
Digest 1.03 1.20
Digest::SHA 5.45 6.04
Encode 0 3.19
Exporter 5.57 5.77
Fcntl 0 1.15
File::Compare 0 1.1007
File::Copy 0 2.41
File::Glob 0 1.40
File::Path 2.07 2.18
File::Spec 0.86 3.88
File::stat 0 1.13
File::Temp 0.19 0.2311
overload 0 1.37
perl 5.008001 5.039000
strict 0 1.12
warnings 0 1.66
warnings::register 0 1.06
build_requires:
Module Need Have
--------------------- -------- --------
Digest::MD5 0 2.58_01
ExtUtils::MakeMaker 0 7.70
File::Basename 0 2.86
File::Spec 0.86 3.88
File::Spec::Functions 0 3.88
File::Spec::Unix 0 3.88
File::Temp 0.19 0.2311
lib 0 0.65
open 0 1.13
Test::More 0.96 1.302195
configure_requires:
Module Need Have
--------------------- -------- --------
ExtUtils::MakeMaker 6.17 7.70
perl 5.008001 5.039000
------------------------------
ENVIRONMENT AND OTHER CONTEXT
------------------------------
Environment variables:
AUTOMATED_TESTING = 1
DATE_MANIP_TEST_DM5 = 1
LC_ALL = C
NONINTERACTIVE_TESTING = 1
NO_NETWORK_TESTING = 1
PATH = /home/cpan/bin/perl/bin:/home/cpan/bin:/sbin:/bin:/usr/sbin:/usr/bin:/usr/games:/usr/local/sbin:/usr/local/bin:/usr/pkg/sbin:/usr/pkg/bin:/home/cpan/bin
PERL5LIB = /home/cpan/.cpan/build/CPAN-2.36-5/blib/arch:/home/cpan/.cpan/build/CPAN-2.36-5/blib/lib:/home/cpan/.cpan/build/Scalar-List-Utils-1.63-1/blib/arch:/home/cpan/.cpan/build/Scalar-List-Utils-1.63-1/blib/lib:/home/cpan/.cpan/build/IPC-SysV-2.09-0/blib/arch:/home/cpan/.cpan/build/IPC-SysV-2.09-0/blib/lib:/home/cpan/.cpan/build/Test-Harness-3.44-5/blib/arch:/home/cpan/.cpan/build/Test-Harness-3.44-5/blib/lib:/home/cpan/.cpan/build/libnet-3.15-2/blib/arch:/home/cpan/.cpan/build/libnet-3.15-2/blib/lib:/home/cpan/.cpan/build/ExtUtils-MakeMaker-7.70-4/blib/arch:/home/cpan/.cpan/build/ExtUtils-MakeMaker-7.70-4/blib/lib:/home/cpan/.cpan/build/Test-Simple-1.302195-5/blib/arch:/home/cpan/.cpan/build/Test-Simple-1.302195-5/blib/lib:/home/cpan/.cpan/build/Encode-3.19-3/blib/arch:/home/cpan/.cpan/build/Encode-3.19-3/blib/lib:/home/cpan/.cpan/build/IO-Compress-2.205-4/blib/arch:/home/cpan/.cpan/build/IO-Compress-2.205-4/blib/lib:/home/cpan/.cpan/build/Compress-Raw-Zlib-2.205-4/blib/arch:/home/cpan/.cpan/build/Compress-Raw-Zlib-2.205-4/blib/lib:/home/cpan/.cpan/build/Compress-Raw-Bzip2-2.205-4/blib/arch:/home/cpan/.cpan/build/Compress-Raw-Bzip2-2.205-4/blib/lib
PERL5OPT =
PERL5_CPANPLUS_IS_RUNNING = 75712
PERL5_CPAN_IS_RUNNING = 75712
PERL_MM_USE_DEFAULT = 1
PERL_USE_UNSAFE_INC = 1
SHELL = /usr/local/bin/bash
TERM = screen
TMPDIR = /home/cpan/tmp
Perl special variables (and OS-specific diagnostics, for MSWin32):
$^X = /home/cpan/bin/perl/bin/perl5.39.0
$UID/$EUID = 1002 / 1002
$GID = 1002 1002
$EGID = 1002 1002
Perl module toolchain versions installed:
Module Have
------------------- --------
CPAN 2.36
CPAN::Meta 2.150010
Cwd 3.89
ExtUtils::CBuilder 0.280239
ExtUtils::Command 7.70
ExtUtils::Install 2.22
ExtUtils::MakeMaker 7.70
ExtUtils::Manifest 1.73
ExtUtils::ParseXS 3.51
File::Spec 3.88
JSON n/a
JSON::PP 4.16
Module::Build 0.4234
Module::Signature n/a
Parse::CPAN::Meta 2.150010
Test2 1.302195
Test::Harness 3.44
Test::More 1.302195
YAML n/a
YAML::Syck n/a
version 0.9929
--
Summary of my perl5 (revision 5 version 39 subversion 0) configuration:
Commit id: a21a2dda119c764ed17277d02fcc79e8e7a0a025
Platform:
osname=dragonfly
osvers=6.4-release
archname=x86_64-dragonfly-thread-multi
uname='dragonfly cjg-dragonfly6 6.4-release dragonfly v6.4.0-release #54: fri dec 30 09:06:50 pst 2022 root@pkgbox64.dragonflybsd.org:usrobjusrsrcsysx86_64_generic x86_64 '
config_args='-des -Dprefix=/home/cpan/bin/perl -Dscriptdir=/home/cpan/bin/perl/bin -Dusedevel -Duse64bitall -Duseithreads'
hint=recommended
useposix=true
d_sigaction=define
useithreads=define
usemultiplicity=define
use64bitint=define
use64bitall=define
uselongdouble=undef
usemymalloc=n
default_inc_excludes_dot=define
Compiler:
cc='cc'
ccflags ='-DHAS_FPSETMASK -DHAS_FLOATINGPOINT_H -fwrapv -fno-strict-aliasing -pipe -fstack-protector-strong -I/usr/local/include -D_FORTIFY_SOURCE=2'
optimize='-O2'
cppflags='-DHAS_FPSETMASK -DHAS_FLOATINGPOINT_H -fwrapv -fno-strict-aliasing -pipe -fstack-protector-strong -I/usr/local/include'
ccversion=''
gccversion='8.3 [DragonFly] Release/2019-02-22'
gccosandvers=''
intsize=4
longsize=8
ptrsize=8
doublesize=8
byteorder=12345678
doublekind=3
d_longlong=define
longlongsize=8
d_longdbl=define
longdblsize=16
longdblkind=3
ivtype='long'
ivsize=8
nvtype='double'
nvsize=8
Off_t='off_t'
lseeksize=8
alignbytes=8
prototype=define
Linker and Libraries:
ld='cc'
ldflags ='-pthread -Wl,-E -fstack-protector-strong -L/usr/local/lib'
libpth=/usr/lib /usr/local/lib
libs=-lpthread -ldl -lm -lcrypt -lutil -lc
perllibs=-lpthread -ldl -lm -lcrypt -lutil -lc
libc=
so=so
useshrplib=false
libperl=libperl.a
gnulibc_version=''
Dynamic Linking:
dlsrc=dl_dlopen.xs
dlext=so
d_dlsymun=undef
ccdlflags=' '
cccdlflags='-DPIC -fPIC'
lddlflags='-shared -L/usr/local/lib -fstack-protector-strong'
Characteristics of this binary (from libperl):
Compile-time options:
HAS_LONG_DOUBLE
HAS_STRTOLD
HAS_TIMES
MULTIPLICITY
PERLIO_LAYERS
PERL_COPY_ON_WRITE
PERL_DONT_CREATE_GVSV
PERL_HASH_FUNC_SIPHASH13
PERL_HASH_USE_SBOX32
PERL_MALLOC_WRAP
PERL_OP_PARENT
PERL_PRESERVE_IVUV
PERL_USE_DEVEL
PERL_USE_SAFE_PUTENV
USE_64_BIT_ALL
USE_64_BIT_INT
USE_ITHREADS
USE_LARGE_FILES
USE_LOCALE
USE_LOCALE_COLLATE
USE_LOCALE_CTYPE
USE_LOCALE_NUMERIC
USE_LOCALE_TIME
USE_PERLIO
USE_PERL_ATOF
USE_REENTRANT_API
USE_THREAD_SAFE_LOCALE
Built under dragonfly
Compiled at Jul 17 2023 12:16:24
%ENV:
PERL5LIB="/home/cpan/.cpan/build/CPAN-2.36-5/blib/arch:/home/cpan/.cpan/build/CPAN-2.36-5/blib/lib:/home/cpan/.cpan/build/Scalar-List-Utils-1.63-1/blib/arch:/home/cpan/.cpan/build/Scalar-List-Utils-1.63-1/blib/lib:/home/cpan/.cpan/build/IPC-SysV-2.09-0/blib/arch:/home/cpan/.cpan/build/IPC-SysV-2.09-0/blib/lib:/home/cpan/.cpan/build/Test-Harness-3.44-5/blib/arch:/home/cpan/.cpan/build/Test-Harness-3.44-5/blib/lib:/home/cpan/.cpan/build/libnet-3.15-2/blib/arch:/home/cpan/.cpan/build/libnet-3.15-2/blib/lib:/home/cpan/.cpan/build/ExtUtils-MakeMaker-7.70-4/blib/arch:/home/cpan/.cpan/build/ExtUtils-MakeMaker-7.70-4/blib/lib:/home/cpan/.cpan/build/Test-Simple-1.302195-5/blib/arch:/home/cpan/.cpan/build/Test-Simple-1.302195-5/blib/lib:/home/cpan/.cpan/build/Encode-3.19-3/blib/arch:/home/cpan/.cpan/build/Encode-3.19-3/blib/lib:/home/cpan/.cpan/build/IO-Compress-2.205-4/blib/arch:/home/cpan/.cpan/build/IO-Compress-2.205-4/blib/lib:/home/cpan/.cpan/build/Compress-Raw-Zlib-2.205-4/blib/arch:/home/cpan/.cpan/build/Compress-Raw-Zlib-2.205-4/blib/lib:/home/cpan/.cpan/build/Compress-Raw-Bzip2-2.205-4/blib/arch:/home/cpan/.cpan/build/Compress-Raw-Bzip2-2.205-4/blib/lib"
PERL5OPT=""
PERL5_CPANPLUS_IS_RUNNING="75712"
PERL5_CPAN_IS_RUNNING="75712"
PERL_MM_USE_DEFAULT="1"
PERL_USE_UNSAFE_INC="1"
@INC:
/home/cpan/.cpan/build/CPAN-2.36-5/blib/arch
/home/cpan/.cpan/build/CPAN-2.36-5/blib/lib
/home/cpan/.cpan/build/Scalar-List-Utils-1.63-1/blib/arch
/home/cpan/.cpan/build/Scalar-List-Utils-1.63-1/blib/lib
/home/cpan/.cpan/build/IPC-SysV-2.09-0/blib/arch
/home/cpan/.cpan/build/IPC-SysV-2.09-0/blib/lib
/home/cpan/.cpan/build/Test-Harness-3.44-5/blib/arch
/home/cpan/.cpan/build/Test-Harness-3.44-5/blib/lib
/home/cpan/.cpan/build/libnet-3.15-2/blib/arch
/home/cpan/.cpan/build/libnet-3.15-2/blib/lib
/home/cpan/.cpan/build/ExtUtils-MakeMaker-7.70-4/blib/arch
/home/cpan/.cpan/build/ExtUtils-MakeMaker-7.70-4/blib/lib
/home/cpan/.cpan/build/Test-Simple-1.302195-5/blib/arch
/home/cpan/.cpan/build/Test-Simple-1.302195-5/blib/lib
/home/cpan/.cpan/build/Encode-3.19-3/blib/arch
/home/cpan/.cpan/build/Encode-3.19-3/blib/lib
/home/cpan/.cpan/build/IO-Compress-2.205-4/blib/arch
/home/cpan/.cpan/build/IO-Compress-2.205-4/blib/lib
/home/cpan/.cpan/build/Compress-Raw-Zlib-2.205-4/blib/arch
/home/cpan/.cpan/build/Compress-Raw-Zlib-2.205-4/blib/lib
/home/cpan/.cpan/build/Compress-Raw-Bzip2-2.205-4/blib/arch
/home/cpan/.cpan/build/Compress-Raw-Bzip2-2.205-4/blib/lib
/home/cpan/bin/perl/lib/site_perl/5.39.0/x86_64-dragonfly-thread-multi
/home/cpan/bin/perl/lib/site_perl/5.39.0
/home/cpan/bin/perl/lib/5.39.0/x86_64-dragonfly-thread-multi
/home/cpan/bin/perl/lib/5.39.0
.