FFI-Platypus v1.10 Perl 5 v5.24.1 darwin-thread-multi-2level
- Status
- Pass
- From
- Slaven Rezić (SREZIC)
- Dist
-
FFI-Platypus v1.10
- Platform
- Perl 5 v5.24.1 darwin-thread-multi-2level
- Date
- 2020-04-12 21:07:27
- ID
- 9d89262a-7d01-11ea-bc20-74151f24ea8f
This distribution has been tested as part of the CPAN Testers
project, supporting the Perl programming language. See
http://wiki.cpantesters.org/ for more information or email
questions to cpan-testers-discuss@perl.org
--
Dear Graham Ollis,
This is a computer-generated report for FFI-Platypus-1.10
on perl 5.24.1, created by CPAN-Reporter-1.2018.
Thank you for uploading your work to CPAN. Congratulations!
All tests were successful.
Sections of this report:
* Tester comments
* Program output
* Prerequisites
* Environment and other context
------------------------------
TESTER COMMENTS
------------------------------
Additional comments from tester:
none provided
------------------------------
PROGRAM OUTPUT
------------------------------
Output from '/usr/bin/make test':
"/opt/perl-5.24.1t/bin/perl" -MExtUtils::Command::MM -e 'cp_nonempty' -- lib/FFI/Platypus.bs blib/arch/auto/FFI/Platypus/Platypus.bs 644
CC t/ffi/align.c
CC t/ffi/align_array.c
CC t/ffi/align_fixed.c
CC t/ffi/align_string.c
CC t/ffi/basic.c
CC t/ffi/closure.c
CC t/ffi/color.c
CC t/ffi/complex_double.c
CC t/ffi/complex_float.c
CC t/ffi/double.c
CC t/ffi/float.c
CC t/ffi/gh117.c
CC t/ffi/gh174.c
CC t/ffi/longdouble.c
CC t/ffi/memcmp4.c
CC t/ffi/meta.c
CC t/ffi/pointer.c
CC t/ffi/record.c
CC t/ffi/sint16.c
CC t/ffi/sint32.c
CC t/ffi/sint64.c
CC t/ffi/sint8.c
CC t/ffi/string.c
CC t/ffi/string_array.c
CC t/ffi/uint16.c
CC t/ffi/uint32.c
CC t/ffi/uint64.c
CC t/ffi/uint8.c
CC t/ffi/variadic.c
LD t/ffi/libtest.dylib
PERL_DL_NONLAZY=1 "/opt/perl-5.24.1t/bin/perl" "-MExtUtils::Command::MM" "-MTest::Harness" "-e" "undef *Test::Harness::Switches; test_harness(0, 'blib/lib', 'blib/arch')" t/*.t
#
#
#
# HARNESS_ACTIVE=1
# HARNESS_VERSION=3.36_01
# LANG=de_DE.UTF-8
# PERL5LIB=/Users/slaven.rezic/.cpan/build/2020041222/FFI-Platypus-1.10-aEBPeT/blib/lib:/Users/slaven.rezic/.cpan/build/2020041222/FFI-Platypus-1.10-aEBPeT/blib/arch:/Users/slaven.rezic/.cpan/build/2020041222/ExtUtils-MakeMaker-7.44-Ch77QU/blib/arch:/Users/slaven.rezic/.cpan/build/2020041222/ExtUtils-MakeMaker-7.44-Ch77QU/blib/lib:/Users/slaven.rezic/.cpan/build/2020041222/FFI-CheckLib-0.26-ZGFbbY/blib/arch:/Users/slaven.rezic/.cpan/build/2020041222/FFI-CheckLib-0.26-ZGFbbY/blib/lib:/Users/slaven.rezic/.cpan/build/2020041222/Test2-Suite-0.000129-X4mK9y/blib/arch:/Users/slaven.rezic/.cpan/build/2020041222/Test2-Suite-0.000129-X4mK9y/blib/lib:/Users/slaven.rezic/.cpan/build/2020041222/Term-Table-0.015-bTxwVC/blib/arch:/Users/slaven.rezic/.cpan/build/2020041222/Term-Table-0.015-bTxwVC/blib/lib:/Users/slaven.rezic/.cpan/build/2020041222/Test-Simple-1.302174-Wmurz4/blib/arch:/Users/slaven.rezic/.cpan/build/2020041222/Test-Simple-1.302174-Wmurz4/blib/lib:/Users/slaven.rezic/.cpan/build/2020041222/ExtUtils-MakeMaker-7.44-Ch77QU/blib/arch:/Users/slaven.rezic/.cpan/build/2020041222/ExtUtils-MakeMaker-7.44-Ch77QU/blib/lib:/Users/slaven.rezic/.cpan/build/2020041222/FFI-CheckLib-0.26-ZGFbbY/blib/arch:/Users/slaven.rezic/.cpan/build/2020041222/FFI-CheckLib-0.26-ZGFbbY/blib/lib:/Users/slaven.rezic/.cpan/build/2020041222/Test2-Suite-0.000129-X4mK9y/blib/arch:/Users/slaven.rezic/.cpan/build/2020041222/Test2-Suite-0.000129-X4mK9y/blib/lib:/Users/slaven.rezic/.cpan/build/2020041222/Term-Table-0.015-bTxwVC/blib/arch:/Users/slaven.rezic/.cpan/build/2020041222/Term-Table-0.015-bTxwVC/blib/lib:/Users/slaven.rezic/.cpan/build/2020041222/Test-Simple-1.302174-Wmurz4/blib/arch:/Users/slaven.rezic/.cpan/build/2020041222/Test-Simple-1.302174-Wmurz4/blib/lib
# PERL5OPT=
# PERL5_CPANPLUS_IS_RUNNING=4118
# PERL5_CPAN_IS_RUNNING=4118
# PERL5_CPAN_IS_RUNNING_IN_RECURSION=58523,4118
# PERLDOC=-MPod::Perldoc::ToTextOverstrike
# PERL_BATCH=yes
# PERL_CANARY_STABILITY_NOPROMPT=1
# PERL_CPAN_REPORTER_CONFIG=/var/tmp/cpansmoker-501/2020041222/cpanreporter_000_config.ini
# PERL_DL_NONLAZY=1
# PERL_EXTUTILS_AUTOINSTALL=--defaultdeps
# SHELL=/bin/zsh
#
#
#
# PERL5LIB path
# /Users/slaven.rezic/.cpan/build/2020041222/FFI-Platypus-1.10-aEBPeT/blib/lib
# /Users/slaven.rezic/.cpan/build/2020041222/FFI-Platypus-1.10-aEBPeT/blib/arch
# /Users/slaven.rezic/.cpan/build/2020041222/ExtUtils-MakeMaker-7.44-Ch77QU/blib/arch
# /Users/slaven.rezic/.cpan/build/2020041222/ExtUtils-MakeMaker-7.44-Ch77QU/blib/lib
# /Users/slaven.rezic/.cpan/build/2020041222/FFI-CheckLib-0.26-ZGFbbY/blib/arch
# /Users/slaven.rezic/.cpan/build/2020041222/FFI-CheckLib-0.26-ZGFbbY/blib/lib
# /Users/slaven.rezic/.cpan/build/2020041222/Test2-Suite-0.000129-X4mK9y/blib/arch
# /Users/slaven.rezic/.cpan/build/2020041222/Test2-Suite-0.000129-X4mK9y/blib/lib
# /Users/slaven.rezic/.cpan/build/2020041222/Term-Table-0.015-bTxwVC/blib/arch
# /Users/slaven.rezic/.cpan/build/2020041222/Term-Table-0.015-bTxwVC/blib/lib
# /Users/slaven.rezic/.cpan/build/2020041222/Test-Simple-1.302174-Wmurz4/blib/arch
# /Users/slaven.rezic/.cpan/build/2020041222/Test-Simple-1.302174-Wmurz4/blib/lib
# /Users/slaven.rezic/.cpan/build/2020041222/ExtUtils-MakeMaker-7.44-Ch77QU/blib/arch
# /Users/slaven.rezic/.cpan/build/2020041222/ExtUtils-MakeMaker-7.44-Ch77QU/blib/lib
# /Users/slaven.rezic/.cpan/build/2020041222/FFI-CheckLib-0.26-ZGFbbY/blib/arch
# /Users/slaven.rezic/.cpan/build/2020041222/FFI-CheckLib-0.26-ZGFbbY/blib/lib
# /Users/slaven.rezic/.cpan/build/2020041222/Test2-Suite-0.000129-X4mK9y/blib/arch
# /Users/slaven.rezic/.cpan/build/2020041222/Test2-Suite-0.000129-X4mK9y/blib/lib
# /Users/slaven.rezic/.cpan/build/2020041222/Term-Table-0.015-bTxwVC/blib/arch
# /Users/slaven.rezic/.cpan/build/2020041222/Term-Table-0.015-bTxwVC/blib/lib
# /Users/slaven.rezic/.cpan/build/2020041222/Test-Simple-1.302174-Wmurz4/blib/arch
# /Users/slaven.rezic/.cpan/build/2020041222/Test-Simple-1.302174-Wmurz4/blib/lib
#
#
#
# perl 5.024001
# Alien::Base -
# Capture::Tiny 0.46
# Devel::Hide 0.0009
# ExtUtils::CBuilder 0.280225
# ExtUtils::MakeMaker 7.44
# ExtUtils::ParseXS 3.31
# FFI::CheckLib 0.26
# IPC::Cmd 0.92_01
# JSON::PP 2.27300_01
# List::Util 1.47
# Math::LongDouble -
# PkgConfig -
# Test::More 1.302174
# constant 1.33
# forks -
#
#
#
# mode : system
# Alien::FFI::pkgconfig->VERSION = undef
# Alien::FFI::pkgconfig->install_type = system
# Alien::FFI::pkgconfig->cflags = -I/usr/local/Cellar/libffi/3.2.1/lib/libffi-3.2.1/include
# Alien::FFI::pkgconfig->libs = -L/usr/local/Cellar/libffi/3.2.1/lib -lffi
# Alien::FFI::pkgconfig->version = 3.2.1
#
#
#
# ffi.platypus.memory.strdup_impl =libc
# ffi.platypus.memory.strndup_impl=libc
#
#
#
# Types:
# double : double, float complex
# float : float
# longdouble : double complex, long double, long double complex
# sint16 : int16_t, short, signed short
# sint32 : blksize_t, dev_t, int, int32_t, senum, signed int, wchar_t, wint_t
# sint64 : blkcnt_t, int64_t, intptr_t, long, long long, off_t, ptrdiff_t, signed long, signed long long, ssize_t, time_t
# sint8 : char, int8_t, signed char
# uint16 : mode_t, nlink_t, uint16_t, unsigned short, ushort
# uint32 : enum, gid_t, uid_t, uint, uint32_t, unsigned int
# uint64 : ino_t, size_t, uint64_t, uintptr_t, ulong, unsigned long, unsigned long long
# uint8 : bool, uchar, uint8_t, unsigned char
#
#
#
# ABIs:
# default_abi 2
# fastcall 4
# pascal 6
# register 7
# stdcall 5
# sysv 1
# thiscall 3
# unix64 2
#
#
#
# Probes:
# abi 1
# recordvalue 1
# bigendian64 0
# bigendian 0
# longdouble 1
# variadic 1
# alloca 1
#
#
#
# [PLATFORM]
# osname : darwin
# cc : cc
# cxx : c++
# for : ---
# ld : cc
# ccflags : -fno-common -DPERL_DARWIN -mmacosx-version-min=10.11 -fno-strict-aliasing -pipe -fstack-protector-strong -I/usr/local/include -DPERL_USE_SAFE_PUTENV -O3 -I/Users/slaven.rezic/.cpan/build/2020041222/FFI-Platypus-1.10-aEBPeT/blib/lib/auto/share/dist/FFI-Platypus/include
# ldflags : -mmacosx-version-min=10.11 -shared -undefined dynamic_lookup -L/usr/local/lib -fstack-protector-strong
# object suffix : .o
# library prefix : lib
# library suffix : .dylib,.bundle
# cc mm works : -MM
#
#
#
t/00_diag.t .............................. ok
t/01_use.t ............................... ok
t/ffi_build.t ............................ ok
t/ffi_build_file_base.t .................. ok
t/ffi_build_file_c.t ..................... ok
t/ffi_build_file_cxx.t ................... ok
t/ffi_build_file_library.t ............... ok
t/ffi_build_file_object.t ................ ok
t/ffi_build_mm.t ......................... ok
t/ffi_build_platform.t ................... ok
t/ffi_platypus.t ......................... ok
t/ffi_platypus_api.t ..................... ok
t/ffi_platypus_buffer.t .................. ok
t/ffi_platypus_bundle.t .................. ok
t/ffi_platypus_closure.t ................. ok
t/ffi_platypus_constant.t ................ ok
t/ffi_platypus_declare.t ................. ok
t/ffi_platypus_dl.t ...................... ok
t/ffi_platypus_function.t ................ ok
t/ffi_platypus_function_wrapper.t ........ ok
t/ffi_platypus_internal.t ................ ok
t/ffi_platypus_lang.t .................... ok
t/ffi_platypus_lang_asm.t ................ ok
t/ffi_platypus_lang_c.t .................. ok
t/ffi_platypus_lang_win32.t .............. ok
t/ffi_platypus_legacy.t .................. ok
t/ffi_platypus_memory.t .................. ok
t/ffi_platypus_record.t .................. ok
t/ffi_platypus_record_meta.t ............. ok
t/ffi_platypus_record_tiearray.t ......... ok
t/ffi_platypus_shareconfig.t ............. ok
t/ffi_platypus_type.t .................... ok
t/ffi_platypus_type_pointersizebuffer.t .. ok
t/ffi_platypus_type_stringarray.t ........ ok
t/ffi_platypus_type_stringpointer.t ...... ok
t/ffi_platypus_typeparser.t .............. ok
t/ffi_platypus_typeparser_version0.t ..... ok
t/ffi_platypus_typeparser_version1.t ..... ok
t/ffi_probe.t ............................ ok
t/ffi_probe_runner.t ..................... ok
t/ffi_probe_runner_builder.t ............. ok
t/ffi_probe_runner_result.t .............. ok
t/ffi_temp.t ............................. ok
t/forks.t ................................ skipped: Test requires forks
t/gh117.t ................................ ok
t/gh129.t ................................ ok
t/memory.t ............................... skipped: tested only in CI
t/threads.t .............................. ok
t/type_complex_double.t .................. skipped: Test requires support for double complex
t/type_complex_float.t ................... skipped: Test requires support for float complex
t/type_custom.t .......................... ok
t/type_double.t .......................... ok
t/type_float.t ........................... ok
t/type_longdouble.t ...................... ok
t/type_longdouble__array.t ............... ok
t/type_longdouble__hide.t ................ skipped: test requires Devel::Hide 0.0010
t/type_longdouble__ptr.t ................. ok
t/type_opaque.t .......................... ok
t/type_record.t .......................... ok
t/type_record_value.t .................... ok
t/type_sint16.t .......................... ok
t/type_sint32.t .......................... ok
t/type_sint64.t .......................... ok
t/type_sint8.t ........................... ok
t/type_string.t .......................... ok
t/type_uint16.t .......................... ok
t/type_uint32.t .......................... ok
t/type_uint64.t .......................... ok
t/type_uint8.t ........................... ok
All tests successful.
Files=69, Tests=340, 12 wallclock secs ( 0.46 usr 0.17 sys + 8.53 cusr 2.56 csys = 11.72 CPU)
Result: PASS
------------------------------
PREREQUISITES
------------------------------
Prerequisite modules loaded:
requires:
Module Need Have
------------------- -------- ----------
Capture::Tiny 0 0.46
constant 1.32 1.33
ExtUtils::MakeMaker 7.12 7.44
FFI::CheckLib 0.05 0.26
IPC::Cmd 0 0.92_01
JSON::PP 0 2.27300_01
List::Util 1.45 1.47
perl 5.008001 5.024001
build_requires:
Module Need Have
------------------- -------- ----------
Capture::Tiny 0 0.46
ExtUtils::CBuilder 0 0.280225
Test::More 0.98 1.302174
configure_requires:
Module Need Have
------------------- -------- ----------
Capture::Tiny 0 0.46
ExtUtils::MakeMaker 7.12 7.44
ExtUtils::ParseXS 3.30 3.31
IPC::Cmd 0 0.92_01
perl 5.006 5.024001
------------------------------
ENVIRONMENT AND OTHER CONTEXT
------------------------------
Environment variables:
LANG = de_DE.UTF-8
PATH = /usr/local/bin:/usr/bin:/bin:/usr/local/sbin:/usr/sbin:/sbin:/Users/slaven.rezic/bin/darwin18.0:/Users/slaven.rezic/bin/sh:/Users/slaven.rezic/bin:/Users/slaven.rezic/bin/pistachio-perl/bin:/usr/games:/Users/slaven.rezic/devel:/Users/slaven.rezic/work/drafts-slaven.rezic/misc:/Users/slaven.rezic/src/srezic-misc/scripts
PERL5LIB = /Users/slaven.rezic/.cpan/build/2020041222/ExtUtils-MakeMaker-7.44-Ch77QU/blib/arch:/Users/slaven.rezic/.cpan/build/2020041222/ExtUtils-MakeMaker-7.44-Ch77QU/blib/lib:/Users/slaven.rezic/.cpan/build/2020041222/FFI-CheckLib-0.26-ZGFbbY/blib/arch:/Users/slaven.rezic/.cpan/build/2020041222/FFI-CheckLib-0.26-ZGFbbY/blib/lib:/Users/slaven.rezic/.cpan/build/2020041222/Test2-Suite-0.000129-X4mK9y/blib/arch:/Users/slaven.rezic/.cpan/build/2020041222/Test2-Suite-0.000129-X4mK9y/blib/lib:/Users/slaven.rezic/.cpan/build/2020041222/Term-Table-0.015-bTxwVC/blib/arch:/Users/slaven.rezic/.cpan/build/2020041222/Term-Table-0.015-bTxwVC/blib/lib:/Users/slaven.rezic/.cpan/build/2020041222/Test-Simple-1.302174-Wmurz4/blib/arch:/Users/slaven.rezic/.cpan/build/2020041222/Test-Simple-1.302174-Wmurz4/blib/lib
PERL5OPT =
PERL5_CPANPLUS_IS_RUNNING = 4118
PERL5_CPAN_IS_RUNNING = 4118
PERL5_CPAN_IS_RUNNING_IN_RECURSION = 58523,4118
PERLDOC = -MPod::Perldoc::ToTextOverstrike
PERL_BATCH = yes
PERL_CANARY_STABILITY_NOPROMPT = 1
PERL_CPAN_REPORTER_CONFIG = /var/tmp/cpansmoker-501/2020041222/cpanreporter_000_config.ini
PERL_EXTUTILS_AUTOINSTALL = --defaultdeps
SHELL = /bin/zsh
TERM = screen
TMPDIR = /var/tmp/cpansmoker-501/2020041222
Perl special variables (and OS-specific diagnostics, for MSWin32):
$^X = /opt/perl-5.24.1t/bin/perl
$UID/$EUID = 501 / 501
$GID = 20 20 701 12 61 702 100 703
$EGID = 20 20 701 12 61 702 100 703
Perl module toolchain versions installed:
Module Have
------------------- ----------
CPAN 2.11_01
CPAN::Meta 2.150005
Cwd 3.63_01
ExtUtils::CBuilder 0.280225
ExtUtils::Command 7.44
ExtUtils::Install 2.06
ExtUtils::MakeMaker 7.44
ExtUtils::Manifest 1.70
ExtUtils::ParseXS 3.31
File::Spec 3.63_01
JSON 2.90
JSON::PP 2.27300_01
Module::Build 0.4222
Module::Signature n/a
Parse::CPAN::Meta 1.4417_001
Test::Harness 3.36_01
Test::More 1.302174
YAML 1.23
YAML::Syck 1.30
version 0.9916
--
Summary of my perl5 (revision 5 version 24 subversion 1) configuration:
Platform:
osname=darwin, osvers=15.6.0, archname=darwin-thread-multi-2level
uname='darwin slavens-macbook-pro.local 15.6.0 darwin kernel version 15.6.0: thu jun 23 18:25:34 pdt 2016; root:xnu-3248.60.10~1release_x86_64 x86_64 '
config_args='-ds -e -Dprefix=/opt/perl-5.24.1t -Dusethreads -Dcf_email=srezic@cpan.org'
hint=recommended, useposix=true, d_sigaction=define
useithreads=define, usemultiplicity=define
use64bitint=define, use64bitall=define, uselongdouble=undef
usemymalloc=n, bincompat5005=undef
Compiler:
cc='cc', ccflags ='-fno-common -DPERL_DARWIN -mmacosx-version-min=10.11 -fno-strict-aliasing -pipe -fstack-protector-strong -I/usr/local/include -DPERL_USE_SAFE_PUTENV',
optimize='-O3',
cppflags='-fno-common -DPERL_DARWIN -mmacosx-version-min=10.11 -fno-strict-aliasing -pipe -fstack-protector-strong -I/usr/local/include'
ccversion='', gccversion='4.2.1 Compatible Apple LLVM 8.0.0 (clang-800.0.42.1)', gccosandvers=''
intsize=4, longsize=8, ptrsize=8, doublesize=8, byteorder=12345678, doublekind=3
d_longlong=define, longlongsize=8, d_longdbl=define, longdblsize=16, longdblkind=3
ivtype='long', ivsize=8, nvtype='double', nvsize=8, Off_t='off_t', lseeksize=8
alignbytes=8, prototype=define
Linker and Libraries:
ld='cc', ldflags =' -mmacosx-version-min=10.11 -fstack-protector-strong -L/usr/local/lib'
libpth=/usr/local/lib /Library/Developer/CommandLineTools/usr/bin/../lib/clang/8.0.0/lib /Library/Developer/CommandLineTools/usr/lib /usr/lib
libs=-lpthread -ldbm -ldb -ldl -lm -lutil -lc
perllibs=-lpthread -ldl -lm -lutil -lc
libc=, so=dylib, useshrplib=false, libperl=libperl.a
gnulibc_version=''
Dynamic Linking:
dlsrc=dl_dlopen.xs, dlext=bundle, d_dlsymun=undef, ccdlflags=' '
cccdlflags=' ', lddlflags=' -mmacosx-version-min=10.11 -bundle -undefined dynamic_lookup -L/usr/local/lib -fstack-protector-strong'
Characteristics of this binary (from libperl):
Compile-time options: HAS_TIMES MULTIPLICITY PERLIO_LAYERS
PERL_COPY_ON_WRITE PERL_DONT_CREATE_GVSV
PERL_HASH_FUNC_ONE_AT_A_TIME_HARD
PERL_IMPLICIT_CONTEXT PERL_MALLOC_WRAP
PERL_PRESERVE_IVUV PERL_USE_SAFE_PUTENV
USE_64_BIT_ALL USE_64_BIT_INT USE_ITHREADS
USE_LARGE_FILES USE_LOCALE USE_LOCALE_COLLATE
USE_LOCALE_CTYPE USE_LOCALE_NUMERIC USE_LOCALE_TIME
USE_PERLIO USE_PERL_ATOF USE_REENTRANT_API
Built under darwin
Compiled at Apr 29 2017 23:28:26
%ENV:
PERL5LIB="/Users/slaven.rezic/.cpan/build/2020041222/ExtUtils-MakeMaker-7.44-Ch77QU/blib/arch:/Users/slaven.rezic/.cpan/build/2020041222/ExtUtils-MakeMaker-7.44-Ch77QU/blib/lib:/Users/slaven.rezic/.cpan/build/2020041222/FFI-CheckLib-0.26-ZGFbbY/blib/arch:/Users/slaven.rezic/.cpan/build/2020041222/FFI-CheckLib-0.26-ZGFbbY/blib/lib:/Users/slaven.rezic/.cpan/build/2020041222/Test2-Suite-0.000129-X4mK9y/blib/arch:/Users/slaven.rezic/.cpan/build/2020041222/Test2-Suite-0.000129-X4mK9y/blib/lib:/Users/slaven.rezic/.cpan/build/2020041222/Term-Table-0.015-bTxwVC/blib/arch:/Users/slaven.rezic/.cpan/build/2020041222/Term-Table-0.015-bTxwVC/blib/lib:/Users/slaven.rezic/.cpan/build/2020041222/Test-Simple-1.302174-Wmurz4/blib/arch:/Users/slaven.rezic/.cpan/build/2020041222/Test-Simple-1.302174-Wmurz4/blib/lib"
PERL5OPT=""
PERL5_CPANPLUS_IS_RUNNING="4118"
PERL5_CPAN_IS_RUNNING="4118"
PERL5_CPAN_IS_RUNNING_IN_RECURSION="58523,4118"
PERLDOC="-MPod::Perldoc::ToTextOverstrike"
PERL_BATCH="yes"
PERL_CANARY_STABILITY_NOPROMPT="1"
PERL_CPAN_REPORTER_CONFIG="/var/tmp/cpansmoker-501/2020041222/cpanreporter_000_config.ini"
PERL_EXTUTILS_AUTOINSTALL="--defaultdeps"
@INC:
/Users/slaven.rezic/.cpan/build/2020041222/ExtUtils-MakeMaker-7.44-Ch77QU/blib/arch
/Users/slaven.rezic/.cpan/build/2020041222/ExtUtils-MakeMaker-7.44-Ch77QU/blib/lib
/Users/slaven.rezic/.cpan/build/2020041222/FFI-CheckLib-0.26-ZGFbbY/blib/arch
/Users/slaven.rezic/.cpan/build/2020041222/FFI-CheckLib-0.26-ZGFbbY/blib/lib
/Users/slaven.rezic/.cpan/build/2020041222/Test2-Suite-0.000129-X4mK9y/blib/arch
/Users/slaven.rezic/.cpan/build/2020041222/Test2-Suite-0.000129-X4mK9y/blib/lib
/Users/slaven.rezic/.cpan/build/2020041222/Term-Table-0.015-bTxwVC/blib/arch
/Users/slaven.rezic/.cpan/build/2020041222/Term-Table-0.015-bTxwVC/blib/lib
/Users/slaven.rezic/.cpan/build/2020041222/Test-Simple-1.302174-Wmurz4/blib/arch
/Users/slaven.rezic/.cpan/build/2020041222/Test-Simple-1.302174-Wmurz4/blib/lib
/opt/perl-5.24.1t/lib/site_perl/5.24.1/darwin-thread-multi-2level
/opt/perl-5.24.1t/lib/site_perl/5.24.1
/opt/perl-5.24.1t/lib/5.24.1/darwin-thread-multi-2level
/opt/perl-5.24.1t/lib/5.24.1
.