CHI v0.61 Perl 5 v5.30.2 darwin-2level
- Status
- Pass
- From
- Nigel Horne
- Dist
-
CHI v0.61
- Platform
- Perl 5 v5.30.2 darwin-2level
- Date
- 2021-10-14 13:14:07
- ID
- 9d07b496-2cf0-11ec-b0e4-2882929312d0
This distribution has been tested as part of the CPAN Testers
project, supporting the Perl programming language. See
http://wiki.cpantesters.org/ for more information or email
questions to cpan-testers-discuss@perl.org
--
Dear Alexander Becker,
This is a computer-generated report for CHI-0.61
on perl 5.30.2, created by CPAN-Reporter-1.2018.
Thank you for uploading your work to CPAN. Congratulations!
All tests were successful.
Sections of this report:
* Tester comments
* Program output
* Prerequisites
* Environment and other context
------------------------------
TESTER COMMENTS
------------------------------
Additional comments from tester:
none provided
------------------------------
PROGRAM OUTPUT
------------------------------
Output from '/usr/bin/make test':
PERL_DL_NONLAZY=1 "/Users/nhorne/perl5/perlbrew/perls/perl-5.30.2/bin/perl" "-MExtUtils::Command::MM" "-MTest::Harness" "-e" "undef *Test::Harness::Switches; test_harness(0, 'blib/lib', 'blib/arch')" t/*.t
t/author-03-pod.t ....................... skipped: these tests are for testing by the author
t/author-file-driver.t .................. skipped: these tests are for testing by the author
t/author-no-data-serializer.t ........... skipped: these tests are for testing by the author
t/author-RequiredModules.t .............. skipped: these tests are for testing by the author
# Testing CHI 0.61, Perl 5.030002, /Users/nhorne/perl5/perlbrew/perls/perl-5.30.2/bin/perl
t/00-load.t ............................. ok
t/Constants.t ........................... ok
t/Bugs.t ................................ ok
t/Config.t .............................. ok
t/release-dependent.t ................... skipped: these tests are for release candidate testing
t/GetError.t ............................ ok
t/smoke-Driver-CacheCache.t ............. skipped: these tests are for "smoke bot" testing
t/smoke-Driver-FastMmap.t ............... skipped: these tests are for "smoke bot" testing
t/smoke-Driver-File-DepthZero.t ......... skipped: these tests are for "smoke bot" testing
t/smoke-Driver-File.t ................... skipped: these tests are for "smoke bot" testing
t/smoke-Driver-NonMoose.t ............... skipped: these tests are for "smoke bot" testing
t/smoke-Driver-Subcache-l1_cache.t ...... skipped: these tests are for "smoke bot" testing
t/smoke-Driver-Subcache-mirror_cache.t .. skipped: these tests are for "smoke bot" testing
t/smoke-Null.t .......................... skipped: these tests are for "smoke bot" testing
t/Sanity.t .............................. ok
t/Initialize.t .......................... ok
t/SetError.t ............................ ok
t/Driver-RawMemory.t .................... ok
t/Subcache.t ............................ ok
t/Subclass.t ............................ ok
t/Util.t ................................ ok
t/Driver-Memory.t ....................... ok
All tests successful.
Files=26, Tests=1924, 1 wallclock secs ( 0.21 usr 0.07 sys + 2.83 cusr 0.60 csys = 3.71 CPU)
Result: PASS
------------------------------
PREREQUISITES
------------------------------
Prerequisite modules loaded:
requires:
Module Need Have
------------------------------- -------- --------
Carp::Assert 0.20 0.21
Class::Load 0 0.25
Data::UUID 0 1.226
Digest::JHash 0 0.10
Digest::MD5 0 2.58
File::Spec 0.80 3.78
Hash::MoreUtils 0 0.06
JSON::MaybeXS 1.003003 1.004003
List::MoreUtils 0.13 0.430
Log::Any 0.08 1.710
Moo 1.003 2.005004
MooX::Types::MooseLike 0.23 0.29
MooX::Types::MooseLike::Base 0 0.29
MooX::Types::MooseLike::Numeric 0 1.03
Storable 0 3.25
String::RewritePrefix 0 0.008
Task::Weaken 0 1.06
Time::Duration 1.06 1.21
Time::Duration::Parse 0.03 0.16
Time::HiRes 1.30 1.9760
Try::Tiny 0.05 0.30
build_requires:
Module Need Have
------------------------------- -------- --------
Cache::FileCache 0 0
Date::Parse 0 2.33
ExtUtils::MakeMaker 0 7.62
Module::Mask 0 0.06
Test::Builder 0 1.302188
Test::Class 0 0.52
Test::Deep 0 1.130
Test::Exception 0 0.43
Test::More 0 1.302188
Test::Warn 0 0.36
configure_requires:
Module Need Have
------------------------------- -------- --------
ExtUtils::MakeMaker 0 7.62
------------------------------
ENVIRONMENT AND OTHER CONTEXT
------------------------------
Environment variables:
HARNESS_OPTIONS = j6:c
LANG = en_US.UTF-8
LC_TERMINAL = iTerm2
LC_TERMINAL_VERSION = 3.4.10
LDFLAGS = -L/usr/local/opt/openssl@1.1/lib:/usr/local/opt/python@3.8/lib
NONINTERACTIVE_TESTING = 1
PATH = /Users/nhorne/perl5/perlbrew/bin:/Users/nhorne/perl5/perlbrew/perls/perl-5.30.2/bin:/Users/nhorne/perl5/perlbrew/bin:/Users/nhorne/perl5/perlbrew/perls/perl-5.32.0/bin:/Users/nhorne/bin:/usr/local/opt/openssl@1.1/bin:/usr/local/opt/python@3.8/bin:/usr/local/bin:/usr/bin:/bin:/usr/sbin:/sbin:/Library/Apple/usr/bin
PERL5LIB =
PERL5OPT =
PERL5_CPANPLUS_IS_RUNNING = 10520
PERL5_CPAN_IS_RUNNING = 10520
PERLBREW_HOME = /Users/nhorne/.perlbrew
PERLBREW_LIB =
PERLBREW_MANPATH = /Users/nhorne/perl5/perlbrew/perls/perl-5.30.2/man
PERLBREW_PATH = /Users/nhorne/perl5/perlbrew/bin:/Users/nhorne/perl5/perlbrew/perls/perl-5.30.2/bin
PERLBREW_PERL = perl-5.30.2
PERLBREW_ROOT = /Users/nhorne/perl5/perlbrew
PERLBREW_SHELLRC_VERSION = 0.91
PERLBREW_VERSION = 0.91
PERL_LOCAL_LIB_ROOT =
PERL_MM_USE_DEFAULT = 1
PERL_USE_UNSAFE_INC = 1
SHELL = /bin/bash
TERM = xterm-256color
TMPDIR = /var/folders/rb/cnysxwf16zq1n94dyy56v2q00000gp/T/
Perl special variables (and OS-specific diagnostics, for MSWin32):
$^X = /Users/nhorne/perl5/perlbrew/perls/perl-5.30.2/bin/perl
$UID/$EUID = 502 / 502
$GID = 20 20 12 61 79 80 81 98 702 701 33 100 204 250 395 398 399
$EGID = 20 20 12 61 79 80 81 98 702 701 33 100 204 250 395 398 399
Perl module toolchain versions installed:
Module Have
------------------- --------
CPAN 2.28
CPAN::Meta 2.150010
Cwd 3.78
ExtUtils::CBuilder 0.280236
ExtUtils::Command 7.62
ExtUtils::Install 2.20
ExtUtils::MakeMaker 7.62
ExtUtils::Manifest 1.73
ExtUtils::ParseXS 3.40
File::Spec 3.78
JSON 4.03
JSON::PP 4.06
Module::Build 0.4231
Module::Signature n/a
Parse::CPAN::Meta 2.150010
Test::Harness 3.42
Test::More 1.302188
YAML 1.30
YAML::Syck 1.32
version 0.9929
--
Summary of my perl5 (revision 5 version 30 subversion 2) configuration:
Platform:
osname=darwin
osvers=18.7.0
archname=darwin-2level
uname='darwin gslal032003003 18.7.0 darwin kernel version 18.7.0: mon feb 10 21:08:45 pst 2020; root:xnu-4903.278.28~1release_x86_64 x86_64 '
config_args='-de -Dprefix=/Users/nhorne/perl5/perlbrew/perls/perl-5.30.2 -Aeval:scriptdir=/Users/nhorne/perl5/perlbrew/perls/perl-5.30.2/bin'
hint=recommended
useposix=true
d_sigaction=define
useithreads=undef
usemultiplicity=undef
use64bitint=define
use64bitall=define
uselongdouble=undef
usemymalloc=n
default_inc_excludes_dot=define
bincompat5005=undef
Compiler:
cc='cc'
ccflags ='-fno-common -DPERL_DARWIN -mmacosx-version-min=10.14 -fno-strict-aliasing -pipe -fstack-protector-strong -I/usr/local/include -DPERL_USE_SAFE_PUTENV'
optimize='-O3'
cppflags='-fno-common -DPERL_DARWIN -mmacosx-version-min=10.14 -fno-strict-aliasing -pipe -fstack-protector-strong -I/usr/local/include'
ccversion=''
gccversion='4.2.1 Compatible Apple LLVM 10.0.1 (clang-1001.0.46.4)'
gccosandvers=''
intsize=4
longsize=8
ptrsize=8
doublesize=8
byteorder=12345678
doublekind=3
d_longlong=define
longlongsize=8
d_longdbl=define
longdblsize=16
longdblkind=3
ivtype='long'
ivsize=8
nvtype='double'
nvsize=8
Off_t='off_t'
lseeksize=8
alignbytes=8
prototype=define
Linker and Libraries:
ld='cc'
ldflags =' -mmacosx-version-min=10.14 -fstack-protector-strong -L/usr/local/lib'
libpth=/usr/local/lib /Library/Developer/CommandLineTools/usr/lib/clang/10.0.1/lib /Library/Developer/CommandLineTools/usr/lib /Library/Developer/CommandLineTools/SDKs/MacOSX10.14.sdk/usr/lib /usr/lib
libs=-lpthread -lgdbm -ldbm -ldl -lm -lutil -lc
perllibs=-lpthread -ldl -lm -lutil -lc
libc=
so=dylib
useshrplib=false
libperl=libperl.a
gnulibc_version=''
Dynamic Linking:
dlsrc=dl_dlopen.xs
dlext=bundle
d_dlsymun=undef
ccdlflags=' '
cccdlflags=' '
lddlflags=' -mmacosx-version-min=10.14 -bundle -undefined dynamic_lookup -L/usr/local/lib -fstack-protector-strong'
Characteristics of this binary (from libperl):
Compile-time options:
HAS_TIMES
PERLIO_LAYERS
PERL_COPY_ON_WRITE
PERL_DONT_CREATE_GVSV
PERL_MALLOC_WRAP
PERL_OP_PARENT
PERL_PRESERVE_IVUV
PERL_USE_SAFE_PUTENV
USE_64_BIT_ALL
USE_64_BIT_INT
USE_LARGE_FILES
USE_LOCALE
USE_LOCALE_COLLATE
USE_LOCALE_CTYPE
USE_LOCALE_NUMERIC
USE_LOCALE_TIME
USE_PERLIO
USE_PERL_ATOF
Locally applied patches:
Devel::PatchPerl 1.86
Built under darwin
Compiled at Apr 9 2020 10:23:53
%ENV:
PERL5LIB=""
PERL5OPT=""
PERL5_CPANPLUS_IS_RUNNING="10520"
PERL5_CPAN_IS_RUNNING="10520"
PERLBREW_HOME="/Users/nhorne/.perlbrew"
PERLBREW_LIB=""
PERLBREW_MANPATH="/Users/nhorne/perl5/perlbrew/perls/perl-5.30.2/man"
PERLBREW_PATH="/Users/nhorne/perl5/perlbrew/bin:/Users/nhorne/perl5/perlbrew/perls/perl-5.30.2/bin"
PERLBREW_PERL="perl-5.30.2"
PERLBREW_ROOT="/Users/nhorne/perl5/perlbrew"
PERLBREW_SHELLRC_VERSION="0.91"
PERLBREW_VERSION="0.91"
PERL_LOCAL_LIB_ROOT=""
PERL_MM_USE_DEFAULT="1"
PERL_USE_UNSAFE_INC="1"
@INC:
/Users/nhorne/perl5/perlbrew/perls/perl-5.30.2/lib/site_perl/5.30.2/darwin-2level
/Users/nhorne/perl5/perlbrew/perls/perl-5.30.2/lib/site_perl/5.30.2
/Users/nhorne/perl5/perlbrew/perls/perl-5.30.2/lib/5.30.2/darwin-2level
/Users/nhorne/perl5/perlbrew/perls/perl-5.30.2/lib/5.30.2
.