FFI-Platypus v1.10 Perl 5 v5.30.2 x86_64-linux

Status
Pass
From
Slaven Rezić (SREZIC)
Dist
FFI-Platypus v1.10
Platform
Perl 5 v5.30.2 x86_64-linux
Date
2020-03-15 13:05:13
ID
9bf92d8c-66bd-11ea-ac27-7f171f24ea8f
This distribution has been tested as part of the CPAN Testers
project, supporting the Perl programming language.  See
http://wiki.cpantesters.org/ for more information or email
questions to cpan-testers-discuss@perl.org


--
Dear Graham Ollis,

This is a computer-generated report for FFI-Platypus-1.10
on perl 5.30.2, created by CPAN-Reporter-1.2018.

Thank you for uploading your work to CPAN.  Congratulations!
All tests were successful.

Sections of this report:

    * Tester comments
    * Program output
    * Prerequisites
    * Environment and other context

------------------------------
TESTER COMMENTS
------------------------------

Additional comments from tester:

none provided

------------------------------
PROGRAM OUTPUT
------------------------------

Output from 'make test':

"/opt/perl-5.30.2/bin/perl" -MExtUtils::Command::MM -e 'cp_nonempty' -- lib/FFI/Platypus.bs blib/arch/auto/FFI/Platypus/Platypus.bs 644
CC t/ffi/align.c
CC t/ffi/align_array.c
CC t/ffi/align_fixed.c
CC t/ffi/align_string.c
CC t/ffi/basic.c
CC t/ffi/closure.c
CC t/ffi/color.c
CC t/ffi/complex_double.c
CC t/ffi/complex_float.c
CC t/ffi/double.c
CC t/ffi/float.c
CC t/ffi/gh117.c
CC t/ffi/gh174.c
CC t/ffi/longdouble.c
CC t/ffi/memcmp4.c
CC t/ffi/meta.c
CC t/ffi/pointer.c
CC t/ffi/record.c
CC t/ffi/sint16.c
CC t/ffi/sint32.c
CC t/ffi/sint64.c
CC t/ffi/sint8.c
CC t/ffi/string.c
CC t/ffi/string_array.c
CC t/ffi/uint16.c
CC t/ffi/uint32.c
CC t/ffi/uint64.c
CC t/ffi/uint8.c
CC t/ffi/variadic.c
LD t/ffi/libtest.so
PERL_DL_NONLAZY=1 "/opt/perl-5.30.2/bin/perl" "-MExtUtils::Command::MM" "-MTest::Harness" "-e" "undef *Test::Harness::Switches; test_harness(0, 'blib/lib', 'blib/arch')" t/*.t
# 
# 
# 
# HARNESS_ACTIVE=1
# HARNESS_VERSION=3.42
# LANG=en_US.UTF-8
# PERL5LIB=/home/cpansand/.cpan/build/2020031509/FFI-Platypus-1.10-0/blib/lib:/home/cpansand/.cpan/build/2020031509/FFI-Platypus-1.10-0/blib/arch:
# PERL5OPT=
# PERL5_CPANPLUS_IS_RUNNING=4429
# PERL5_CPAN_IS_RUNNING=4429
# PERL5_CPAN_IS_RUNNING_IN_RECURSION=4391,4429
# PERLDOC=-MPod::Perldoc::ToTextOverstrike
# PERL_BATCH=yes
# PERL_CANARY_STABILITY_NOPROMPT=1
# PERL_CPAN_REPORTER_CONFIG=/var/tmp/cpansmoker-1023/2020031509/cpanreporter_000_config.ini
# PERL_DL_NONLAZY=1
# PERL_EXTUTILS_AUTOINSTALL=--defaultdeps
# PERL_USE_UNSAFE_INC=1
# SHELL=/bin/zsh
# 
# 
# 
# PERL5LIB path
# /home/cpansand/.cpan/build/2020031509/FFI-Platypus-1.10-0/blib/lib
# /home/cpansand/.cpan/build/2020031509/FFI-Platypus-1.10-0/blib/arch
# 
# 
# 
# perl                5.030002
# Alien::Base         2.12
# Capture::Tiny       0.48
# Devel::Hide         0.0013
# ExtUtils::CBuilder  0.280231
# ExtUtils::MakeMaker 7.44
# ExtUtils::ParseXS   3.40
# FFI::CheckLib       0.26
# IPC::Cmd            1.02
# JSON::PP            4.02
# List::Util          1.5
# Math::LongDouble    -
# PkgConfig           -
# Test::More          1.302172
# constant            1.33
# forks               -
# 
# 
# 
# mode : fallback
# Alien::FFI->VERSION      = 0.25
# Alien::FFI->install_type = share
# Alien::FFI->cflags       = -I/opt/perl-5.30.2/lib/site_perl/5.30.2/x86_64-linux/auto/share/dist/Alien-FFI/include 
# Alien::FFI->libs         = -L/opt/perl-5.30.2/lib/site_perl/5.30.2/x86_64-linux/auto/share/dist/Alien-FFI/lib/../lib64 -lffi 
# Alien::FFI->version      = 3.3
# my_configure             = %{configure} --disable-shared --enable-static --disable-builddir
# 
# 
# 
# ffi.platypus.memory.strdup_impl =libc
# ffi.platypus.memory.strndup_impl=libc
# 
# 
# 
# Types:
#   double   : double, float complex
#   float    : float
#   longdouble : double complex, long double, long double complex
#   sint16   : int16_t, short, signed short
#   sint32   : int, int32_t, senum, signed int, wchar_t
#   sint64   : blkcnt_t, blksize_t, int64_t, intptr_t, long, long long, off_t, ptrdiff_t, signed long, signed long long, ssize_t, time_t
#   sint8    : char, int8_t, signed char
#   uint16   : uint16_t, unsigned short, ushort
#   uint32   : enum, gid_t, mode_t, uid_t, uint, uint32_t, unsigned int, wint_t
#   uint64   : dev_t, ino_t, nlink_t, size_t, uint64_t, uintptr_t, ulong, unsigned long, unsigned long long
#   uint8    : bool, uchar, uint8_t, unsigned char
# 
# 
# 
# ABIs:
#   default_abi          2
#   efi64                3
#   gnuw64               4
#   unix64               2
#   win64                3
# 
# 
# 
# Probes:
#   recordvalue          1
#   bigendian64          0
#   bigendian            0
#   abi                  1
#   alloca               1
#   complex              1
#   variadic             1
#   longdouble           1
# 
# 
# 
# CPU Info:
#   model name	: Intel Xeon Processor (Skylake, IBRS)
#   flags		: fpu vme de pse tsc msr pae mce cx8 apic sep mtrr pge mca cmov pat pse36 clflush mmx fxsr sse sse2 syscall nx pdpe1gb rdtscp lm constant_tsc up rep_good xtopology unfair_spinlock eagerfpu pni pclmulqdq ssse3 fma cx16 pcid sse4_1 sse4_2 x2apic movbe popcnt tsc_deadline_timer aes xsave avx f16c rdrand hypervisor lahf_lm abm 3dnowprefetch arat xsaveopt invpcid_single ssbd pti ibrs ibpb fsgsbase bmi1 hle avx2 smep bmi2 erms invpcid rtm avx512f rdseed adx avx512cd md_clear
#   address sizes	: 40 bits physical, 48 bits virtual
# 
# 
# 
# LSB Version:	:base-4.0-amd64:base-4.0-noarch:core-4.0-amd64:core-4.0-noarch
# Distributor ID:	CentOS
# Description:	CentOS release 6.10 (Final)
# Release:	6.10
# Codename:	Final
# 
# 
# 
# [PLATFORM]
# osname            : linux
# cc                : cc
# cxx               : c++
# for               : gfortran
# ld                : cc
# ccflags           : -fPIC -fwrapv -fno-strict-aliasing -pipe -fstack-protector -I/usr/local/include -D_LARGEFILE_SOURCE -D_FILE_OFFSET_BITS=64 -D_FORTIFY_SOURCE=2 -O2 -I/home/cpansand/.cpan/build/2020031509/FFI-Platypus-1.10-0/blib/lib/auto/share/dist/FFI-Platypus/include
# ldflags           : -shared -O2 -L/usr/local/lib -fstack-protector
# object suffix     : .o
# library prefix    : lib
# library suffix    : .so
# cc mm works       : -MM
# 
# 
# 
t/00_diag.t .............................. ok
t/01_use.t ............................... ok
t/ffi_build.t ............................ ok
t/ffi_build_file_base.t .................. ok
t/ffi_build_file_c.t ..................... ok
t/ffi_build_file_cxx.t ................... ok
t/ffi_build_file_library.t ............... ok
t/ffi_build_file_object.t ................ ok
t/ffi_build_mm.t ......................... ok
t/ffi_build_platform.t ................... ok
t/ffi_platypus.t ......................... ok
t/ffi_platypus_api.t ..................... ok
t/ffi_platypus_buffer.t .................. ok
t/ffi_platypus_bundle.t .................. ok
t/ffi_platypus_closure.t ................. ok
t/ffi_platypus_constant.t ................ ok
t/ffi_platypus_declare.t ................. ok
t/ffi_platypus_dl.t ...................... ok
t/ffi_platypus_function.t ................ ok
t/ffi_platypus_function_wrapper.t ........ ok
t/ffi_platypus_internal.t ................ ok
t/ffi_platypus_lang.t .................... ok
t/ffi_platypus_lang_asm.t ................ ok
t/ffi_platypus_lang_c.t .................. ok
t/ffi_platypus_lang_win32.t .............. ok
t/ffi_platypus_legacy.t .................. ok
t/ffi_platypus_memory.t .................. ok
t/ffi_platypus_record.t .................. ok
t/ffi_platypus_record_meta.t ............. ok
t/ffi_platypus_record_tiearray.t ......... ok
t/ffi_platypus_shareconfig.t ............. ok
t/ffi_platypus_type.t .................... ok
t/ffi_platypus_type_pointersizebuffer.t .. ok
t/ffi_platypus_type_stringarray.t ........ ok
t/ffi_platypus_type_stringpointer.t ...... ok
t/ffi_platypus_typeparser.t .............. ok
t/ffi_platypus_typeparser_version0.t ..... ok
t/ffi_platypus_typeparser_version1.t ..... ok
t/ffi_probe.t ............................ ok
t/ffi_probe_runner.t ..................... ok
t/ffi_probe_runner_builder.t ............. ok
t/ffi_probe_runner_result.t .............. ok
t/ffi_temp.t ............................. ok
t/forks.t ................................ skipped: Test requires forks
t/gh117.t ................................ ok
t/gh129.t ................................ ok
t/memory.t ............................... skipped: tested only in CI
t/threads.t .............................. skipped: Test requires a threading Perl
t/type_complex_double.t .................. ok
t/type_complex_float.t ................... ok
t/type_custom.t .......................... ok
t/type_double.t .......................... ok
t/type_float.t ........................... ok
t/type_longdouble.t ...................... ok
t/type_longdouble__array.t ............... ok
t/type_longdouble__hide.t ................ ok
t/type_longdouble__ptr.t ................. ok
t/type_opaque.t .......................... ok
t/type_record.t .......................... ok
t/type_record_value.t .................... ok
t/type_sint16.t .......................... ok
t/type_sint32.t .......................... ok
t/type_sint64.t .......................... ok
t/type_sint8.t ........................... ok
t/type_string.t .......................... ok
t/type_uint16.t .......................... ok
t/type_uint32.t .......................... ok
t/type_uint64.t .......................... ok
t/type_uint8.t ........................... ok
All tests successful.
Files=69, Tests=344, 10 wallclock secs ( 0.29 usr  0.13 sys +  7.71 cusr  1.45 csys =  9.58 CPU)
Result: PASS

------------------------------
PREREQUISITES
------------------------------

Prerequisite modules loaded:

requires:

    Module              Need     Have    
    ------------------- -------- --------
    Capture::Tiny       0        0.48    
    constant            1.32     1.33    
    ExtUtils::MakeMaker 7.12     7.44    
    FFI::CheckLib       0.05     0.26    
    IPC::Cmd            0        1.02    
    JSON::PP            0        4.02    
    List::Util          1.45     1.50    
    perl                5.008001 5.030002

build_requires:

    Module              Need     Have    
    ------------------- -------- --------
    Alien::FFI          0.20     0.25    
    Capture::Tiny       0        0.48    
    ExtUtils::CBuilder  0        0.280231
    Test::More          0.98     1.302172

configure_requires:

    Module              Need     Have    
    ------------------- -------- --------
    Capture::Tiny       0        0.48    
    ExtUtils::MakeMaker 7.12     7.44    
    ExtUtils::ParseXS   3.30     3.40    
    IPC::Cmd            0        1.02    
    perl                5.006    5.030002


------------------------------
ENVIRONMENT AND OTHER CONTEXT
------------------------------

Environment variables:

    LANG = en_US.UTF-8
    PATH = /usr/local/bin:/usr/bin:/bin:/usr/local/sbin:/usr/sbin:/sbin:/home/cpansand/bin/linux-gnu:/home/cpansand/bin/sh:/home/cpansand/bin:/usr/games:/home/cpansand/devel:/home/eserte/src/srezic-misc/scripts
    PERL5LIB = 
    PERL5OPT = 
    PERL5_CPANPLUS_IS_RUNNING = 4429
    PERL5_CPAN_IS_RUNNING = 4429
    PERL5_CPAN_IS_RUNNING_IN_RECURSION = 4391,4429
    PERLDOC = -MPod::Perldoc::ToTextOverstrike
    PERL_BATCH = yes
    PERL_CANARY_STABILITY_NOPROMPT = 1
    PERL_CPAN_REPORTER_CONFIG = /var/tmp/cpansmoker-1023/2020031509/cpanreporter_000_config.ini
    PERL_EXTUTILS_AUTOINSTALL = --defaultdeps
    PERL_USE_UNSAFE_INC = 1
    SHELL = /bin/zsh
    TERM = screen
    TMPDIR = /var/tmp/cpansmoker-1023/2020031509

Perl special variables (and OS-specific diagnostics, for MSWin32):

    $^X = /opt/perl-5.30.2/bin/perl
    $UID/$EUID = 1023 / 1023
    $GID = 1023 1023
    $EGID = 1023 1023

Perl module toolchain versions installed:

    Module              Have    
    ------------------- --------
    CPAN                2.22    
    CPAN::Meta          2.150010
    Cwd                 3.78    
    ExtUtils::CBuilder  0.280231
    ExtUtils::Command   7.44    
    ExtUtils::Install   2.14    
    ExtUtils::MakeMaker 7.44    
    ExtUtils::Manifest  1.72    
    ExtUtils::ParseXS   3.40    
    File::Spec          3.78    
    JSON                4.02    
    JSON::PP            4.02    
    Module::Build       0.4231  
    Module::Signature   n/a     
    Parse::CPAN::Meta   2.150010
    Test::Harness       3.42    
    Test::More          1.302172
    YAML                1.30    
    YAML::Syck          1.32    
    version             0.9924  


--

Summary of my perl5 (revision 5 version 30 subversion 2) configuration:
   
  Platform:
    osname=linux
    osvers=2.6.32-754.28.1.el6.x86_64
    archname=x86_64-linux
    uname='linux cloud6.bbbike.org 2.6.32-754.28.1.el6.x86_64 #1 smp wed mar 11 18:38:45 utc 2020 x86_64 x86_64 x86_64 gnulinux '
    config_args='-ds -e -Dprefix=/opt/perl-5.30.2 -Dcf_email=srezic@cpan.org'
    hint=recommended
    useposix=true
    d_sigaction=define
    useithreads=undef
    usemultiplicity=undef
    use64bitint=define
    use64bitall=define
    uselongdouble=undef
    usemymalloc=n
    default_inc_excludes_dot=define
    bincompat5005=undef
  Compiler:
    cc='cc'
    ccflags ='-fwrapv -fno-strict-aliasing -pipe -fstack-protector -I/usr/local/include -D_LARGEFILE_SOURCE -D_FILE_OFFSET_BITS=64 -D_FORTIFY_SOURCE=2'
    optimize='-O2'
    cppflags='-fwrapv -fno-strict-aliasing -pipe -fstack-protector -I/usr/local/include'
    ccversion=''
    gccversion='4.4.7 20120313 (Red Hat 4.4.7-23)'
    gccosandvers=''
    intsize=4
    longsize=8
    ptrsize=8
    doublesize=8
    byteorder=12345678
    doublekind=3
    d_longlong=define
    longlongsize=8
    d_longdbl=define
    longdblsize=16
    longdblkind=3
    ivtype='long'
    ivsize=8
    nvtype='double'
    nvsize=8
    Off_t='off_t'
    lseeksize=8
    alignbytes=8
    prototype=define
  Linker and Libraries:
    ld='cc'
    ldflags =' -fstack-protector -L/usr/local/lib'
    libpth=/usr/local/lib /usr/lib /lib/../lib64 /usr/lib/../lib64 /lib /lib64 /usr/lib64 /usr/local/lib64
    libs=-lpthread -lnsl -lgdbm -ldb -ldl -lm -lcrypt -lutil -lc
    perllibs=-lpthread -lnsl -ldl -lm -lcrypt -lutil -lc
    libc=libc-2.12.so
    so=so
    useshrplib=false
    libperl=libperl.a
    gnulibc_version='2.12'
  Dynamic Linking:
    dlsrc=dl_dlopen.xs
    dlext=so
    d_dlsymun=undef
    ccdlflags='-Wl,-E'
    cccdlflags='-fPIC'
    lddlflags='-shared -O2 -L/usr/local/lib -fstack-protector'


Characteristics of this binary (from libperl): 
  Compile-time options:
    HAS_TIMES
    PERLIO_LAYERS
    PERL_COPY_ON_WRITE
    PERL_DONT_CREATE_GVSV
    PERL_MALLOC_WRAP
    PERL_OP_PARENT
    PERL_PRESERVE_IVUV
    USE_64_BIT_ALL
    USE_64_BIT_INT
    USE_LARGE_FILES
    USE_LOCALE
    USE_LOCALE_COLLATE
    USE_LOCALE_CTYPE
    USE_LOCALE_NUMERIC
    USE_LOCALE_TIME
    USE_PERLIO
    USE_PERL_ATOF
  Built under linux
  Compiled at Mar 14 2020 21:35:27
  %ENV:
    PERL5LIB=""
    PERL5OPT=""
    PERL5_CPANPLUS_IS_RUNNING="4429"
    PERL5_CPAN_IS_RUNNING="4429"
    PERL5_CPAN_IS_RUNNING_IN_RECURSION="4391,4429"
    PERLDOC="-MPod::Perldoc::ToTextOverstrike"
    PERL_BATCH="yes"
    PERL_CANARY_STABILITY_NOPROMPT="1"
    PERL_CPAN_REPORTER_CONFIG="/var/tmp/cpansmoker-1023/2020031509/cpanreporter_000_config.ini"
    PERL_EXTUTILS_AUTOINSTALL="--defaultdeps"
    PERL_USE_UNSAFE_INC="1"
  @INC:
    /opt/perl-5.30.2/lib/site_perl/5.30.2/x86_64-linux
    /opt/perl-5.30.2/lib/site_perl/5.30.2
    /opt/perl-5.30.2/lib/5.30.2/x86_64-linux
    /opt/perl-5.30.2/lib/5.30.2
    .