Moo v2.005005 Perl 5 v5.38.2 x86_64-linux
- Status
- Pass
- From
- Dist
-
Moo v2.005005
- Platform
- Perl 5 v5.38.2 x86_64-linux
- Date
- 2024-01-03 13:54:26
- ID
- 9bb65038-aa3f-11ee-9509-fbd7403fb7bd
This distribution has been tested as part of the CPAN Testers
project, supporting the Perl programming language. See
http://wiki.cpantesters.org/ for more information or email
questions to cpan-testers-discuss@perl.org
--
Dear Graham Knop,
This is a computer-generated report for Moo-2.005005
on perl 5.38.2, created by CPAN-Reporter-1.2019.
Thank you for uploading your work to CPAN. Congratulations!
All tests were successful.
Sections of this report:
* Tester comments
* Program output
* Prerequisites
* Environment and other context
------------------------------
TESTER COMMENTS
------------------------------
Additional comments from tester:
none provided
------------------------------
PROGRAM OUTPUT
------------------------------
Output from '/usr/bin/make test':
PERL_DL_NONLAZY=1 "/home/nataraj/perl5/perlbrew.gcc/perls/perl-5.38.2/bin/perl" -It/lib "-MTestEnv=" "-MExtUtils::Command::MM" "-MTest::Harness" "-e" "undef *Test::Harness::Switches; test_harness(0, 'blib/lib', 'blib/arch')" t/*.t
t/accessor-coerce.t ................ ok
t/accessor-default.t ............... ok
t/accessor-generator-extension.t ... ok
t/accessor-handles.t ............... ok
t/accessor-isa.t ................... ok
t/accessor-mixed.t ................. ok
t/accessor-pred-clear.t ............ ok
t/accessor-reader-writer.t ......... ok
t/accessor-roles.t ................. ok
t/accessor-shortcuts.t ............. ok
t/accessor-trigger.t ............... ok
t/accessor-weaken-pre-5_8_3.t ...... ok
t/accessor-weaken.t ................ ok
t/buildall-subconstructor.t ........ ok
t/buildall.t ....................... ok
t/buildargs-error.t ................ ok
t/buildargs.t ...................... ok
t/coerce-1.t ....................... ok
t/compose-conflicts.t .............. ok
t/compose-non-role.t ............... ok
t/compose-roles.t .................. ok
t/constructor-modify.t ............. ok
t/croak-locations.t ................ ok
t/demolish-basics.t ................ ok
t/demolish-bugs-eats_exceptions.t .. ok
t/demolish-bugs-eats_mini.t ........ ok
t/demolish-global_destruction.t .... ok
t/demolish-throw.t ................. ok
t/does.t ........................... ok
t/extend-constructor.t ............. ok
t/extends-non-moo.t ................ ok
t/extends-role.t ................... ok
t/foreignbuildargs.t ............... ok
t/global_underscore.t .............. ok
t/has-array.t ...................... ok
t/has-before-extends.t ............. ok
t/has-plus.t ....................... ok
t/init-arg.t ....................... ok
t/isa-interfere.t .................. ok
t/lazy_isa.t ....................... ok
t/load_module.t .................... ok
t/load_module_error.t .............. ok
t/load_module_role_tiny.t .......... ok
t/long-package-name.t .............. ok
t/method-generate-accessor.t ....... ok
t/method-generate-constructor.t .... ok
t/modifiers.t ...................... ok
t/modify_lazy_handlers.t ........... ok
t/moo-accessors.t .................. ok
t/moo-c3.t ......................... ok
t/moo-object.t ..................... ok
t/moo-utils-_name_coderef.t ........ ok
t/moo-utils-_subname-Sub-Name.t .... ok
t/moo-utils-_subname.t ............. ok
t/moo-utils.t ...................... ok
t/moo.t ............................ ok
t/mutual-requires.t ................ ok
t/no-build.t ....................... ok
t/no-moo.t ......................... ok
t/non-moo-extends-c3.t ............. ok
t/non-moo-extends.t ................ ok
t/not-both.t ....................... ok
t/not-methods.t .................... ok
t/overloaded-coderefs.t ............ ok
t/overridden-core-funcs.t .......... ok
t/role-conflicts-moox.t ............ ok
t/sub-and-handles.t ................ ok
t/subconstructor.t ................. ok
t/undef-bug.t ...................... ok
t/use-after-no.t ................... ok
t/zzz-check-breaks.t ............... ok
All tests successful.
Files=71, Tests=841, 11 wallclock secs ( 0.44 usr 0.14 sys + 8.57 cusr 1.70 csys = 10.85 CPU)
Result: PASS
------------------------------
PREREQUISITES
------------------------------
Prerequisite modules loaded:
requires:
Module Need Have
------------------------ -------- --------
Carp 0 1.54
Class::Method::Modifiers 1.10 2.15
Exporter 0 5.77
perl 5.006 5.038002
Role::Tiny 2.002003 2.002004
Scalar::Util 1.00 1.63
Sub::Defer 2.006006 2.006008
Sub::Quote 2.006006 2.006008
build_requires:
Module Need Have
------------------------ -------- --------
Test::More 0.94 1.302194
configure_requires:
Module Need Have
------------------------ -------- --------
ExtUtils::MakeMaker 0 7.70
opt_requires:
Module Need Have
------------------------ -------- --------
! Class::XSAccessor 1.18 n/a
Sub::Util 0 1.63
opt_build_requires:
Module Need Have
------------------------ -------- --------
CPAN::Meta::Requirements 0 2.140
Parse::CPAN::Meta 1.4200 2.150010
------------------------------
ENVIRONMENT AND OTHER CONTEXT
------------------------------
Environment variables:
LANG = en_US.UTF-8
PATH = /home/nataraj/perl5/perlbrew/bin:/home/nataraj/perl5/perlbrew/perls/perl-5.38.2/bin:/usr/local/bin:/usr/bin:/bin:/usr/local/games:/usr/games
PERL5LIB = /home/nataraj/.cpan/build/Sub-Quote-2.006008-1/blib/arch:/home/nataraj/.cpan/build/Sub-Quote-2.006008-1/blib/lib:/home/nataraj/.cpan/build/Role-Tiny-2.002004-1/blib/arch:/home/nataraj/.cpan/build/Role-Tiny-2.002004-1/blib/lib:/home/nataraj/.cpan/build/Class-Method-Modifiers-2.15-1/blib/arch:/home/nataraj/.cpan/build/Class-Method-Modifiers-2.15-1/blib/lib
PERL5OPT =
PERL5_CPANPLUS_IS_RUNNING = 1253956
PERL5_CPAN_IS_RUNNING = 1253956
PERLBREW_HOME = /home/nataraj/.perlbrew
PERLBREW_LIB =
PERLBREW_MANPATH = /home/nataraj/perl5/perlbrew/perls/perl-5.38.2/man
PERLBREW_PATH = /home/nataraj/perl5/perlbrew/bin:/home/nataraj/perl5/perlbrew/perls/perl-5.38.2/bin
PERLBREW_PERL = perl-5.38.2
PERLBREW_ROOT = /home/nataraj/perl5/perlbrew
PERLBREW_SHELLRC_VERSION = 0.96
PERLBREW_SKIP_INIT = 1
PERLBREW_VERSION = 0.96
PERL_LOCAL_LIB_ROOT =
PERL_USE_UNSAFE_INC = 1
SHELL = /bin/bash
TERM = screen.xterm-256color
Perl special variables (and OS-specific diagnostics, for MSWin32):
$^X = /home/nataraj/perl5/perlbrew.gcc/perls/perl-5.38.2/bin/perl
$UID/$EUID = 1000 / 1000
$GID = 1000 24 25 27 29 30 44 46 100 106 1000
$EGID = 1000 24 25 27 29 30 44 46 100 106 1000
Perl module toolchain versions installed:
Module Have
------------------- --------
CPAN 2.36
CPAN::Meta 2.150010
Cwd 3.89
ExtUtils::CBuilder 0.280238
ExtUtils::Command 7.70
ExtUtils::Install 2.22
ExtUtils::MakeMaker 7.70
ExtUtils::Manifest 1.73
ExtUtils::ParseXS 3.51
File::Spec 3.88
JSON n/a
JSON::PP 4.16
Module::Build 0.4234
Module::Signature n/a
Parse::CPAN::Meta 2.150010
Test2 1.302194
Test::Harness 3.44
Test::More 1.302194
YAML n/a
YAML::Syck n/a
version 0.9929
--
Summary of my perl5 (revision 5 version 38 subversion 2) configuration:
Platform:
osname=linux
osvers=6.1.0-11-amd64
archname=x86_64-linux
uname='linux tmp-nataraj 6.1.0-11-amd64 #1 smp preempt_dynamic debian 6.1.38-4 (2023-08-08) x86_64 gnulinux '
config_args='-de -Dprefix=/home/nataraj/perl5/perlbrew/perls/perl-5.38.2 -Aeval:scriptdir=/home/nataraj/perl5/perlbrew/perls/perl-5.38.2/bin'
hint=recommended
useposix=true
d_sigaction=define
useithreads=undef
usemultiplicity=undef
use64bitint=define
use64bitall=define
uselongdouble=undef
usemymalloc=n
default_inc_excludes_dot=define
Compiler:
cc='cc'
ccflags ='-fwrapv -fno-strict-aliasing -pipe -fstack-protector-strong -I/usr/local/include -D_LARGEFILE_SOURCE -D_FILE_OFFSET_BITS=64 -D_FORTIFY_SOURCE=2'
optimize='-O2'
cppflags='-fwrapv -fno-strict-aliasing -pipe -fstack-protector-strong -I/usr/local/include'
ccversion=''
gccversion='12.2.0'
gccosandvers=''
intsize=4
longsize=8
ptrsize=8
doublesize=8
byteorder=12345678
doublekind=3
d_longlong=define
longlongsize=8
d_longdbl=define
longdblsize=16
longdblkind=3
ivtype='long'
ivsize=8
nvtype='double'
nvsize=8
Off_t='off_t'
lseeksize=8
alignbytes=8
prototype=define
Linker and Libraries:
ld='cc'
ldflags =' -fstack-protector-strong -L/usr/local/lib'
libpth=/usr/local/lib /usr/lib/x86_64-linux-gnu /usr/lib /usr/lib64
libs=-lpthread -ldl -lm -lcrypt -lutil -lc
perllibs=-lpthread -ldl -lm -lcrypt -lutil -lc
libc=/lib/x86_64-linux-gnu/libc.so.6
so=so
useshrplib=false
libperl=libperl.a
gnulibc_version='2.36'
Dynamic Linking:
dlsrc=dl_dlopen.xs
dlext=so
d_dlsymun=undef
ccdlflags='-Wl,-E'
cccdlflags='-fPIC'
lddlflags='-shared -O2 -L/usr/local/lib -fstack-protector-strong'
Characteristics of this binary (from libperl):
Compile-time options:
HAS_LONG_DOUBLE
HAS_STRTOLD
HAS_TIMES
PERLIO_LAYERS
PERL_COPY_ON_WRITE
PERL_DONT_CREATE_GVSV
PERL_HASH_FUNC_SIPHASH13
PERL_HASH_USE_SBOX32
PERL_MALLOC_WRAP
PERL_OP_PARENT
PERL_PRESERVE_IVUV
PERL_USE_SAFE_PUTENV
USE_64_BIT_ALL
USE_64_BIT_INT
USE_LARGE_FILES
USE_LOCALE
USE_LOCALE_COLLATE
USE_LOCALE_CTYPE
USE_LOCALE_NUMERIC
USE_LOCALE_TIME
USE_PERLIO
USE_PERL_ATOF
Built under linux
Compiled at Jan 2 2024 13:40:55
%ENV:
PERL5LIB="/home/nataraj/.cpan/build/Sub-Quote-2.006008-1/blib/arch:/home/nataraj/.cpan/build/Sub-Quote-2.006008-1/blib/lib:/home/nataraj/.cpan/build/Role-Tiny-2.002004-1/blib/arch:/home/nataraj/.cpan/build/Role-Tiny-2.002004-1/blib/lib:/home/nataraj/.cpan/build/Class-Method-Modifiers-2.15-1/blib/arch:/home/nataraj/.cpan/build/Class-Method-Modifiers-2.15-1/blib/lib"
PERL5OPT=""
PERL5_CPANPLUS_IS_RUNNING="1253956"
PERL5_CPAN_IS_RUNNING="1253956"
PERLBREW_HOME="/home/nataraj/.perlbrew"
PERLBREW_LIB=""
PERLBREW_MANPATH="/home/nataraj/perl5/perlbrew/perls/perl-5.38.2/man"
PERLBREW_PATH="/home/nataraj/perl5/perlbrew/bin:/home/nataraj/perl5/perlbrew/perls/perl-5.38.2/bin"
PERLBREW_PERL="perl-5.38.2"
PERLBREW_ROOT="/home/nataraj/perl5/perlbrew"
PERLBREW_SHELLRC_VERSION="0.96"
PERLBREW_SKIP_INIT="1"
PERLBREW_VERSION="0.96"
PERL_LOCAL_LIB_ROOT=""
PERL_USE_UNSAFE_INC="1"
@INC:
/home/nataraj/.cpan/build/Sub-Quote-2.006008-1/blib/arch
/home/nataraj/.cpan/build/Sub-Quote-2.006008-1/blib/lib
/home/nataraj/.cpan/build/Role-Tiny-2.002004-1/blib/arch
/home/nataraj/.cpan/build/Role-Tiny-2.002004-1/blib/lib
/home/nataraj/.cpan/build/Class-Method-Modifiers-2.15-1/blib/arch
/home/nataraj/.cpan/build/Class-Method-Modifiers-2.15-1/blib/lib
/home/nataraj/perl5/perlbrew/perls/perl-5.38.2/lib/site_perl/5.38.2/x86_64-linux
/home/nataraj/perl5/perlbrew/perls/perl-5.38.2/lib/site_perl/5.38.2
/home/nataraj/perl5/perlbrew/perls/perl-5.38.2/lib/5.38.2/x86_64-linux
/home/nataraj/perl5/perlbrew/perls/perl-5.38.2/lib/5.38.2
.