Net-IPAM-Tree v1.10 Perl 5 v5.24.4 x86_64-linux-thread-multi
- Status
- Pass
- From
- Nigel Horne
- Dist
-
Net-IPAM-Tree v1.10
- Platform
- Perl 5 v5.24.4 x86_64-linux-thread-multi
- Date
- 2020-05-22 00:03:03
- ID
- 9b70576e-9bbf-11ea-86a7-fbc4031809c1
This distribution has been tested as part of the CPAN Testers
project, supporting the Perl programming language. See
http://wiki.cpantesters.org/ for more information or email
questions to cpan-testers-discuss@perl.org
--
Dear Karl Gaissmaier,
This is a computer-generated report for Net-IPAM-Tree-1.10
on perl 5.24.4, created by CPAN-Reporter-1.2018.
Thank you for uploading your work to CPAN. Congratulations!
All tests were successful.
Sections of this report:
* Tester comments
* Program output
* Prerequisites
* Environment and other context
------------------------------
TESTER COMMENTS
------------------------------
Additional comments from tester:
this report is from an automated smoke testing program
and was not reviewed by a human for accuracy
------------------------------
PROGRAM OUTPUT
------------------------------
Output from './Build test':
t/pod-coverage.t .. skipped: Author tests not required for installation
t/manifest.t ...... skipped: Author tests not required for installation
t/pod.t ........... skipped: Author tests not required for installation
t/00-load.t ....... ok
t/01-new.t ........ ok
t/02-lookup.t ..... ok
t/03-remove.t ..... ok
t/04-to_string.t .. ok
t/05-errors.t ..... ok
t/06-walk.t ....... ok
All tests successful.
Files=10, Tests=73, 0 wallclock secs ( 0.02 usr 0.02 sys + 0.20 cusr 0.06 csys = 0.30 CPU)
Result: PASS
------------------------------
PREREQUISITES
------------------------------
Prerequisite modules loaded:
requires:
Module Need Have
---------------- --------- --------
List::MoreUtils 0.420_001 0.428
Net::IPAM::Block 1.15 1.15
Net::IPAM::IP 1.22 1.22
perl v5.10.0 5.024004
Scalar::Util 1.39 1.55
build_requires:
Module Need Have
---------------- --------- --------
Test::More 0 1.001014
configure_requires:
Module Need Have
---------------- --------- --------
Module::Build 0.4004 0.4224
------------------------------
ENVIRONMENT AND OTHER CONTEXT
------------------------------
Environment variables:
AUTOMATED_TESTING = 1
HARNESS_OPTIONS = j10
NONINTERACTIVE_TESTING = 1
PATH = /home/smoker/perl5/perlbrew/bin:/home/smoker/perl5/perlbrew/perls/perl-5.24.4-thread/bin:/usr/local/sbin:/usr/local/bin:/usr/sbin:/usr/bin:/sbin:/bin
PERL5LIB = /tmp/build/Net-IPAM-Block-1.15-0/blib/arch:/tmp/build/Net-IPAM-Block-1.15-0/blib/lib:/tmp/build/Net-IPAM-IP-1.22-0/blib/arch:/tmp/build/Net-IPAM-IP-1.22-0/blib/lib:/tmp/build/Scalar-List-Utils-1.55-0/blib/arch:/tmp/build/Scalar-List-Utils-1.55-0/blib/lib:/tmp/build/List-MoreUtils-0.428-0/blib/arch:/tmp/build/List-MoreUtils-0.428-0/blib/lib:/tmp/build/Test-LeakTrace-0.16-0/blib/arch:/tmp/build/Test-LeakTrace-0.16-0/blib/lib:/tmp/build/List-MoreUtils-XS-0.428-0/blib/arch:/tmp/build/List-MoreUtils-XS-0.428-0/blib/lib:/tmp/build/Exporter-Tiny-1.002002-0/blib/arch:/tmp/build/Exporter-Tiny-1.002002-0/blib/lib
PERL5OPT =
PERL5_CPANPLUS_IS_RUNNING = 37
PERL5_CPAN_IS_RUNNING = 37
PERLBREW_HOME = /home/smoker/.perlbrew
PERLBREW_MANPATH = /home/smoker/perl5/perlbrew/perls/perl-5.24.4-thread/man
PERLBREW_PATH = /home/smoker/perl5/perlbrew/bin:/home/smoker/perl5/perlbrew/perls/perl-5.24.4-thread/bin
PERLBREW_PERL = perl-5.24.4-thread
PERLBREW_ROOT = /home/smoker/perl5/perlbrew
PERLBREW_SHELLRC_VERSION = 0.86
PERLBREW_VERSION = 0.86
PERL_MM_USE_DEFAULT = 1
PERL_USE_UNSAFE_INC = 1
SHELL = /bin/bash
TERM = xterm
TMPDIR = /tmp/testwrapper.26
Perl special variables (and OS-specific diagnostics, for MSWin32):
$^X = /home/smoker/perl5/perlbrew/perls/perl-5.24.4-thread/bin/perl5.24.4
$UID/$EUID = 1000 / 1000
$GID = 1000
$EGID = 1000
Perl module toolchain versions installed:
Module Have
------------------- ----------
CPAN 2.22
CPAN::Meta 2.150005
Cwd 3.75
ExtUtils::CBuilder 0.280225
ExtUtils::Command 7.34
ExtUtils::Install 2.06
ExtUtils::MakeMaker 7.34
ExtUtils::Manifest 1.70
ExtUtils::ParseXS 3.31
File::Spec 3.75
JSON 4.00
JSON::PP 2.27300_01
Module::Build 0.4224
Module::Signature n/a
Parse::CPAN::Meta 1.4417_001
Test::Harness 3.36_01
Test::More 1.001014
YAML 1.27
YAML::Syck 1.31
version 0.9916
--
Summary of my perl5 (revision 5 version 24 subversion 4) configuration:
Platform:
osname=linux, osvers=4.19.0-1-amd64, archname=x86_64-linux-thread-multi
uname='linux 533204a12bc2 4.19.0-1-amd64 #1 smp debian 4.19.12-1 (2018-12-22) x86_64 gnulinux '
config_args='-de -Dprefix=/home/smoker/perl5/perlbrew/perls/perl-5.24.4-thread -Dusedevel -Dusethreads -Accflags=-O2 -pipe -Wall -Wextra -mtune=native -march=native -Aeval:scriptdir=/home/smoker/perl5/perlbrew/perls/perl-5.24.4-thread/bin'
hint=recommended, useposix=true, d_sigaction=define
useithreads=define, usemultiplicity=define
use64bitint=define, use64bitall=define, uselongdouble=undef
usemymalloc=n, bincompat5005=undef
Compiler:
cc='cc', ccflags ='-D_REENTRANT -D_GNU_SOURCE -O2 -pipe -Wall -Wextra -mtune=native -march=native -fwrapv -fno-strict-aliasing -fstack-protector-strong -I/usr/local/include -D_LARGEFILE_SOURCE -D_FILE_OFFSET_BITS=64 -D_FORTIFY_SOURCE=2',
optimize='-O2',
cppflags='-D_REENTRANT -D_GNU_SOURCE -O2 -pipe -Wall -Wextra -mtune=native -march=native -fwrapv -fno-strict-aliasing -fstack-protector-strong -I/usr/local/include'
ccversion='', gccversion='6.3.0 20170516', gccosandvers=''
intsize=4, longsize=8, ptrsize=8, doublesize=8, byteorder=12345678, doublekind=3
d_longlong=define, longlongsize=8, d_longdbl=define, longdblsize=16, longdblkind=3
ivtype='long', ivsize=8, nvtype='double', nvsize=8, Off_t='off_t', lseeksize=8
alignbytes=8, prototype=define
Linker and Libraries:
ld='cc', ldflags =' -fstack-protector-strong -L/usr/local/lib'
libpth=/usr/local/lib /usr/lib/gcc/x86_64-linux-gnu/6/include-fixed /usr/include/x86_64-linux-gnu /usr/lib /lib/x86_64-linux-gnu /lib/../lib /usr/lib/x86_64-linux-gnu /usr/lib/../lib /lib
libs=-lpthread -lnsl -ldl -lm -lcrypt -lutil -lc
perllibs=-lpthread -lnsl -ldl -lm -lcrypt -lutil -lc
libc=libc-2.24.so, so=so, useshrplib=false, libperl=libperl.a
gnulibc_version='2.24'
Dynamic Linking:
dlsrc=dl_dlopen.xs, dlext=so, d_dlsymun=undef, ccdlflags='-Wl,-E'
cccdlflags='-fPIC', lddlflags='-shared -O2 -L/usr/local/lib -fstack-protector-strong'
Characteristics of this binary (from libperl):
Compile-time options: HAS_TIMES MULTIPLICITY PERLIO_LAYERS
PERL_COPY_ON_WRITE PERL_DONT_CREATE_GVSV
PERL_HASH_FUNC_ONE_AT_A_TIME_HARD
PERL_IMPLICIT_CONTEXT PERL_MALLOC_WRAP
PERL_PRESERVE_IVUV PERL_USE_DEVEL USE_64_BIT_ALL
USE_64_BIT_INT USE_ITHREADS USE_LARGE_FILES
USE_LOCALE USE_LOCALE_COLLATE USE_LOCALE_CTYPE
USE_LOCALE_NUMERIC USE_LOCALE_TIME USE_PERLIO
USE_PERL_ATOF USE_REENTRANT_API
Locally applied patches:
Devel::PatchPerl 1.52
Built under linux
Compiled at Jan 19 2019 19:19:49
%ENV:
PERL5LIB="/tmp/build/Net-IPAM-Block-1.15-0/blib/arch:/tmp/build/Net-IPAM-Block-1.15-0/blib/lib:/tmp/build/Net-IPAM-IP-1.22-0/blib/arch:/tmp/build/Net-IPAM-IP-1.22-0/blib/lib:/tmp/build/Scalar-List-Utils-1.55-0/blib/arch:/tmp/build/Scalar-List-Utils-1.55-0/blib/lib:/tmp/build/List-MoreUtils-0.428-0/blib/arch:/tmp/build/List-MoreUtils-0.428-0/blib/lib:/tmp/build/Test-LeakTrace-0.16-0/blib/arch:/tmp/build/Test-LeakTrace-0.16-0/blib/lib:/tmp/build/List-MoreUtils-XS-0.428-0/blib/arch:/tmp/build/List-MoreUtils-XS-0.428-0/blib/lib:/tmp/build/Exporter-Tiny-1.002002-0/blib/arch:/tmp/build/Exporter-Tiny-1.002002-0/blib/lib"
PERL5OPT=""
PERL5_CPANPLUS_IS_RUNNING="37"
PERL5_CPAN_IS_RUNNING="37"
PERLBREW_HOME="/home/smoker/.perlbrew"
PERLBREW_MANPATH="/home/smoker/perl5/perlbrew/perls/perl-5.24.4-thread/man"
PERLBREW_PATH="/home/smoker/perl5/perlbrew/bin:/home/smoker/perl5/perlbrew/perls/perl-5.24.4-thread/bin"
PERLBREW_PERL="perl-5.24.4-thread"
PERLBREW_ROOT="/home/smoker/perl5/perlbrew"
PERLBREW_SHELLRC_VERSION="0.86"
PERLBREW_VERSION="0.86"
PERL_MM_USE_DEFAULT="1"
PERL_USE_UNSAFE_INC="1"
@INC:
/tmp/build/Net-IPAM-Block-1.15-0/blib/arch
/tmp/build/Net-IPAM-Block-1.15-0/blib/lib
/tmp/build/Net-IPAM-IP-1.22-0/blib/arch
/tmp/build/Net-IPAM-IP-1.22-0/blib/lib
/tmp/build/Scalar-List-Utils-1.55-0/blib/arch
/tmp/build/Scalar-List-Utils-1.55-0/blib/lib
/tmp/build/List-MoreUtils-0.428-0/blib/arch
/tmp/build/List-MoreUtils-0.428-0/blib/lib
/tmp/build/Test-LeakTrace-0.16-0/blib/arch
/tmp/build/Test-LeakTrace-0.16-0/blib/lib
/tmp/build/List-MoreUtils-XS-0.428-0/blib/arch
/tmp/build/List-MoreUtils-XS-0.428-0/blib/lib
/tmp/build/Exporter-Tiny-1.002002-0/blib/arch
/tmp/build/Exporter-Tiny-1.002002-0/blib/lib
/home/smoker/perl5/perlbrew/perls/perl-5.24.4-thread/lib/site_perl/5.24.4/x86_64-linux-thread-multi
/home/smoker/perl5/perlbrew/perls/perl-5.24.4-thread/lib/site_perl/5.24.4
/home/smoker/perl5/perlbrew/perls/perl-5.24.4-thread/lib/5.24.4/x86_64-linux-thread-multi
/home/smoker/perl5/perlbrew/perls/perl-5.24.4-thread/lib/5.24.4
.