FFI-Platypus v1.10 Perl 5 v5.30.2 x86_64-linux

Status
Pass
From
Dan Book
Dist
FFI-Platypus v1.10
Platform
Perl 5 v5.30.2 x86_64-linux
Date
2020-03-16 00:32:24
ID
9b140cb0-671d-11ea-95de-f265735959ec
This distribution has been tested as part of the CPAN Testers
project, supporting the Perl programming language.  See
http://wiki.cpantesters.org/ for more information or email
questions to cpan-testers-discuss@perl.org


--
Dear PLICEASE,

This is a computer-generated report for FFI-Platypus-1.10
on perl 5.30.2, created by App::cpanminus::reporter 0.17 (1.7044).

Thank you for uploading your work to CPAN.  Congratulations!
All tests were successful.

Sections of this report:

    * Tester comments
    * Program output
    * Prerequisites
    * Environment and other context

------------------------------
TESTER COMMENTS
------------------------------

Additional comments from tester:

none provided

------------------------------
PROGRAM OUTPUT
------------------------------

Output from '':

Building and testing FFI-Platypus-1.10
XX src/dlrun.c
XX bin/
CC src/dlrun.c
LD src/dlrun.o
VV bin/dlrun
UN src/dlrun.o
PR header."stdlib.h"=1
PR header."stdint.h"=1
PR header."sys/types.h"=1
PR header."sys/stat.h"=1
PR header."unistd.h"=1
PR header."alloca.h"=1
PR header."dlfcn.h"=1
PR header."limits.h"=1
PR header."stddef.h"=1
PR header."wchar.h"=1
PR header."signal.h"=1
PR header."inttypes.h"=1
PR header."windows.h"=0
PR header."sys/cygwin.h"=0
PR header."string.h"=1
PR header."psapi.h"=0
PR header."stdio.h"=1
PR header."stdbool.h"=1
PR header."complex.h"=1
PR type.char.align=1
PR type.char.sign=signed
PR type.char.size=1
PR type.signed char.align=1
PR type.signed char.sign=signed
PR type.signed char.size=1
PR type.unsigned char.align=1
PR type.unsigned char.sign=unsigned
PR type.unsigned char.size=1
PR type.short.align=2
PR type.short.sign=signed
PR type.short.size=2
PR type.signed short.align=2
PR type.signed short.sign=signed
PR type.signed short.size=2
PR type.unsigned short.align=2
PR type.unsigned short.sign=unsigned
PR type.unsigned short.size=2
PR type.int.align=4
PR type.int.sign=signed
PR type.int.size=4
PR type.signed int.align=4
PR type.signed int.sign=signed
PR type.signed int.size=4
PR type.unsigned int.align=4
PR type.unsigned int.sign=unsigned
PR type.unsigned int.size=4
PR type.long.align=8
PR type.long.sign=signed
PR type.long.size=8
PR type.signed long.align=8
PR type.signed long.sign=signed
PR type.signed long.size=8
PR type.unsigned long.align=8
PR type.unsigned long.sign=unsigned
PR type.unsigned long.size=8
PR type.uint8_t.align=1
PR type.uint8_t.sign=unsigned
PR type.uint8_t.size=1
PR type.int8_t.align=1
PR type.int8_t.sign=signed
PR type.int8_t.size=1
PR type.uint16_t.align=2
PR type.uint16_t.sign=unsigned
PR type.uint16_t.size=2
PR type.int16_t.align=2
PR type.int16_t.sign=signed
PR type.int16_t.size=2
PR type.uint32_t.align=4
PR type.uint32_t.sign=unsigned
PR type.uint32_t.size=4
PR type.int32_t.align=4
PR type.int32_t.sign=signed
PR type.int32_t.size=4
PR type.uint64_t.align=8
PR type.uint64_t.sign=unsigned
PR type.uint64_t.size=8
PR type.int64_t.align=8
PR type.int64_t.sign=signed
PR type.int64_t.size=8
PR type.size_t.align=8
PR type.size_t.sign=unsigned
PR type.size_t.size=8
PR type.ssize_t.align=8
PR type.ssize_t.sign=signed
PR type.ssize_t.size=8
PR type.float.align=4
PR type.float.size=4
PR type.double.align=8
PR type.double.size=8
PR type.long double.align=16
PR type.long double.size=16
PR type.float complex.align=4
PR type.float complex.size=8
PR type.double complex.align=8
PR type.double complex.size=16
PR type.long double complex.align=16
PR type.long double complex.size=32
PR type.bool.align=1
PR type.bool.sign=unsigned
PR type.bool.size=1
PR type._Bool.align=1
PR type._Bool.sign=unsigned
PR type._Bool.size=1
PR type.pointer.align=8
PR type.pointer.size=8
PR type.uintptr_t.align=8
PR type.uintptr_t.sign=unsigned
PR type.uintptr_t.size=8
PR type.intptr_t.align=8
PR type.intptr_t.sign=signed
PR type.intptr_t.size=8
PR type.enum.align=4
PR type.enum.sign=unsigned
PR type.enum.size=4
PR type.senum.align=4
PR type.senum.sign=signed
PR type.senum.size=4
PR type.long long.align=8
PR type.long long.sign=signed
PR type.long long.size=8
PR type.signed long long.align=8
PR type.signed long long.sign=signed
PR type.signed long long.size=8
PR type.unsigned long long.align=8
PR type.unsigned long long.sign=unsigned
PR type.unsigned long long.size=8
PR type.dev_t.align=8
PR type.dev_t.sign=unsigned
PR type.dev_t.size=8
PR type.ino_t.align=8
PR type.ino_t.sign=unsigned
PR type.ino_t.size=8
PR type.mode_t.align=4
PR type.mode_t.sign=unsigned
PR type.mode_t.size=4
PR type.nlink_t.align=8
PR type.nlink_t.sign=unsigned
PR type.nlink_t.size=8
PR type.uid_t.align=4
PR type.uid_t.sign=unsigned
PR type.uid_t.size=4
PR type.gid_t.align=4
PR type.gid_t.sign=unsigned
PR type.gid_t.size=4
PR type.off_t.align=8
PR type.off_t.sign=signed
PR type.off_t.size=8
PR type.blksize_t.align=8
PR type.blksize_t.sign=signed
PR type.blksize_t.size=8
PR type.blkcnt_t.align=8
PR type.blkcnt_t.sign=signed
PR type.blkcnt_t.size=8
PR type.time_t.align=8
PR type.time_t.sign=signed
PR type.time_t.size=8
PR type.ptrdiff_t.align=8
PR type.ptrdiff_t.sign=signed
PR type.ptrdiff_t.size=8
PR type.wchar_t.align=4
PR type.wchar_t.sign=signed
PR type.wchar_t.size=4
PR type.wint_t.align=4
PR type.wint_t.sign=unsigned
PR type.wint_t.size=4
PR probe.abi=1
PR probe.alloca=1
PR probe.complex=0
PR probe.longdouble=1
PR probe.recordvalue=1
PR probe.variadic=1
PR abi.sysv=1
PR abi.unix64=2
PR abi.thiscall=3
PR abi.fastcall=4
PR abi.stdcall=5
PR abi.default_abi=2
PR abi.unix64=2
cp lib/FFI/Build/File/CXX.pm blib/lib/FFI/Build/File/CXX.pm
cp lib/FFI/Platypus/Internal.pm blib/lib/FFI/Platypus/Internal.pm
cp lib/FFI/Platypus/Function.pm blib/lib/FFI/Platypus/Function.pm
cp lib/FFI/Build/MM.pm blib/lib/FFI/Build/MM.pm
cp lib/FFI/Platypus/Record/TieArray.pm blib/lib/FFI/Platypus/Record/TieArray.pm
cp lib/FFI/Probe.pm blib/lib/FFI/Probe.pm
cp lib/FFI/Platypus/API.pm blib/lib/FFI/Platypus/API.pm
cp lib/FFI/Platypus/Bundle.pm blib/lib/FFI/Platypus/Bundle.pm
cp lib/FFI/Platypus/Type/StringPointer.pm blib/lib/FFI/Platypus/Type/StringPointer.pm
cp lib/FFI/Platypus/Type/PointerSizeBuffer.pm blib/lib/FFI/Platypus/Type/PointerSizeBuffer.pm
cp lib/FFI/Platypus/DL.pm blib/lib/FFI/Platypus/DL.pm
cp lib/FFI/Platypus/Lang/Win32.pm blib/lib/FFI/Platypus/Lang/Win32.pm
cp lib/FFI/Platypus/Type.pm blib/lib/FFI/Platypus/Type.pm
cp lib/FFI/Platypus/TypeParser/Version0.pm blib/lib/FFI/Platypus/TypeParser/Version0.pm
cp lib/FFI/Probe/Runner/Builder.pm blib/lib/FFI/Probe/Runner/Builder.pm
cp lib/FFI/Platypus/TypeParser/Version1.pm blib/lib/FFI/Platypus/TypeParser/Version1.pm
cp lib/FFI/Platypus/Closure.pm blib/lib/FFI/Platypus/Closure.pm
cp lib/FFI/Build/Platform.pm blib/lib/FFI/Build/Platform.pm
cp lib/FFI/Build/File/Object.pm blib/lib/FFI/Build/File/Object.pm
cp lib/FFI/Platypus/Memory.pm blib/lib/FFI/Platypus/Memory.pm
cp lib/FFI/Platypus/Lang/ASM.pm blib/lib/FFI/Platypus/Lang/ASM.pm
cp lib/FFI/Probe/Runner/Result.pm blib/lib/FFI/Probe/Runner/Result.pm
cp lib/FFI/Platypus/Record.pm blib/lib/FFI/Platypus/Record.pm
cp lib/FFI/Platypus.pm blib/lib/FFI/Platypus.pm
cp lib/FFI/Build.pm blib/lib/FFI/Build.pm
cp lib/FFI/Platypus/Buffer.pm blib/lib/FFI/Platypus/Buffer.pm
cp lib/FFI/Build/File/Base.pm blib/lib/FFI/Build/File/Base.pm
cp lib/FFI/Platypus/Legacy.pm blib/lib/FFI/Platypus/Legacy.pm
cp lib/FFI/Platypus/Type/StringArray.pm blib/lib/FFI/Platypus/Type/StringArray.pm
cp lib/FFI/Build/File/Library.pm blib/lib/FFI/Build/File/Library.pm
cp lib/FFI/Platypus/TypeParser.pm blib/lib/FFI/Platypus/TypeParser.pm
cp lib/FFI/Probe/Runner.pm blib/lib/FFI/Probe/Runner.pm
cp lib/FFI/Platypus/Lang/C.pm blib/lib/FFI/Platypus/Lang/C.pm
cp lib/FFI/Platypus/Constant.pm blib/lib/FFI/Platypus/Constant.pm
cp lib/FFI/Platypus/Record/Meta.pm blib/lib/FFI/Platypus/Record/Meta.pm
cp lib/FFI/Platypus/ShareConfig.pm blib/lib/FFI/Platypus/ShareConfig.pm
cp lib/FFI/Platypus/Declare.pm blib/lib/FFI/Platypus/Declare.pm
cp lib/FFI/Platypus/Lang.pm blib/lib/FFI/Platypus/Lang.pm
cp lib/FFI/Build/File/C.pm blib/lib/FFI/Build/File/C.pm
cp lib/FFI/Temp.pm blib/lib/FFI/Temp.pm
cp lib/FFI/typemap blib/lib/FFI/typemap
Running Mkbootstrap for lib/FFI/Platypus ()
chmod 644 "lib/FFI/Platypus.bs"
"/home/grinnz/.plenv/versions/5.30.2/bin/perl5.30.2" -MExtUtils::Command::MM -e 'cp_nonempty' -- lib/FFI/Platypus.bs blib/arch/auto/FFI/Platypus/Platypus.bs 644
"/home/grinnz/.plenv/versions/5.30.2/bin/perl5.30.2" "/home/grinnz/.plenv/versions/5.30.2/lib/perl5/5.30.2/ExtUtils/xsubpp"  -typemap '/home/grinnz/.plenv/versions/5.30.2/lib/perl5/5.30.2/ExtUtils/typemap'  lib/FFI/Platypus.xs > lib/FFI/Platypus.xsc
mv lib/FFI/Platypus.xsc lib/FFI/Platypus.c
"/home/grinnz/.plenv/versions/5.30.2/bin/perl5.30.2" "/home/grinnz/.plenv/versions/5.30.2/lib/perl5/5.30.2/ExtUtils/xsubpp"  -typemap '/home/grinnz/.plenv/versions/5.30.2/lib/perl5/5.30.2/ExtUtils/typemap' lib/FFI/Platypus.xs > lib/FFI/Platypus.xsc
mv lib/FFI/Platypus.xsc lib/FFI/Platypus.c
cc -c  -Iinclude \
-fwrapv -fno-strict-aliasing -pipe -fstack-protector-strong -I/usr/local/include -D_LARGEFILE_SOURCE -D_FILE_OFFSET_BITS=64 -D_FORTIFY_SOURCE=2 -O2 \
  -DVERSION=\"1.10\" \
-DXS_VERSION=\"1.10\" -fPIC "-I/home/grinnz/.plenv/versions/5.30.2/lib/perl5/5.30.2/x86_64-linux/CORE"   lib/FFI/Platypus.c -o lib/FFI/Platypus.o
cc -c  -Iinclude -fwrapv -fno-strict-aliasing -pipe -fstack-protector-strong -I/usr/local/include -D_LARGEFILE_SOURCE -D_FILE_OFFSET_BITS=64 -D_FORTIFY_SOURCE=2 -O2   -DVERSION=\"1.10\" -DXS_VERSION=\"1.10\" -fPIC "-I/home/grinnz/.plenv/versions/5.30.2/lib/perl5/5.30.2/x86_64-linux/CORE"   xs/cast.c -o xs/cast.o
cc -c  -Iinclude -fwrapv -fno-strict-aliasing -pipe -fstack-protector-strong -I/usr/local/include -D_LARGEFILE_SOURCE -D_FILE_OFFSET_BITS=64 -D_FORTIFY_SOURCE=2 -O2   -DVERSION=\"1.10\" -DXS_VERSION=\"1.10\" -fPIC "-I/home/grinnz/.plenv/versions/5.30.2/lib/perl5/5.30.2/x86_64-linux/CORE"   xs/closure.c -o xs/closure.o
cc -c  -Iinclude -fwrapv -fno-strict-aliasing -pipe -fstack-protector-strong -I/usr/local/include -D_LARGEFILE_SOURCE -D_FILE_OFFSET_BITS=64 -D_FORTIFY_SOURCE=2 -O2   -DVERSION=\"1.10\" -DXS_VERSION=\"1.10\" -fPIC "-I/home/grinnz/.plenv/versions/5.30.2/lib/perl5/5.30.2/x86_64-linux/CORE"   xs/complex.c -o xs/complex.o
cc -c  -Iinclude -fwrapv -fno-strict-aliasing -pipe -fstack-protector-strong -I/usr/local/include -D_LARGEFILE_SOURCE -D_FILE_OFFSET_BITS=64 -D_FORTIFY_SOURCE=2 -O2   -DVERSION=\"1.10\" -DXS_VERSION=\"1.10\" -fPIC "-I/home/grinnz/.plenv/versions/5.30.2/lib/perl5/5.30.2/x86_64-linux/CORE"   xs/custom.c -o xs/custom.o
cc -c  -Iinclude -fwrapv -fno-strict-aliasing -pipe -fstack-protector-strong -I/usr/local/include -D_LARGEFILE_SOURCE -D_FILE_OFFSET_BITS=64 -D_FORTIFY_SOURCE=2 -O2   -DVERSION=\"1.10\" -DXS_VERSION=\"1.10\" -fPIC "-I/home/grinnz/.plenv/versions/5.30.2/lib/perl5/5.30.2/x86_64-linux/CORE"   xs/meta.c -o xs/meta.o
cc -c  -Iinclude -fwrapv -fno-strict-aliasing -pipe -fstack-protector-strong -I/usr/local/include -D_LARGEFILE_SOURCE -D_FILE_OFFSET_BITS=64 -D_FORTIFY_SOURCE=2 -O2   -DVERSION=\"1.10\" -DXS_VERSION=\"1.10\" -fPIC "-I/home/grinnz/.plenv/versions/5.30.2/lib/perl5/5.30.2/x86_64-linux/CORE"   xs/names.c -o xs/names.o
cc -c  -Iinclude -fwrapv -fno-strict-aliasing -pipe -fstack-protector-strong -I/usr/local/include -D_LARGEFILE_SOURCE -D_FILE_OFFSET_BITS=64 -D_FORTIFY_SOURCE=2 -O2   -DVERSION=\"1.10\" -DXS_VERSION=\"1.10\" -fPIC "-I/home/grinnz/.plenv/versions/5.30.2/lib/perl5/5.30.2/x86_64-linux/CORE"   xs/perl_math_int64.c -o xs/perl_math_int64.o
cc -c  -Iinclude -fwrapv -fno-strict-aliasing -pipe -fstack-protector-strong -I/usr/local/include -D_LARGEFILE_SOURCE -D_FILE_OFFSET_BITS=64 -D_FORTIFY_SOURCE=2 -O2   -DVERSION=\"1.10\" -DXS_VERSION=\"1.10\" -fPIC "-I/home/grinnz/.plenv/versions/5.30.2/lib/perl5/5.30.2/x86_64-linux/CORE"   xs/record_opaque.c -o xs/record_opaque.o
cc -c  -Iinclude -fwrapv -fno-strict-aliasing -pipe -fstack-protector-strong -I/usr/local/include -D_LARGEFILE_SOURCE -D_FILE_OFFSET_BITS=64 -D_FORTIFY_SOURCE=2 -O2   -DVERSION=\"1.10\" -DXS_VERSION=\"1.10\" -fPIC "-I/home/grinnz/.plenv/versions/5.30.2/lib/perl5/5.30.2/x86_64-linux/CORE"   xs/record_simple.c -o xs/record_simple.o
cc -c  -Iinclude -fwrapv -fno-strict-aliasing -pipe -fstack-protector-strong -I/usr/local/include -D_LARGEFILE_SOURCE -D_FILE_OFFSET_BITS=64 -D_FORTIFY_SOURCE=2 -O2   -DVERSION=\"1.10\" -DXS_VERSION=\"1.10\" -fPIC "-I/home/grinnz/.plenv/versions/5.30.2/lib/perl5/5.30.2/x86_64-linux/CORE"   xs/record_string.c -o xs/record_string.o
cc -c  -Iinclude -fwrapv -fno-strict-aliasing -pipe -fstack-protector-strong -I/usr/local/include -D_LARGEFILE_SOURCE -D_FILE_OFFSET_BITS=64 -D_FORTIFY_SOURCE=2 -O2   -DVERSION=\"1.10\" -DXS_VERSION=\"1.10\" -fPIC "-I/home/grinnz/.plenv/versions/5.30.2/lib/perl5/5.30.2/x86_64-linux/CORE"   xs/windl.c -o xs/windl.o
rm -f blib/arch/auto/FFI/Platypus/Platypus.so
LD_RUN_PATH="/lib/../lib64" cc  -shared -O2 -L/usr/local/lib -fstack-protector-strong  lib/FFI/Platypus.o xs/cast.o xs/closure.o xs/complex.o xs/custom.o xs/meta.o xs/names.o xs/perl_math_int64.o xs/record_opaque.o xs/record_simple.o xs/record_string.o xs/windl.o  -o blib/arch/auto/FFI/Platypus/Platypus.so  \
   -lffi   \
  
chmod 755 blib/arch/auto/FFI/Platypus/Platypus.so
CC ffi/constant.c
CC ffi/memory.c
CC ffi/record_meta.c
LD blib/lib/auto/share/dist/FFI-Platypus/lib/libplfill.so
Manifying 33 pod documents
Manifying 7 pod documents
"/home/grinnz/.plenv/versions/5.30.2/bin/perl5.30.2" -MExtUtils::Command::MM -e 'cp_nonempty' -- lib/FFI/Platypus.bs blib/arch/auto/FFI/Platypus/Platypus.bs 644
CC t/ffi/align.c
CC t/ffi/align_array.c
CC t/ffi/align_fixed.c
CC t/ffi/align_string.c
CC t/ffi/basic.c
CC t/ffi/closure.c
CC t/ffi/color.c
CC t/ffi/complex_double.c
CC t/ffi/complex_float.c
CC t/ffi/double.c
CC t/ffi/float.c
CC t/ffi/gh117.c
CC t/ffi/gh174.c
CC t/ffi/longdouble.c
CC t/ffi/memcmp4.c
CC t/ffi/meta.c
CC t/ffi/pointer.c
CC t/ffi/record.c
CC t/ffi/sint16.c
CC t/ffi/sint32.c
CC t/ffi/sint64.c
CC t/ffi/sint8.c
CC t/ffi/string.c
CC t/ffi/string_array.c
CC t/ffi/uint16.c
CC t/ffi/uint32.c
CC t/ffi/uint64.c
CC t/ffi/uint8.c
CC t/ffi/variadic.c
LD t/ffi/libtest.so
PERL_DL_NONLAZY=1 "/home/grinnz/.plenv/versions/5.30.2/bin/perl5.30.2" "-MExtUtils::Command::MM" "-MTest::Harness" "-e" "undef *Test::Harness::Switches; test_harness(0, 'blib/lib', 'blib/arch')" t/*.t
# 
# 
# 
# HARNESS_ACTIVE=1
# HARNESS_VERSION=3.42
# LANG=en_US.UTF-8
# PERL5LIB=/home/grinnz/.cpanm/work/1584311972.31109/FFI-Platypus-1.10/blib/lib:/home/grinnz/.cpanm/work/1584311972.31109/FFI-Platypus-1.10/blib/arch
# PERL_DL_NONLAZY=1
# PERL_MM_USE_DEFAULT=1
# PERL_USE_UNSAFE_INC=1
# SHELL=/usr/bin/fish
# 
# 
# 
# PERL5LIB path
# /home/grinnz/.cpanm/work/1584311972.31109/FFI-Platypus-1.10/blib/lib
# /home/grinnz/.cpanm/work/1584311972.31109/FFI-Platypus-1.10/blib/arch
# 
# 
# 
# perl                5.030002
# Alien::Base         2.14
# Capture::Tiny       0.48
# Devel::Hide         0.0013
# ExtUtils::CBuilder  0.280231
# ExtUtils::MakeMaker 7.44
# ExtUtils::ParseXS   3.40
# FFI::CheckLib       0.26
# IPC::Cmd            1.02
# JSON::PP            4.02
# List::Util          1.5
# Math::LongDouble    -
# PkgConfig           -
# Test::More          1.302162
# constant            1.33
# forks               -
# 
# 
# 
# mode : already-installed
# Alien::FFI->VERSION      = 0.25
# Alien::FFI->install_type = system
# Alien::FFI->cflags       =  
# Alien::FFI->libs         = -lffi 
# Alien::FFI->version      = 3.1
# 
# 
# 
# ffi.platypus.memory.strdup_impl =libc
# ffi.platypus.memory.strndup_impl=libc
# 
# 
# 
# Types:
#   double   : double, float complex
#   float    : float
#   longdouble : double complex, long double, long double complex
#   sint16   : int16_t, short, signed short
#   sint32   : int, int32_t, senum, signed int, wchar_t
#   sint64   : blkcnt_t, blksize_t, int64_t, intptr_t, long, long long, off_t, ptrdiff_t, signed long, signed long long, ssize_t, time_t
#   sint8    : char, int8_t, signed char
#   uint16   : uint16_t, unsigned short, ushort
#   uint32   : enum, gid_t, mode_t, uid_t, uint, uint32_t, unsigned int, wint_t
#   uint64   : dev_t, ino_t, nlink_t, size_t, uint64_t, uintptr_t, ulong, unsigned long, unsigned long long
#   uint8    : bool, uchar, uint8_t, unsigned char
# 
# 
# 
# ABIs:
#   default_abi          2
#   fastcall             4
#   stdcall              5
#   sysv                 1
#   thiscall             3
#   unix64               2
# 
# 
# 
# Probes:
#   abi                  1
#   bigendian64          0
#   variadic             1
#   alloca               1
#   recordvalue          1
#   bigendian            0
#   longdouble           1
# 
# 
# 
# CPU Info:
#   model name	: AMD FX(tm)-6200 Six-Core Processor
#   flags		: fpu vme de pse tsc msr pae mce cx8 apic sep mtrr pge mca cmov pat pse36 clflush mmx fxsr sse sse2 ht syscall nx mmxext fxsr_opt pdpe1gb rdtscp lm constant_tsc rep_good nopl nonstop_tsc cpuid extd_apicid aperfmperf pni pclmulqdq monitor ssse3 cx16 sse4_1 sse4_2 popcnt aes xsave avx lahf_lm cmp_legacy svm extapic cr8_legacy abm sse4a misalignsse 3dnowprefetch osvw ibs xop skinit wdt fma4 nodeid_msr topoext perfctr_core perfctr_nb cpb hw_pstate ssbd ibpb vmmcall arat npt lbrv svm_lock nrip_save tsc_scale vmcb_clean flushbyasid decodeassists pausefilter pfthreshold
#   address sizes	: 48 bits physical, 48 bits virtual
# 
# 
# 
# LSB Version:	:core-4.1-amd64:core-4.1-noarch:cxx-4.1-amd64:cxx-4.1-noarch:desktop-4.1-amd64:desktop-4.1-noarch:languages-4.1-amd64:languages-4.1-noarch:printing-4.1-amd64:printing-4.1-noarch
# Distributor ID:	Fedora
# Description:	Fedora release 30 (Thirty)
# Release:	30
# Codename:	Thirty
# 
# 
# 
# [PLATFORM]
# osname            : linux
# cc                : cc
# cxx               : c++
# for               : ---
# ld                : cc
# ccflags           : -fPIC -fwrapv -fno-strict-aliasing -pipe -fstack-protector-strong -I/usr/local/include -D_LARGEFILE_SOURCE -D_FILE_OFFSET_BITS=64 -D_FORTIFY_SOURCE=2 -O2 -I/home/grinnz/.cpanm/work/1584311972.31109/FFI-Platypus-1.10/blib/lib/auto/share/dist/FFI-Platypus/include
# ldflags           : -shared -O2 -L/usr/local/lib -fstack-protector-strong
# object suffix     : .o
# library prefix    : lib
# library suffix    : .so
# cc mm works       : -MM
# 
# 
# 
t/00_diag.t .............................. ok
t/01_use.t ............................... ok
t/ffi_build.t ............................ ok
t/ffi_build_file_base.t .................. ok
t/ffi_build_file_c.t ..................... ok
t/ffi_build_file_cxx.t ................... ok
t/ffi_build_file_library.t ............... ok
t/ffi_build_file_object.t ................ ok
t/ffi_build_mm.t ......................... ok
t/ffi_build_platform.t ................... ok
t/ffi_platypus.t ......................... ok
t/ffi_platypus_api.t ..................... ok
t/ffi_platypus_buffer.t .................. ok
t/ffi_platypus_bundle.t .................. ok
t/ffi_platypus_closure.t ................. ok
t/ffi_platypus_constant.t ................ ok
t/ffi_platypus_declare.t ................. ok
t/ffi_platypus_dl.t ...................... ok
t/ffi_platypus_function.t ................ ok
t/ffi_platypus_function_wrapper.t ........ ok
t/ffi_platypus_internal.t ................ ok
t/ffi_platypus_lang.t .................... ok
t/ffi_platypus_lang_asm.t ................ ok
t/ffi_platypus_lang_c.t .................. ok
t/ffi_platypus_lang_win32.t .............. ok
t/ffi_platypus_legacy.t .................. ok
t/ffi_platypus_memory.t .................. ok
t/ffi_platypus_record.t .................. ok
t/ffi_platypus_record_meta.t ............. ok
t/ffi_platypus_record_tiearray.t ......... ok
t/ffi_platypus_shareconfig.t ............. ok
t/ffi_platypus_type.t .................... ok
t/ffi_platypus_type_pointersizebuffer.t .. ok
t/ffi_platypus_type_stringarray.t ........ ok
t/ffi_platypus_type_stringpointer.t ...... ok
t/ffi_platypus_typeparser.t .............. ok
t/ffi_platypus_typeparser_version0.t ..... ok
t/ffi_platypus_typeparser_version1.t ..... ok
t/ffi_probe.t ............................ ok
t/ffi_probe_runner.t ..................... ok
t/ffi_probe_runner_builder.t ............. ok
t/ffi_probe_runner_result.t .............. ok
t/ffi_temp.t ............................. ok
t/forks.t ................................ skipped: Test requires forks
t/gh117.t ................................ ok
t/gh129.t ................................ ok
t/memory.t ............................... skipped: tested only in CI
t/threads.t .............................. skipped: Test requires a threading Perl
t/type_complex_double.t .................. skipped: Test requires support for double complex
t/type_complex_float.t ................... skipped: Test requires support for float complex
t/type_custom.t .......................... ok
t/type_double.t .......................... ok
t/type_float.t ........................... ok
t/type_longdouble.t ...................... ok
t/type_longdouble__array.t ............... ok
t/type_longdouble__hide.t ................ ok
t/type_longdouble__ptr.t ................. ok
t/type_opaque.t .......................... ok
t/type_record.t .......................... ok
t/type_record_value.t .................... ok
t/type_sint16.t .......................... ok
t/type_sint32.t .......................... ok
t/type_sint64.t .......................... ok
t/type_sint8.t ........................... ok
t/type_string.t .......................... ok
t/type_uint16.t .......................... ok
t/type_uint32.t .......................... ok
t/type_uint64.t .......................... ok
t/type_uint8.t ........................... ok
All tests successful.
Files=69, Tests=340, 17 wallclock secs ( 0.58 usr  0.15 sys + 14.60 cusr  2.27 csys = 17.60 CPU)
Result: PASS

------------------------------
PREREQUISITES
------------------------------

Prerequisite modules loaded:

    No requirements found

------------------------------
ENVIRONMENT AND OTHER CONTEXT
------------------------------

Environment variables:

    LANG = en_US.UTF-8
    PATH = /home/grinnz/.plenv/versions/5.30.2/bin:/home/grinnz/.plenv/libexec:/home/grinnz/.plenv/plugins/perl-build/bin:/home/grinnz/.plenv/plugins/plenv-contrib/bin:/home/grinnz/.plenv/shims:/home/grinnz/.plenv/bin:/usr/local/cuda/bin:/home/grinnz/.plenv/bin:/usr/local/cuda/bin:/usr/local/bin:/usr/bin:/usr/local/sbin:/usr/sbin
    SHELL = /usr/bin/fish
    TERM = screen

Perl special variables (and OS-specific diagnostics, for MSWin32):

    EGID = 1000 10 26 135 974 1000
    EUID = 1000
    EXECUTABLE_NAME = /home/grinnz/.plenv/versions/5.30.2/bin/perl5.30.2
    GID = 1000 10 26 135 974 1000
    UID = 1000

Perl module toolchain versions installed:

    Module              Have    
    ------------------- --------
    CPAN                2.22    
    CPAN::Meta          2.150010
    Cwd                 3.78    
    ExtUtils::CBuilder  0.280231
    ExtUtils::Command   7.44    
    ExtUtils::Install   2.14    
    ExtUtils::MakeMaker 7.44    
    ExtUtils::Manifest  1.72    
    ExtUtils::ParseXS   3.40    
    File::Spec          3.78    
    JSON                4.02    
    JSON::PP            4.04    
    Module::Build       0.4231  
    Module::Signature   0.83    
    Parse::CPAN::Meta   2.150010
    Test::Harness       3.42    
    Test::More          1.302172
    YAML                1.30    
    YAML::Syck          n/a     
    version             0.9924  


--

Summary of my perl5 (revision 5 version 30 subversion 2) configuration:
   
  Platform:
    osname=linux
    osvers=5.5.8-100.fc30.x86_64
    archname=x86_64-linux
    uname='linux home.grinnz.com 5.5.8-100.fc30.x86_64 #1 smp thu mar 5 21:55:51 utc 2020 x86_64 x86_64 x86_64 gnulinux '
    config_args='-Dprefix=/home/grinnz/.plenv/versions/5.30.2 -de -Dversiononly -A'eval:scriptdir=/home/grinnz/.plenv/versions/5.30.2/bin''
    hint=recommended
    useposix=true
    d_sigaction=define
    useithreads=undef
    usemultiplicity=undef
    use64bitint=define
    use64bitall=define
    uselongdouble=undef
    usemymalloc=n
    default_inc_excludes_dot=define
    bincompat5005=undef
  Compiler:
    cc='cc'
    ccflags ='-fwrapv -fno-strict-aliasing -pipe -fstack-protector-strong -I/usr/local/include -D_LARGEFILE_SOURCE -D_FILE_OFFSET_BITS=64 -D_FORTIFY_SOURCE=2'
    optimize='-O2'
    cppflags='-fwrapv -fno-strict-aliasing -pipe -fstack-protector-strong -I/usr/local/include'
    ccversion=''
    gccversion='9.2.1 20190827 (Red Hat 9.2.1-1)'
    gccosandvers=''
    intsize=4
    longsize=8
    ptrsize=8
    doublesize=8
    byteorder=12345678
    doublekind=3
    d_longlong=define
    longlongsize=8
    d_longdbl=define
    longdblsize=16
    longdblkind=3
    ivtype='long'
    ivsize=8
    nvtype='double'
    nvsize=8
    Off_t='off_t'
    lseeksize=8
    alignbytes=8
    prototype=define
  Linker and Libraries:
    ld='cc'
    ldflags =' -fstack-protector-strong -L/usr/local/lib'
    libpth=/usr/local/lib /usr/lib /lib/../lib64 /usr/lib/../lib64 /lib /lib64 /usr/lib64 /usr/local/lib64
    libs=-lpthread -lgdbm -ldb -ldl -lm -lcrypt -lutil -lc -lgdbm_compat
    perllibs=-lpthread -ldl -lm -lcrypt -lutil -lc
    libc=libc-2.29.so
    so=so
    useshrplib=false
    libperl=libperl.a
    gnulibc_version='2.29'
  Dynamic Linking:
    dlsrc=dl_dlopen.xs
    dlext=so
    d_dlsymun=undef
    ccdlflags='-Wl,-E'
    cccdlflags='-fPIC'
    lddlflags='-shared -O2 -L/usr/local/lib -fstack-protector-strong'


Characteristics of this binary (from libperl): 
  Compile-time options:
    HAS_TIMES
    PERLIO_LAYERS
    PERL_COPY_ON_WRITE
    PERL_DONT_CREATE_GVSV
    PERL_MALLOC_WRAP
    PERL_OP_PARENT
    PERL_PRESERVE_IVUV
    USE_64_BIT_ALL
    USE_64_BIT_INT
    USE_LARGE_FILES
    USE_LOCALE
    USE_LOCALE_COLLATE
    USE_LOCALE_CTYPE
    USE_LOCALE_NUMERIC
    USE_LOCALE_TIME
    USE_PERLIO
    USE_PERL_ATOF
  Locally applied patches:
    Devel::PatchPerl 1.52
  Built under linux
  Compiled at Mar 15 2020 17:28:52
  @INC:
    /home/grinnz/.plenv/versions/5.30.2/lib/perl5/site_perl/5.30.2/x86_64-linux
    /home/grinnz/.plenv/versions/5.30.2/lib/perl5/site_perl/5.30.2
    /home/grinnz/.plenv/versions/5.30.2/lib/perl5/5.30.2/x86_64-linux
    /home/grinnz/.plenv/versions/5.30.2/lib/perl5/5.30.2