PPI v1.278 Perl 5 v5.38.0 RC1 MSWin32-x64-multi-thread
- Status
- Pass
- From
- twata
- Dist
-
PPI v1.278
- Platform
- Perl 5 v5.38.0 RC1 MSWin32-x64-multi-thread
- Date
- 2024-03-11 19:08:07
- ID
- 9ad7b59c-71ca-1014-8205-ea46cb952333
This distribution has been tested as part of the CPAN Testers
project, supporting the Perl programming language. See
http://wiki.cpantesters.org/ for more information or email
questions to cpan-testers-discuss@perl.org
--
Dear Olaf Alders,
This is a computer-generated report for PPI-1.278
on perl 5.38.0, created by CPAN-Reporter-1.2019.
Thank you for uploading your work to CPAN. Congratulations!
All tests were successful.
Sections of this report:
* Tester comments
* Program output
* Prerequisites
* Environment and other context
------------------------------
TESTER COMMENTS
------------------------------
Additional comments from tester:
none provided
------------------------------
PROGRAM OUTPUT
------------------------------
Output from '"C:\Program Files\Microsoft Visual Studio\2022\Community\VC\Tools\MSVC\14.33.31629\bin\Hostx64\x64\nmake.exe" test':
Microsoft (R) Program Maintenance Utility Version 14.33.31630.0
Copyright (C) Microsoft Corporation. All rights reserved.
"C:\perl64\5.38.0rc1\bin\perl.exe" "-MExtUtils::Command::MM" "-MTest::Harness" "-e" "undef *Test::Harness::Switches; test_harness(0, 'blib\lib', 'blib\arch')" t\*.t
#
# Versions for all modules listed in MYMETA.json (including optional ones):
#
# === Configure Requires ===
#
# Module Want Have
# ------------------- ---- ----
# ExtUtils::MakeMaker any 7.70
#
# === Build Requires ===
#
# Module Want Have
# ------------------- ---- ----
# ExtUtils::MakeMaker any 7.70
#
# === Test Requires ===
#
# Module Want Have
# --------------------- ---- --------
# B any 1.88
# Class::Inspector 1.22 1.36
# Encode any 3.21
# ExtUtils::MakeMaker any 7.70
# File::Copy any 2.41
# File::Spec any 3.88
# File::Spec::Functions any 3.88
# File::Temp any 0.2311
# Test::More 0.96 1.302194
# Test::NoWarnings any 1.06
# Test::Object 0.07 0.08
# Test::SubCalls 1.07 1.10
# lib any 0.65
# parent any 0.241
# utf8 any 1.25
# warnings any 1.65
#
# === Test Recommends ===
#
# Module Want Have
# ---------- -------- --------
# CPAN::Meta 2.120900 2.150010
#
# === Runtime Requires ===
#
# Module Want Have
# ------------ ------ --------
# Carp any 1.54
# Clone 0.30 0.46
# Digest::MD5 2.35 2.58_01
# Exporter any 5.77
# File::Path any 2.18
# File::Spec 3.2701 3.88
# List::Util 1.33 1.63
# Params::Util 1.00 1.102
# Scalar::Util any 1.63
# Storable 2.17 3.32
# Task::Weaken any 1.06
# constant any 1.33
# if any 0.0610
# overload any 1.37
# perl 5.006 5.038000
# strict any 1.12
#
t\00-report-prereqs.t ............ ok
t\01_compile.t ................... ok
t\03_document.t .................. ok
t\04_element.t ................... ok
t\05_lexer.t ..................... ok
t\06_round_trip.t ................ ok
t\07_token.t ..................... ok
t\08_regression.t ................ ok
t\09_normal.t .................... ok
t\10_statement.t ................. ok
t\11_util.t ...................... ok
t\12_location.t .................. ok
t\13_data.t ...................... ok
t\14_charsets.t .................. ok
t\15_transform.t ................. ok
t\16_xml.t ....................... ok
t\17_storable.t .................. ok
t\18_cache.t ..................... ok
t\19_selftesting.t ............... ok
t\21_exhaustive.t ................ ok
t\22_readonly.t .................. ok
t\23_file.t ...................... ok
t\24_v6.t ........................ ok
t\25_increment.t ................. ok
t\26_bom.t ....................... ok
t\27_complete.t .................. ok
t\28_foreach_qw.t ................ ok
t\29_logical_filename.t .......... ok
t\interactive.t .................. ok
t\marpa.t ........................ ok
t\ppi_element.t .................. ok
t\ppi_element_replace.t .......... ok
t\ppi_lexer.t .................... ok
t\ppi_node.t ..................... ok
t\ppi_normal.t ................... ok
t\ppi_statement.t ................ ok
t\ppi_statement_compound.t ....... ok
t\ppi_statement_include.t ........ ok
t\ppi_statement_package.t ........ ok
t\ppi_statement_scheduled.t ...... ok
t\ppi_statement_sub.t ............ ok
t\ppi_statement_variable.t ....... ok
t\ppi_token.t .................... ok
t\ppi_token__quoteengine_full.t .. ok
t\ppi_token_attribute.t .......... ok
t\ppi_token_dashedword.t ......... ok
t\ppi_token_heredoc.t ............ ok
t\ppi_token_magic.t .............. ok
t\ppi_token_number_version.t ..... ok
t\ppi_token_operator.t ........... ok
t\ppi_token_pod.t ................ ok
t\ppi_token_prototype.t .......... ok
t\ppi_token_quote.t .............. ok
t\ppi_token_quote_double.t ....... ok
t\ppi_token_quote_interpolate.t .. ok
t\ppi_token_quote_literal.t ...... ok
t\ppi_token_quote_single.t ....... ok
t\ppi_token_quotelike_regexp.t ... ok
t\ppi_token_quotelike_words.t .... ok
t\ppi_token_regexp.t ............. ok
t\ppi_token_structure.t .......... ok
t\ppi_token_symbol.t ............. ok
t\ppi_token_unknown.t ............ ok
t\ppi_token_whitespace.t ......... ok
t\ppi_token_word.t ............... ok
t\signatures.t ................... ok
All tests successful.
Files=66, Tests=52775, 72 wallclock secs ( 8.53 usr + 0.67 sys = 9.20 CPU)
Result: PASS
------------------------------
PREREQUISITES
------------------------------
Prerequisite modules loaded:
requires:
Module Need Have
--------------------- -------- --------
Carp 0 1.54
Clone 0.30 0.46
constant 0 1.33
Digest::MD5 2.35 2.58_01
Exporter 0 5.77
File::Path 0 2.18
File::Spec 3.2701 3.88
if 0 0.0610
List::Util 1.33 1.63
overload 0 1.37
Params::Util 1.00 1.102
perl 5.006 5.038000
Scalar::Util 0 1.63
Storable 2.17 3.32
strict 0 1.12
Task::Weaken 0 1.06
build_requires:
Module Need Have
--------------------- -------- --------
B 0 1.88
Class::Inspector 1.22 1.36
Encode 0 3.21
ExtUtils::MakeMaker 0 7.70
File::Copy 0 2.41
File::Spec 0 3.88
File::Spec::Functions 0 3.88
File::Temp 0 0.2311
lib 0 0.65
parent 0 0.241
Test::More 0.96 1.302194
Test::NoWarnings 0 1.06
Test::Object 0.07 0.08
Test::SubCalls 1.07 1.10
utf8 0 1.25
warnings 0 1.65
configure_requires:
Module Need Have
--------------------- -------- --------
ExtUtils::MakeMaker 0 7.70
opt_build_requires:
Module Need Have
--------------------- -------- --------
CPAN::Meta 2.120900 2.150010
------------------------------
ENVIRONMENT AND OTHER CONTEXT
------------------------------
Environment variables:
COMSPEC = C:\WINDOWS\system32\cmd.exe
INCLUDE = C:\Program Files\Microsoft Visual Studio\2022\Community\VC\Tools\MSVC\14.33.31629\include;C:\Program Files\Microsoft Visual Studio\2022\Community\VC\Tools\MSVC\14.33.31629\ATLMFC\include;C:\Program Files\Microsoft Visual Studio\2022\Community\VC\Auxiliary\VS\include;C:\Program Files (x86)\Windows Kits\10\include\10.0.19041.0\ucrt;C:\Program Files (x86)\Windows Kits\10\\include\10.0.19041.0\\um;C:\Program Files (x86)\Windows Kits\10\\include\10.0.19041.0\\shared;C:\Program Files (x86)\Windows Kits\10\\include\10.0.19041.0\\winrt;C:\Program Files (x86)\Windows Kits\10\\include\10.0.19041.0\\cppwinrt;C:\perl64\local\include
LC_ALL = C
LIB = C:\Program Files\Microsoft Visual Studio\2022\Community\VC\Tools\MSVC\14.33.31629\ATLMFC\lib\x64;C:\Program Files\Microsoft Visual Studio\2022\Community\VC\Tools\MSVC\14.33.31629\lib\x64;C:\Program Files (x86)\Windows Kits\10\lib\10.0.19041.0\ucrt\x64;C:\Program Files (x86)\Windows Kits\10\\lib\10.0.19041.0\\um\x64
NONINTERACTIVE_TESTING = 1
NUMBER_OF_PROCESSORS = 4
PATH = C:\home\mountain5380rc1\perl5\bin;C:\perl64\5.38.0rc1\bin;C:\build-openssl\bin;C:\Program Files\Microsoft Visual Studio\2022\Community\VC\Tools\MSVC\14.33.31629\bin\HostX64\x64;C:\Program Files\Microsoft Visual Studio\2022\Community\Common7\IDE\VC\VCPackages;C:\Program Files\Microsoft Visual Studio\2022\Community\Common7\IDE\CommonExtensions\Microsoft\TestWindow;C:\Program Files\Microsoft Visual Studio\2022\Community\Common7\IDE\CommonExtensions\Microsoft\TeamFoundation\Team Explorer;C:\Program Files\Microsoft Visual Studio\2022\Community\MSBuild\Current\bin\Roslyn;C:\Program Files\Microsoft Visual Studio\2022\Community\Team Tools\Performance Tools\x64;C:\Program Files\Microsoft Visual Studio\2022\Community\Team Tools\Performance Tools;C:\Program Files (x86)\Windows Kits\10\bin\10.0.19041.0\\x64;C:\Program Files (x86)\Windows Kits\10\bin\\x64;C:\Program Files\Microsoft Visual Studio\2022\Community\\MSBuild\Current\Bin\amd64;C:\Windows\Microsoft.NET\Framework64\v4.0.30319;C:\Program Files\Microsoft Visual Studio\2022\Community\Common7\IDE\;C:\Program Files\Microsoft Visual Studio\2022\Community\Common7\Tools\;C:\Program Files (x86)\Windows Resource Kits\Tools\;C:\WINDOWS\system32;C:\WINDOWS;C:\WINDOWS\System32\Wbem;C:\WINDOWS\System32\WindowsPowerShell\v1.0\;C:\Program Files\Microsoft Visual Studio\2022\Community\Common7\IDE\CommonExtensions\Microsoft\CMake\CMake\bin;C:\Program Files\Microsoft Visual Studio\2022\Community\Common7\IDE\CommonExtensions\Microsoft\CMake\Ninja;C:\Program Files\Microsoft Visual Studio\2022\Community\Common7\IDE\VC\Linux\bin\ConnectionManagerExe
PERL5LIB = C:\home\mountain5380rc1\perl5\lib\perl5
PERL5OPT =
PERL5_CPANPLUS_IS_RUNNING = 1748
PERL5_CPAN_IS_RUNNING = 1748
PERL_LOCAL_LIB_ROOT = C:\home\mountain5380rc1\perl5
PERL_MB_OPT = --install_base "C:\\home\\mountain5380rc1\\perl5"
PERL_MM_OPT = INSTALL_BASE=C:\\home\\mountain5380rc1\\perl5
PERL_MM_USE_DEFAULT = 1
PERL_USE_UNSAFE_INC = 1
PROCESSOR_IDENTIFIER = Intel64 Family 6 Model 58 Stepping 9, GenuineIntel
TEMP = C:\Users\USER\AppData\Local\Temp
TERM = dumb
Perl special variables (and OS-specific diagnostics, for MSWin32):
$^X = C:\perl64\5.38.0rc1\bin\perl.exe
$UID/$EUID = 0 / 0
$GID = 0
$EGID = 0
Win32::GetOSName = Win8.1
Win32::GetOSVersion = , 6, 3, 9600, 2, 0, 0, 256, 1
Win32::FsType = NTFS
Win32::IsAdminUser = 0
Perl module toolchain versions installed:
Module Have
------------------- --------
CPAN 2.36
CPAN::Meta 2.150010
Cwd 3.89
ExtUtils::CBuilder 0.280238
ExtUtils::Command 7.70
ExtUtils::Install 2.22
ExtUtils::MakeMaker 7.70
ExtUtils::Manifest 1.73
ExtUtils::ParseXS 3.51
File::Spec 3.88
JSON 4.10
JSON::PP 4.17_01
Module::Build 0.4234
Module::Signature n/a
Parse::CPAN::Meta 2.150010
Test2 1.302194
Test::Harness 3.44
Test::More 1.302194
YAML 1.31
YAML::Syck 1.34
version 0.9929
--
Summary of my perl5 (revision 5 version 38 subversion 0) configuration:
Platform:
osname=MSWin32
osvers=6.3.9600
archname=MSWin32-x64-multi-thread
uname=''
config_args='undef'
hint=recommended
useposix=true
d_sigaction=undef
useithreads=define
usemultiplicity=define
use64bitint=define
use64bitall=undef
uselongdouble=undef
usemymalloc=n
default_inc_excludes_dot=define
Compiler:
cc='cl'
ccflags ='-nologo -GF -W3 -MD -DWIN32 -D_CONSOLE -DNO_STRICT -DWIN64 -D_CRT_SECURE_NO_DEPRECATE -D_CRT_NONSTDC_NO_DEPRECATE -D_WINSOCK_DEPRECATED_NO_WARNINGS -DPERL_TEXTMODE_SCRIPTS -DMULTIPLICITY -DPERL_IMPLICIT_SYS'
optimize='-O1 -Zi -GL -fp:precise'
cppflags='-DWIN32'
ccversion='19.33.31630'
gccversion=''
gccosandvers=''
intsize=4
longsize=4
ptrsize=8
doublesize=8
byteorder=12345678
doublekind=3
d_longlong=undef
longlongsize=8
d_longdbl=define
longdblsize=8
longdblkind=0
ivtype='__int64'
ivsize=8
nvtype='double'
nvsize=8
Off_t='__int64'
lseeksize=8
alignbytes=8
prototype=define
Linker and Libraries:
ld='link'
ldflags ='-nologo -nodefaultlib -debug -opt:ref,icf -ltcg -libpath:"c:\perl64\5.38.0rc1\lib\CORE" -machine:AMD64 -subsystem:console,"5.02"'
libpth="C:\Program Files\Microsoft Visual Studio\2022\Community\VC\Tools\MSVC\14.33.31629\\lib\x64"
libs=oldnames.lib kernel32.lib user32.lib gdi32.lib winspool.lib comdlg32.lib advapi32.lib shell32.lib ole32.lib oleaut32.lib netapi32.lib uuid.lib ws2_32.lib mpr.lib winmm.lib version.lib odbc32.lib odbccp32.lib comctl32.lib msvcrt.lib vcruntime.lib ucrt.lib
perllibs=oldnames.lib kernel32.lib user32.lib gdi32.lib winspool.lib comdlg32.lib advapi32.lib shell32.lib ole32.lib oleaut32.lib netapi32.lib uuid.lib ws2_32.lib mpr.lib winmm.lib version.lib odbc32.lib odbccp32.lib comctl32.lib msvcrt.lib vcruntime.lib ucrt.lib
libc=ucrt.lib
so=dll
useshrplib=true
libperl=perl538.lib
gnulibc_version=''
Dynamic Linking:
dlsrc=dl_win32.xs
dlext=dll
d_dlsymun=undef
ccdlflags=' '
cccdlflags=' '
lddlflags='-dll -nologo -nodefaultlib -debug -opt:ref,icf -ltcg -libpath:"c:\perl64\5.38.0rc1\lib\CORE" -machine:AMD64 -subsystem:console,"5.02"'
Characteristics of this binary (from libperl):
Compile-time options:
HAS_LONG_DOUBLE
HAS_TIMES
HAVE_INTERP_INTERN
MULTIPLICITY
PERLIO_LAYERS
PERL_COPY_ON_WRITE
PERL_DONT_CREATE_GVSV
PERL_HASH_FUNC_SIPHASH13
PERL_HASH_USE_SBOX32
PERL_IMPLICIT_SYS
PERL_MALLOC_WRAP
PERL_OP_PARENT
PERL_PRESERVE_IVUV
PERL_USE_SAFE_PUTENV
USE_64_BIT_INT
USE_ITHREADS
USE_LARGE_FILES
USE_LOCALE
USE_LOCALE_COLLATE
USE_LOCALE_CTYPE
USE_LOCALE_NUMERIC
USE_LOCALE_TIME
USE_PERLIO
USE_PERL_ATOF
USE_THREAD_SAFE_LOCALE
Locally applied patches:
RC1
Built under MSWin32
Compiled at Jun 17 2023 22:11:31
%ENV:
PERL5LIB="C:\home\mountain5380rc1\perl5\lib\perl5"
PERL5_CPANPLUS_IS_RUNNING="1748"
PERL5_CPAN_IS_RUNNING="1748"
PERL_LOCAL_LIB_ROOT="C:\home\mountain5380rc1\perl5"
PERL_MB_OPT="--install_base "C:\\home\\mountain5380rc1\\perl5""
PERL_MM_OPT="INSTALL_BASE=C:\\home\\mountain5380rc1\\perl5"
PERL_MM_USE_DEFAULT="1"
PERL_USE_UNSAFE_INC="1"
@INC:
C:\home\mountain5380rc1\perl5\lib\perl5/MSWin32-x64-multi-thread
C:\home\mountain5380rc1\perl5\lib\perl5
C:/perl64/5.38.0rc1/lib
.