Task-BeLike-GEEKRUTH v1.0000 Perl 5 v5.30.2 x86_64-linux-ld

Status
Pass
From
Andreas J. König (ANDK)
Dist
Task-BeLike-GEEKRUTH v1.0000
Platform
Perl 5 v5.30.2 x86_64-linux-ld
Date
2022-02-11 18:01:13
ID
99ec6c0c-8b64-11ec-a7de-f496f8a8eeb3
This distribution has been tested as part of the CPAN Testers
project, supporting the Perl programming language.  See
http://wiki.cpantesters.org/ for more information or email
questions to cpan-testers-discuss@perl.org


--
Dear D Ruth Holloway,

This is a computer-generated report for Task-BeLike-GEEKRUTH-1.0000
on perl 5.30.2, created by CPAN-Reporter-1.2018.

Thank you for uploading your work to CPAN.  Congratulations!
All tests were successful.

Sections of this report:

    * Tester comments
    * Program output
    * Prerequisites
    * Environment and other context

------------------------------
TESTER COMMENTS
------------------------------

Additional comments from tester:

this report is from an automated smoke testing program
and was not reviewed by a human for accuracy

------------------------------
PROGRAM OUTPUT
------------------------------

Output from '/usr/bin/make test':

PERL_DL_NONLAZY=1 "/home/sand/src/perl/repoperls/installed-perls/host/k93msid/v5.30.2/af11/bin/perl" "-MExtUtils::Command::MM" "-MTest::Harness" "-e" "undef *Test::Harness::Switches; test_harness(0, 'blib/lib', 'blib/arch')" t/*.t
t/00-compile.t ......... ok
t/00-placeholder.t ..... ok
# 
# Versions for all modules listed in MYMETA.json (including optional ones):
# 
# === Configure Requires ===
# 
#     Module              Want Have
#     ------------------- ---- ----
#     ExtUtils::MakeMaker  any 7.44
# 
# === Build Requires ===
# 
#     Module              Want Have
#     ------------------- ---- ----
#     ExtUtils::MakeMaker  any 7.44
# 
# === Test Requires ===
# 
#     Module              Want     Have
#     ------------------- ---- --------
#     ExtUtils::MakeMaker  any     7.44
#     File::Spec           any     3.78
#     IO::Handle           any     1.45
#     IPC::Open3           any     1.20
#     Test2::V0            any 0.000141
#     Test::More           any 1.302186
#     strict               any     1.11
#     warnings             any     1.44
# 
# === Test Recommends ===
# 
#     Module         Want     Have
#     ---------- -------- --------
#     CPAN::Meta 2.120900 2.150010
# 
# === Runtime Requires ===
# 
#     Module                                                   Want       Have
#     -------------------------------------------------------- ---- ----------
#     App::cpanminus                                            any     1.7044
#     App::perlbrew                                             any       0.94
#     Code::TidyAll                                             any       0.80
#     Code::TidyAll::Plugin::Test::Vars                         any       0.04
#     Cpanel::JSON::XS                                          any       4.26
#     DBIx::Class                                               any   0.082842
#     DBIx::Class::Helpers                                      any   2.036000
#     DBIx::Class::Schema::ResultSetNames                       any       1.03
#     Dancer2                                                   any   0.301004
#     Dancer2::Plugin::Ajax                                     any   0.400000
#     Dancer2::Plugin::Auth::Extensible                         any      0.710
#     Dancer2::Plugin::Auth::Extensible::Provider::DBIC         any      0.624
#     Dancer2::Plugin::Auth::Extensible::Provider::DBIx::Class  any    missing
#     Dancer2::Plugin::Cache::CHI                               any      2.0.0
#     Dancer2::Plugin::DBIC                                     any     0.0100
#     Dancer2::Plugin::DBIx::Class                              any       1.06
#     Dancer2::Plugin::Growler                                  any       0.03
#     Dancer2::Plugin::Minify                                   any      0.002
#     Dancer2::Plugin::REST                                     any       1.02
#     Dancer2::Template::Handlebars                             any       1.00
#     Devel::Local                                              any       0.22
#     Dist::Zilla                                               any      6.024
#     Dist::Zilla::App::Command::cover                          any   1.101001
#     Dist::Zilla::App::Command::critic                         any   0.001011
#     Dist::Zilla::App::Command::dumpphases                     any   1.000009
#     Dist::Zilla::App::Command::lsplugins                      any   0.003001
#     Dist::Zilla::PluginBundle::Author::GEEKRUTH               any     1.0200
#     File::Path                                                any       2.18
#     Modern::Perl                                              any 1.20200211
#     Moo                                                       any   2.004000
#     OrePAN2                                                   any       0.48
#     PLS                                                       any      0.898
#     Perl::Critic                                              any      1.140
#     Perl::Critic::Bangs                                       any       1.12
#     Perl::Critic::Community                                   any     v1.0.0
#     Perl::Critic::Dancer2                                     any    missing
#     Perl::Critic::StricterSubs                                any       0.05
#     Perl::Critic::TooMuchCode                                 any       0.16
#     Perl::Tidy                                                any   20210717
#     Pod::Coverage::TrustPod                                   any   0.100005
#     Try::Tiny                                                 any       0.30
#     YAML::Tiny                                                any       1.73
#     autodie                                                   any       2.29
# 
# 
# *** WARNING WARNING WARNING WARNING WARNING WARNING WARNING WARNING ***
# 
# The following REQUIRED prerequisites were not satisfied:
# 
# Dancer2::Plugin::Auth::Extensible::Provider::DBIx::Class is not installed (any version required)
# Perl::Critic::Dancer2 is not installed (any version required)
# 
t/00-report-prereqs.t .. ok
t/placeholder.t ........ ok
All tests successful.
Files=4, Tests=4,  0 wallclock secs ( 0.01 usr  0.02 sys +  0.33 cusr  0.08 csys =  0.44 CPU)
Result: PASS

------------------------------
PREREQUISITES
------------------------------

Prerequisite modules loaded:

requires:

    Module                                                   Need  Have      
    -------------------------------------------------------- ----- ----------
    App::cpanminus                                           0     1.7044    
    App::perlbrew                                            0     0.94      
    autodie                                                  0     2.29      
    Code::TidyAll                                            0     0.80      
    Code::TidyAll::Plugin::Test::Vars                        0     0.04      
    Cpanel::JSON::XS                                         0     4.26      
    Dancer2                                                  0     0.301004  
    Dancer2::Plugin::Ajax                                    0     0.400000  
    Dancer2::Plugin::Auth::Extensible                        0     0.710     
    Dancer2::Plugin::Auth::Extensible::Provider::DBIC        0     0.624     
  ! Dancer2::Plugin::Auth::Extensible::Provider::DBIx::Class 0     n/a       
    Dancer2::Plugin::Cache::CHI                              0     2.0.0     
    Dancer2::Plugin::DBIC                                    0     0.0100    
    Dancer2::Plugin::DBIx::Class                             0     1.06      
    Dancer2::Plugin::Growler                                 0     0.03      
    Dancer2::Plugin::Minify                                  0     0.002     
    Dancer2::Plugin::REST                                    0     1.02      
    Dancer2::Template::Handlebars                            0     1.00      
    DBIx::Class                                              0     0.082842  
    DBIx::Class::Helpers                                     0     2.036000  
    DBIx::Class::Schema::ResultSetNames                      0     1.03      
    Devel::Local                                             0     0.22      
    Dist::Zilla                                              0     6.024     
    Dist::Zilla::App::Command::cover                         0     1.101001  
    Dist::Zilla::App::Command::critic                        0     0.001011  
    Dist::Zilla::App::Command::dumpphases                    0     1.000009  
    Dist::Zilla::App::Command::lsplugins                     0     0.003001  
    Dist::Zilla::PluginBundle::Author::GEEKRUTH              0     1.0200    
    File::Path                                               0     2.18      
    Modern::Perl                                             0     1.20200211
    Moo                                                      0     2.004000  
    OrePAN2                                                  0     0.48      
    perl                                                     5.006 5.030002  
    Perl::Critic                                             0     1.140     
    Perl::Critic::Bangs                                      0     1.12      
    Perl::Critic::Community                                  0     v1.0.0    
  ! Perl::Critic::Dancer2                                    0     n/a       
    Perl::Critic::StricterSubs                               0     0.05      
    Perl::Critic::TooMuchCode                                0     0.16      
    Perl::Tidy                                               0     20210717  
    PLS                                                      0     0.898     
    Pod::Coverage::TrustPod                                  0     0.100005  
    Try::Tiny                                                0     0.30      
    YAML::Tiny                                               0     1.73      

build_requires:

    Module                                                   Need  Have      
    -------------------------------------------------------- ----- ----------
    ExtUtils::MakeMaker                                      0     7.44      
    File::Spec                                               0     3.78      
    IO::Handle                                               0     1.45      
    IPC::Open3                                               0     1.20      
    strict                                                   0     1.11      
    Test2::V0                                                0     0.000141  
    Test::More                                               0     1.302186  
    warnings                                                 0     1.44      

configure_requires:

    Module                                                   Need  Have      
    -------------------------------------------------------- ----- ----------
    ExtUtils::MakeMaker                                      0     7.44      
    perl                                                     5.006 5.030002  


------------------------------
ENVIRONMENT AND OTHER CONTEXT
------------------------------

Environment variables:

    AUTOMATED_TESTING = 1
    LANG = en_US.UTF-8
    PATH = /home/sand/bin:/usr/local/bin:/usr/bin:/bin:/usr/games:/usr/local/perl/bin:/usr/X11/bin:/sbin:/usr/sbin
    PERL5LIB = 
    PERL5OPT = 
    PERL5_CPANPLUS_IS_RUNNING = 506777
    PERL5_CPAN_IS_RUNNING = 506777
    PERL_CANARY_STABILITY_NOPROMPT = 1
    PERL_MM_USE_DEFAULT = 1
    PERL_USE_UNSAFE_INC = 1
    SHELL = /usr/bin/zsh
    TERM = screen

Perl special variables (and OS-specific diagnostics, for MSWin32):

    $^X = /home/sand/src/perl/repoperls/installed-perls/host/k93msid/v5.30.2/af11/bin/perl
    $UID/$EUID = 1005 / 1005
    $GID = 1005 1005
    $EGID = 1005 1005

Perl module toolchain versions installed:

    Module              Have    
    ------------------- --------
    CPAN                2.27    
    CPAN::Meta          2.150010
    Cwd                 3.78    
    ExtUtils::CBuilder  0.280234
    ExtUtils::Command   7.44    
    ExtUtils::Install   2.14    
    ExtUtils::MakeMaker 7.44    
    ExtUtils::Manifest  1.72    
    ExtUtils::ParseXS   3.40    
    File::Spec          3.78    
    JSON                4.03    
    JSON::PP            4.06    
    Module::Build       0.4231  
    Module::Signature   0.83    
    Parse::CPAN::Meta   2.150010
    Test::Harness       3.42    
    Test::More          1.302186
    YAML                1.30    
    YAML::Syck          1.32    
    version             0.9924  


--

Summary of my perl5 (revision 5 version 30 subversion 2) configuration:
  Derived from: ceb5a43b9b27601fc60e97677b4ac903317ef392
  Platform:
    osname=linux
    osvers=5.3.0-2-amd64
    archname=x86_64-linux-ld
    uname='linux k93msid 5.3.0-2-amd64 #1 smp debian 5.3.9-3 (2019-11-19) x86_64 gnulinux '
    config_args='-Dprefix=/home/sand/src/perl/repoperls/installed-perls/host/k93msid/v5.30.2/af11 -Dmyhostname=k93msid -Dinstallusrbinperl=n -Uversiononly -Dusedevel -des -Ui_db -Dlibswanted=cl pthread socket inet nsl gdbm dbm malloc dl ld sun m crypt sec util c cposix posix ucb BSD gdbm_compat -Uuseithreads -Duselongdouble -DEBUGGING=-g'
    hint=recommended
    useposix=true
    d_sigaction=define
    useithreads=undef
    usemultiplicity=undef
    use64bitint=define
    use64bitall=define
    uselongdouble=define
    usemymalloc=n
    default_inc_excludes_dot=define
    bincompat5005=undef
  Compiler:
    cc='cc'
    ccflags ='-fwrapv -fno-strict-aliasing -pipe -fstack-protector-strong -I/usr/local/include -D_LARGEFILE_SOURCE -D_FILE_OFFSET_BITS=64 -D_FORTIFY_SOURCE=2'
    optimize='-O2 -g'
    cppflags='-fwrapv -fno-strict-aliasing -pipe -fstack-protector-strong -I/usr/local/include'
    ccversion=''
    gccversion='9.2.1 20191109'
    gccosandvers=''
    intsize=4
    longsize=8
    ptrsize=8
    doublesize=8
    byteorder=12345678
    doublekind=3
    d_longlong=define
    longlongsize=8
    d_longdbl=define
    longdblsize=16
    longdblkind=3
    ivtype='long'
    ivsize=8
    nvtype='long double'
    nvsize=16
    Off_t='off_t'
    lseeksize=8
    alignbytes=16
    prototype=define
  Linker and Libraries:
    ld='cc'
    ldflags =' -fstack-protector-strong -L/usr/local/lib'
    libpth=/usr/local/lib /usr/lib/gcc/x86_64-linux-gnu/9/include-fixed /usr/include/x86_64-linux-gnu /usr/lib /lib/x86_64-linux-gnu /lib/../lib /usr/lib/x86_64-linux-gnu /usr/lib/../lib /lib
    libs=-lpthread -lnsl -ldl -lm -lcrypt -lutil -lc
    perllibs=-lpthread -lnsl -ldl -lm -lcrypt -lutil -lc
    libc=libc-2.29.so
    so=so
    useshrplib=false
    libperl=libperl.a
    gnulibc_version='2.29'
  Dynamic Linking:
    dlsrc=dl_dlopen.xs
    dlext=so
    d_dlsymun=undef
    ccdlflags='-Wl,-E'
    cccdlflags='-fPIC'
    lddlflags='-shared -O2 -g -L/usr/local/lib -fstack-protector-strong'


Characteristics of this binary (from libperl): 
  Compile-time options:
    HAS_TIMES
    PERLIO_LAYERS
    PERL_COPY_ON_WRITE
    PERL_DONT_CREATE_GVSV
    PERL_MALLOC_WRAP
    PERL_OP_PARENT
    PERL_PRESERVE_IVUV
    PERL_USE_DEVEL
    USE_64_BIT_ALL
    USE_64_BIT_INT
    USE_LARGE_FILES
    USE_LOCALE
    USE_LOCALE_COLLATE
    USE_LOCALE_CTYPE
    USE_LOCALE_NUMERIC
    USE_LOCALE_TIME
    USE_LONG_DOUBLE
    USE_PERLIO
    USE_PERL_ATOF
  Locally applied patches:
    uncommitted-changes
  Built under linux
  Compiled at Mar 14 2020 22:35:14
  %ENV:
    PERL5LIB=""
    PERL5OPT=""
    PERL5_CPANPLUS_IS_RUNNING="506777"
    PERL5_CPAN_IS_RUNNING="506777"
    PERL_CANARY_STABILITY_NOPROMPT="1"
    PERL_MM_USE_DEFAULT="1"
    PERL_USE_UNSAFE_INC="1"
  @INC:
    /home/sand/src/perl/repoperls/installed-perls/host/k93msid/v5.30.2/af11/lib/site_perl/5.30.2/x86_64-linux-ld
    /home/sand/src/perl/repoperls/installed-perls/host/k93msid/v5.30.2/af11/lib/site_perl/5.30.2
    /home/sand/src/perl/repoperls/installed-perls/host/k93msid/v5.30.2/af11/lib/5.30.2/x86_64-linux-ld
    /home/sand/src/perl/repoperls/installed-perls/host/k93msid/v5.30.2/af11/lib/5.30.2
    .