FFI-Platypus v1.10 Perl 5 v5.28.2 darwin-2level
- Status
- Pass
- From
- Slaven Rezić (SREZIC)
- Dist
-
FFI-Platypus v1.10
- Platform
- Perl 5 v5.28.2 darwin-2level
- Date
- 2020-04-12 21:07:20
- ID
- 99500eca-7d01-11ea-bc20-74151f24ea8f
This distribution has been tested as part of the CPAN Testers
project, supporting the Perl programming language. See
http://wiki.cpantesters.org/ for more information or email
questions to cpan-testers-discuss@perl.org
--
Dear Graham Ollis,
This is a computer-generated report for FFI-Platypus-1.10
on perl 5.28.2, created by CPAN-Reporter-1.2018.
Thank you for uploading your work to CPAN. Congratulations!
All tests were successful.
Sections of this report:
* Tester comments
* Program output
* Prerequisites
* Environment and other context
------------------------------
TESTER COMMENTS
------------------------------
Additional comments from tester:
none provided
------------------------------
PROGRAM OUTPUT
------------------------------
Output from '/usr/bin/make test':
"/opt/perl-5.28.2/bin/perl" -MExtUtils::Command::MM -e 'cp_nonempty' -- lib/FFI/Platypus.bs blib/arch/auto/FFI/Platypus/Platypus.bs 644
CC t/ffi/align.c
CC t/ffi/align_array.c
CC t/ffi/align_fixed.c
CC t/ffi/align_string.c
CC t/ffi/basic.c
CC t/ffi/closure.c
CC t/ffi/color.c
CC t/ffi/complex_double.c
CC t/ffi/complex_float.c
CC t/ffi/double.c
CC t/ffi/float.c
CC t/ffi/gh117.c
CC t/ffi/gh174.c
CC t/ffi/longdouble.c
CC t/ffi/memcmp4.c
CC t/ffi/meta.c
CC t/ffi/pointer.c
CC t/ffi/record.c
CC t/ffi/sint16.c
CC t/ffi/sint32.c
CC t/ffi/sint64.c
CC t/ffi/sint8.c
CC t/ffi/string.c
CC t/ffi/string_array.c
CC t/ffi/uint16.c
CC t/ffi/uint32.c
CC t/ffi/uint64.c
CC t/ffi/uint8.c
CC t/ffi/variadic.c
LD t/ffi/libtest.dylib
PERL_DL_NONLAZY=1 "/opt/perl-5.28.2/bin/perl" "-MExtUtils::Command::MM" "-MTest::Harness" "-e" "undef *Test::Harness::Switches; test_harness(0, 'blib/lib', 'blib/arch')" t/*.t
#
#
#
# HARNESS_ACTIVE=1
# HARNESS_VERSION=3.42
# LANG=de_DE.UTF-8
# PERL5LIB=/Users/slaven.rezic/.cpan/build/2020041222/FFI-Platypus-1.10-3/blib/lib:/Users/slaven.rezic/.cpan/build/2020041222/FFI-Platypus-1.10-3/blib/arch:/Users/slaven.rezic/.cpan/build/2020041222/FFI-CheckLib-0.26-2/blib/arch:/Users/slaven.rezic/.cpan/build/2020041222/FFI-CheckLib-0.26-2/blib/lib:/Users/slaven.rezic/.cpan/build/2020041222/FFI-CheckLib-0.26-2/blib/arch:/Users/slaven.rezic/.cpan/build/2020041222/FFI-CheckLib-0.26-2/blib/lib
# PERL5OPT=
# PERL5_CPANPLUS_IS_RUNNING=68195
# PERL5_CPAN_IS_RUNNING=68195
# PERL5_CPAN_IS_RUNNING_IN_RECURSION=58523,68195
# PERLDOC=-MPod::Perldoc::ToTextOverstrike
# PERL_BATCH=yes
# PERL_CANARY_STABILITY_NOPROMPT=1
# PERL_CPAN_REPORTER_CONFIG=/var/tmp/cpansmoker-501/2020041222/cpanreporter_000_config.ini
# PERL_DL_NONLAZY=1
# PERL_EXTUTILS_AUTOINSTALL=--defaultdeps
# PERL_USE_UNSAFE_INC=1
# SHELL=/bin/zsh
#
#
#
# PERL5LIB path
# /Users/slaven.rezic/.cpan/build/2020041222/FFI-Platypus-1.10-3/blib/lib
# /Users/slaven.rezic/.cpan/build/2020041222/FFI-Platypus-1.10-3/blib/arch
# /Users/slaven.rezic/.cpan/build/2020041222/FFI-CheckLib-0.26-2/blib/arch
# /Users/slaven.rezic/.cpan/build/2020041222/FFI-CheckLib-0.26-2/blib/lib
# /Users/slaven.rezic/.cpan/build/2020041222/FFI-CheckLib-0.26-2/blib/arch
# /Users/slaven.rezic/.cpan/build/2020041222/FFI-CheckLib-0.26-2/blib/lib
#
#
#
# perl 5.028002
# Alien::Base 1.65
# Capture::Tiny 0.48
# Devel::Hide 0.0010
# ExtUtils::CBuilder 0.280230
# ExtUtils::MakeMaker 7.34
# ExtUtils::ParseXS 3.39
# FFI::CheckLib 0.26
# IPC::Cmd 1.00
# JSON::PP 2.97001
# List::Util 1.5
# Math::LongDouble -
# PkgConfig -
# Test::More 1.302162
# constant 1.33
# forks -
#
#
#
# mode : system
# Alien::FFI::pkgconfig->VERSION = undef
# Alien::FFI::pkgconfig->install_type = system
# Alien::FFI::pkgconfig->cflags = -I/usr/local/Cellar/libffi/3.2.1/lib/libffi-3.2.1/include
# Alien::FFI::pkgconfig->libs = -L/usr/local/Cellar/libffi/3.2.1/lib -lffi
# Alien::FFI::pkgconfig->version = 3.2.1
#
#
#
# ffi.platypus.memory.strdup_impl =libc
# ffi.platypus.memory.strndup_impl=libc
#
#
#
# Types:
# double : double, float complex
# float : float
# longdouble : double complex, long double, long double complex
# sint16 : int16_t, short, signed short
# sint32 : blksize_t, dev_t, int, int32_t, senum, signed int, wchar_t, wint_t
# sint64 : blkcnt_t, int64_t, intptr_t, long, long long, off_t, ptrdiff_t, signed long, signed long long, ssize_t, time_t
# sint8 : char, int8_t, signed char
# uint16 : mode_t, nlink_t, uint16_t, unsigned short, ushort
# uint32 : enum, gid_t, uid_t, uint, uint32_t, unsigned int
# uint64 : ino_t, size_t, uint64_t, uintptr_t, ulong, unsigned long, unsigned long long
# uint8 : bool, uchar, uint8_t, unsigned char
#
#
#
# ABIs:
# default_abi 2
# fastcall 4
# pascal 6
# register 7
# stdcall 5
# sysv 1
# thiscall 3
# unix64 2
#
#
#
# Probes:
# variadic 1
# bigendian 0
# abi 1
# alloca 1
# recordvalue 1
# bigendian64 0
# longdouble 1
#
#
#
# [PLATFORM]
# osname : darwin
# cc : cc
# cxx : c++
# for : ---
# ld : cc
# ccflags : -fno-common -DPERL_DARWIN -mmacosx-version-min=10.13 -fno-strict-aliasing -pipe -fstack-protector-strong -I/usr/local/include -DPERL_USE_SAFE_PUTENV -O3 -I/Users/slaven.rezic/.cpan/build/2020041222/FFI-Platypus-1.10-3/blib/lib/auto/share/dist/FFI-Platypus/include
# ldflags : -mmacosx-version-min=10.13 -shared -undefined dynamic_lookup -L/usr/local/lib -fstack-protector-strong
# object suffix : .o
# library prefix : lib
# library suffix : .dylib,.bundle
# cc mm works : -MM
#
#
#
t/00_diag.t .............................. ok
t/01_use.t ............................... ok
t/ffi_build.t ............................ ok
t/ffi_build_file_base.t .................. ok
t/ffi_build_file_c.t ..................... ok
t/ffi_build_file_cxx.t ................... ok
t/ffi_build_file_library.t ............... ok
t/ffi_build_file_object.t ................ ok
t/ffi_build_mm.t ......................... ok
t/ffi_build_platform.t ................... ok
t/ffi_platypus.t ......................... ok
t/ffi_platypus_api.t ..................... ok
t/ffi_platypus_buffer.t .................. ok
t/ffi_platypus_bundle.t .................. ok
t/ffi_platypus_closure.t ................. ok
t/ffi_platypus_constant.t ................ ok
t/ffi_platypus_declare.t ................. ok
t/ffi_platypus_dl.t ...................... ok
t/ffi_platypus_function.t ................ ok
t/ffi_platypus_function_wrapper.t ........ ok
t/ffi_platypus_internal.t ................ ok
t/ffi_platypus_lang.t .................... ok
t/ffi_platypus_lang_asm.t ................ ok
t/ffi_platypus_lang_c.t .................. ok
t/ffi_platypus_lang_win32.t .............. ok
t/ffi_platypus_legacy.t .................. ok
t/ffi_platypus_memory.t .................. ok
t/ffi_platypus_record.t .................. ok
t/ffi_platypus_record_meta.t ............. ok
t/ffi_platypus_record_tiearray.t ......... ok
t/ffi_platypus_shareconfig.t ............. ok
t/ffi_platypus_type.t .................... ok
t/ffi_platypus_type_pointersizebuffer.t .. ok
t/ffi_platypus_type_stringarray.t ........ ok
t/ffi_platypus_type_stringpointer.t ...... ok
t/ffi_platypus_typeparser.t .............. ok
t/ffi_platypus_typeparser_version0.t ..... ok
t/ffi_platypus_typeparser_version1.t ..... ok
t/ffi_probe.t ............................ ok
t/ffi_probe_runner.t ..................... ok
t/ffi_probe_runner_builder.t ............. ok
t/ffi_probe_runner_result.t .............. ok
t/ffi_temp.t ............................. ok
t/forks.t ................................ skipped: Test requires forks
t/gh117.t ................................ ok
t/gh129.t ................................ ok
t/memory.t ............................... skipped: tested only in CI
t/threads.t .............................. skipped: Test requires a threading Perl
t/type_complex_double.t .................. skipped: Test requires support for double complex
t/type_complex_float.t ................... skipped: Test requires support for float complex
t/type_custom.t .......................... ok
t/type_double.t .......................... ok
t/type_float.t ........................... ok
t/type_longdouble.t ...................... ok
t/type_longdouble__array.t ............... ok
t/type_longdouble__hide.t ................ ok
t/type_longdouble__ptr.t ................. ok
t/type_opaque.t .......................... ok
t/type_record.t .......................... ok
t/type_record_value.t .................... ok
t/type_sint16.t .......................... ok
t/type_sint32.t .......................... ok
t/type_sint64.t .......................... ok
t/type_sint8.t ........................... ok
t/type_string.t .......................... ok
t/type_uint16.t .......................... ok
t/type_uint32.t .......................... ok
t/type_uint64.t .......................... ok
t/type_uint8.t ........................... ok
All tests successful.
Files=69, Tests=340, 22 wallclock secs ( 0.44 usr 0.20 sys + 8.33 cusr 2.56 csys = 11.53 CPU)
Result: PASS
------------------------------
PREREQUISITES
------------------------------
Prerequisite modules loaded:
requires:
Module Need Have
------------------- -------- --------
Capture::Tiny 0 0.48
constant 1.32 1.33
ExtUtils::MakeMaker 7.12 7.34
FFI::CheckLib 0.05 0.26
IPC::Cmd 0 1.00
JSON::PP 0 2.97001
List::Util 1.45 1.50
perl 5.008001 5.028002
build_requires:
Module Need Have
------------------- -------- --------
Capture::Tiny 0 0.48
ExtUtils::CBuilder 0 0.280230
Test::More 0.98 1.302162
configure_requires:
Module Need Have
------------------- -------- --------
Capture::Tiny 0 0.48
ExtUtils::MakeMaker 7.12 7.34
ExtUtils::ParseXS 3.30 3.39
IPC::Cmd 0 1.00
perl 5.006 5.028002
------------------------------
ENVIRONMENT AND OTHER CONTEXT
------------------------------
Environment variables:
LANG = de_DE.UTF-8
PATH = /usr/local/bin:/usr/bin:/bin:/usr/local/sbin:/usr/sbin:/sbin:/Users/slaven.rezic/bin/darwin18.0:/Users/slaven.rezic/bin/sh:/Users/slaven.rezic/bin:/Users/slaven.rezic/bin/pistachio-perl/bin:/usr/games:/Users/slaven.rezic/devel:/Users/slaven.rezic/work/drafts-slaven.rezic/misc:/Users/slaven.rezic/src/srezic-misc/scripts
PERL5LIB = /Users/slaven.rezic/.cpan/build/2020041222/FFI-CheckLib-0.26-2/blib/arch:/Users/slaven.rezic/.cpan/build/2020041222/FFI-CheckLib-0.26-2/blib/lib
PERL5OPT =
PERL5_CPANPLUS_IS_RUNNING = 68195
PERL5_CPAN_IS_RUNNING = 68195
PERL5_CPAN_IS_RUNNING_IN_RECURSION = 58523,68195
PERLDOC = -MPod::Perldoc::ToTextOverstrike
PERL_BATCH = yes
PERL_CANARY_STABILITY_NOPROMPT = 1
PERL_CPAN_REPORTER_CONFIG = /var/tmp/cpansmoker-501/2020041222/cpanreporter_000_config.ini
PERL_EXTUTILS_AUTOINSTALL = --defaultdeps
PERL_USE_UNSAFE_INC = 1
SHELL = /bin/zsh
TERM = screen
TMPDIR = /var/tmp/cpansmoker-501/2020041222
Perl special variables (and OS-specific diagnostics, for MSWin32):
$^X = /opt/perl-5.28.2/bin/perl
$UID/$EUID = 501 / 501
$GID = 20 20 701 12 61 702 100 703
$EGID = 20 20 701 12 61 702 100 703
Perl module toolchain versions installed:
Module Have
------------------- --------
CPAN 2.20
CPAN::Meta 2.150010
Cwd 3.74
ExtUtils::CBuilder 0.280230
ExtUtils::Command 7.34
ExtUtils::Install 2.14
ExtUtils::MakeMaker 7.34
ExtUtils::Manifest 1.70
ExtUtils::ParseXS 3.39
File::Spec 3.74
JSON 4.02
JSON::PP 2.97001
Module::Build 0.4229
Module::Signature n/a
Parse::CPAN::Meta 2.150010
Test::Harness 3.42
Test::More 1.302162
YAML 1.27
YAML::Syck 1.31
version 0.9923
--
Summary of my perl5 (revision 5 version 28 subversion 2) configuration:
Platform:
osname=darwin
osvers=17.7.0
archname=darwin-2level
uname='darwin w3tk 17.7.0 darwin kernel version 17.7.0: thu jun 21 22:53:14 pdt 2018; root:xnu-4570.71.2~1release_x86_64 x86_64 '
config_args='-ds -e -Dprefix=/opt/perl-5.28.2 -Dcf_email=srezic@cpan.org'
hint=recommended
useposix=true
d_sigaction=define
useithreads=undef
usemultiplicity=undef
use64bitint=define
use64bitall=define
uselongdouble=undef
usemymalloc=n
default_inc_excludes_dot=define
bincompat5005=undef
Compiler:
cc='cc'
ccflags ='-fno-common -DPERL_DARWIN -mmacosx-version-min=10.13 -fno-strict-aliasing -pipe -fstack-protector-strong -I/usr/local/include -DPERL_USE_SAFE_PUTENV'
optimize='-O3'
cppflags='-fno-common -DPERL_DARWIN -mmacosx-version-min=10.13 -fno-strict-aliasing -pipe -fstack-protector-strong -I/usr/local/include'
ccversion=''
gccversion='4.2.1 Compatible Apple LLVM 10.0.0 (clang-1000.10.44.2)'
gccosandvers=''
intsize=4
longsize=8
ptrsize=8
doublesize=8
byteorder=12345678
doublekind=3
d_longlong=define
longlongsize=8
d_longdbl=define
longdblsize=16
longdblkind=3
ivtype='long'
ivsize=8
nvtype='double'
nvsize=8
Off_t='off_t'
lseeksize=8
alignbytes=8
prototype=define
Linker and Libraries:
ld='cc'
ldflags =' -mmacosx-version-min=10.13 -fstack-protector-strong -L/usr/local/lib'
libpth=/usr/local/lib /Library/Developer/CommandLineTools/usr/lib/clang/10.0.0/lib /Library/Developer/CommandLineTools/usr/lib /usr/lib
libs=-lpthread -lgdbm -ldbm -ldb -ldl -lm -lutil -lc
perllibs=-lpthread -ldl -lm -lutil -lc
libc=
so=dylib
useshrplib=false
libperl=libperl.a
gnulibc_version=''
Dynamic Linking:
dlsrc=dl_dlopen.xs
dlext=bundle
d_dlsymun=undef
ccdlflags=' '
cccdlflags=' '
lddlflags=' -mmacosx-version-min=10.13 -bundle -undefined dynamic_lookup -L/usr/local/lib -fstack-protector-strong'
Characteristics of this binary (from libperl):
Compile-time options:
HAS_TIMES
PERLIO_LAYERS
PERL_COPY_ON_WRITE
PERL_DONT_CREATE_GVSV
PERL_MALLOC_WRAP
PERL_OP_PARENT
PERL_PRESERVE_IVUV
PERL_USE_SAFE_PUTENV
USE_64_BIT_ALL
USE_64_BIT_INT
USE_LARGE_FILES
USE_LOCALE
USE_LOCALE_COLLATE
USE_LOCALE_CTYPE
USE_LOCALE_NUMERIC
USE_LOCALE_TIME
USE_PERLIO
USE_PERL_ATOF
Built under darwin
Compiled at Apr 20 2019 10:29:24
%ENV:
PERL5LIB="/Users/slaven.rezic/.cpan/build/2020041222/FFI-CheckLib-0.26-2/blib/arch:/Users/slaven.rezic/.cpan/build/2020041222/FFI-CheckLib-0.26-2/blib/lib"
PERL5OPT=""
PERL5_CPANPLUS_IS_RUNNING="68195"
PERL5_CPAN_IS_RUNNING="68195"
PERL5_CPAN_IS_RUNNING_IN_RECURSION="58523,68195"
PERLDOC="-MPod::Perldoc::ToTextOverstrike"
PERL_BATCH="yes"
PERL_CANARY_STABILITY_NOPROMPT="1"
PERL_CPAN_REPORTER_CONFIG="/var/tmp/cpansmoker-501/2020041222/cpanreporter_000_config.ini"
PERL_EXTUTILS_AUTOINSTALL="--defaultdeps"
PERL_USE_UNSAFE_INC="1"
@INC:
/Users/slaven.rezic/.cpan/build/2020041222/FFI-CheckLib-0.26-2/blib/arch
/Users/slaven.rezic/.cpan/build/2020041222/FFI-CheckLib-0.26-2/blib/lib
/opt/perl-5.28.2/lib/site_perl/5.28.2/darwin-2level
/opt/perl-5.28.2/lib/site_perl/5.28.2
/opt/perl-5.28.2/lib/5.28.2/darwin-2level
/opt/perl-5.28.2/lib/5.28.2
.