Perl-Critic v1.152 Perl 5 v5.32.1 MSWin32-x86-multi-thread-64int
- Status
- Pass
- From
- twata
- Dist
-
Perl-Critic v1.152
- Platform
- Perl 5 v5.32.1 MSWin32-x86-multi-thread-64int
- Date
- 2024-03-10 14:14:20
- ID
- 979ea0ad-718f-1014-8029-c23ecb952333
This distribution has been tested as part of the CPAN Testers
project, supporting the Perl programming language. See
http://wiki.cpantesters.org/ for more information or email
questions to cpan-testers-discuss@perl.org
--
Dear Andy Lester,
This is a computer-generated report for Perl-Critic-1.152
on perl 5.32.1, created by CPAN-Reporter-1.2018.
Thank you for uploading your work to CPAN. Congratulations!
All tests were successful.
Sections of this report:
* Tester comments
* Program output
* Prerequisites
* Environment and other context
------------------------------
TESTER COMMENTS
------------------------------
Additional comments from tester:
none provided
------------------------------
PROGRAM OUTPUT
------------------------------
Output from 'C:\Strawberry\perl\bin\perl.exe ./Build test':
# Testing Perl::Critic 1.152 with PPI 1.277 under Perl 5.032001, C:\Strawberry\perl\bin\perl.exe
t\00_modules.t ................................ ok
t\00_versions.t ............................... ok
t\01_config.t ................................. ok
t\01_config_bad_perlcriticrc.t ................ ok
t\01_policy_config.t .......................... ok
t\02_policy.t ................................. ok
t\03_annotations.t ............................ ok
t\03_pragmas.t ................................ ok
t\04_options_processor.t ...................... ok
t\05_utils.t .................................. ok
t\05_utils_perl.t ............................. ok
t\05_utils_pod.t .............................. ok
t\05_utils_ppi.t .............................. ok
t\06_violation.t .............................. ok
t\07_command.t ................................ ok
t\07_perlcritic.t ............................. ok
t\08_document.t ............................... ok
t\09_theme.t .................................. ok
t\10_user_profile.t ........................... ok
t\11_policy_factory.t ......................... ok
t\12_policy_listing.t ......................... ok
t\12_theme_listing.t .......................... ok
t\13_bundled_policies.t ....................... ok
t\14_policy_parameter_behavior_boolean.t ...... ok
t\14_policy_parameter_behavior_enumeration.t .. ok
t\14_policy_parameter_behavior_integer.t ...... ok
t\14_policy_parameter_behavior_list_string.t .. ok
t\14_policy_parameter_behavior_string.t ....... ok
t\14_policy_parameters.t ...................... ok
t\15_statistics.t ............................. ok
t\16_roundtrip_defaults.t ..................... ok
t\20_policies.t ............................... skipped: Test::Perl::Critic required to test Perl::Critic itself
t\20_policy_pod_spelling.t .................... ok
t\20_policy_prohibit_evil_modules.t ........... ok
t\20_policy_prohibit_hard_tabs.t .............. ok
t\20_policy_prohibit_trailing_whitespace.t .... ok
t\20_policy_require_consistent_newlines.t ..... ok
t\20_policy_require_tidy_code.t ............... ok
Unhandled type: REGEXP at C:\home\32sunny1\perl5\lib\perl5/Devel/Cycle.pm line 107.
t\92_memory_leaks.t ........................... ok
t\gh-734.t .................................... ok
All tests successful.
Files=40, Tests=5399, 91 wallclock secs ( 0.62 usr + 0.12 sys = 0.75 CPU)
Result: PASS
------------------------------
PREREQUISITES
------------------------------
Prerequisite modules loaded:
requires:
Module Need Have
------------------------- -------- --------
B::Keywords 1.23 1.26
Carp 0 1.50
charnames 0 1.48
Config::Tiny 2 2.28
English 0 1.11
Exception::Class 1.23 1.44
Exporter 5.63 5.74
File::Basename 0 2.85
File::Find 0 1.37
File::Path 0 2.18
File::Spec 0 3.78
File::Spec::Unix 0 3.78
File::Temp 0 0.2311
File::Which 0 1.23
Getopt::Long 0 2.57
List::SomeUtils 0.55 0.59
List::Util 0 1.63
Module::Pluggable 3.1 5.2
overload 0 1.31
parent 0 0.238
perl 5.010001 5.032001
Perl::Tidy 0 20210111
Pod::PlainText 0 2.07
Pod::Select 0 1.63
Pod::Spell 1 1.26
Pod::Usage 0 2.01
PPI 1.277 1.277
PPI::Document 1.277 1.277
PPI::Document::File 1.277 1.277
PPI::Node 1.277 1.277
PPI::Token::Quote::Single 1.277 1.277
PPI::Token::Whitespace 1.277 1.277
PPIx::QuoteLike 0 0.023
PPIx::Regexp 0.027 0.088
PPIx::Regexp::Util 0.068 0.088
PPIx::Utils::Traversal 0.003 0.003
Readonly 2 2.05
Scalar::Util 0 1.63
strict 0 1.11
String::Format 1.18 1.18
Term::ANSIColor 2.02 5.01
Test::Builder 0.92 1.302183
Text::ParseWords 3 3.30
version 0.77 0.9928
warnings 0 1.47
build_requires:
Module Need Have
------------------------- -------- --------
lib 0 0.65
Test::More 0 1.302183
configure_requires:
Module Need Have
------------------------- -------- --------
B::Keywords 1.23 1.26
base 0 2.27
Carp 0 1.50
English 0 1.11
Exporter 5.63 5.74
lib 0 0.65
List::SomeUtils 0.55 0.59
Module::Build 0.4204 0.42_33
------------------------------
ENVIRONMENT AND OTHER CONTEXT
------------------------------
Environment variables:
COMSPEC = C:\WINDOWS\system32\cmd.exe
NONINTERACTIVE_TESTING = 1
NUMBER_OF_PROCESSORS = 4
PATH = C:\home\32sunny1\perl5\bin;C:\WINDOWS\system32;C:\WINDOWS;C:\WINDOWS\System32\Wbem;C:\WINDOWS\System32\WindowsPowerShell\v1.0\;C:\Strawberry\c\bin;C:\Strawberry\perl\site\bin;C:\Strawberry\perl\bin
PERL5LIB = C:\home\32sunny1\perl5\lib\perl5
PERL5OPT =
PERL5_CPANPLUS_IS_RUNNING = 9964
PERL5_CPAN_IS_RUNNING = 9964
PERL_LOCAL_LIB_ROOT = C:\home\32sunny1\perl5
PERL_MB_OPT = --install_base "C:\\home\\32sunny1\\perl5"
PERL_MM_OPT = INSTALL_BASE=C:\\home\\32sunny1\\perl5
PERL_MM_USE_DEFAULT = 1
PERL_USE_UNSAFE_INC = 1
PROCESSOR_IDENTIFIER = Intel64 Family 6 Model 58 Stepping 9, GenuineIntel
TEMP = C:\Users\USER\AppData\Local\Temp
TERM = dumb
Perl special variables (and OS-specific diagnostics, for MSWin32):
$^X = C:\Strawberry\perl\bin\perl.exe
$UID/$EUID = 0 / 0
$GID = 0
$EGID = 0
Win32::GetOSName = Win8.1
Win32::GetOSVersion = , 6, 3, 9600, 2, 0, 0, 256, 1
Win32::FsType = NTFS
Win32::IsAdminUser = 0
Perl module toolchain versions installed:
Module Have
------------------- --------
CPAN 2.28
CPAN::Meta 2.150010
Cwd 3.78
ExtUtils::CBuilder 0.280235
ExtUtils::Command 7.70
ExtUtils::Install 2.20
ExtUtils::MakeMaker 7.70
ExtUtils::Manifest 1.73
ExtUtils::ParseXS 3.51
File::Spec 3.78
JSON 4.03
JSON::PP 4.06
Module::Build 0.42_33
Module::Signature n/a
Parse::CPAN::Meta 2.150010
Test::Harness 3.42
Test::More 1.302183
YAML 1.30
YAML::Syck n/a
version 0.9928
--
Summary of my perl5 (revision 5 version 32 subversion 1) configuration:
Platform:
osname=MSWin32
osvers=10.0.19042.746
archname=MSWin32-x86-multi-thread-64int
uname='Win32 strawberry-perl 5.32.1.1 #1 Sun Jan 24 12:17:47 2021 i386'
config_args='undef'
hint=recommended
useposix=true
d_sigaction=undef
useithreads=define
usemultiplicity=define
use64bitint=define
use64bitall=undef
uselongdouble=undef
usemymalloc=n
default_inc_excludes_dot=define
bincompat5005=undef
Compiler:
cc='gcc'
ccflags =' -DWIN32 -D__USE_MINGW_ANSI_STDIO -DPERL_TEXTMODE_SCRIPTS -DPERL_IMPLICIT_CONTEXT -DPERL_IMPLICIT_SYS -DUSE_PERLIO -fwrapv -fno-strict-aliasing -mms-bitfields'
optimize='-s -O2'
cppflags='-DWIN32'
ccversion=''
gccversion='8.3.0'
gccosandvers=''
intsize=4
longsize=4
ptrsize=4
doublesize=8
byteorder=12345678
doublekind=3
d_longlong=define
longlongsize=8
d_longdbl=define
longdblsize=12
longdblkind=3
ivtype='long long'
ivsize=8
nvtype='double'
nvsize=8
Off_t='long long'
lseeksize=8
alignbytes=8
prototype=define
Linker and Libraries:
ld='g++'
ldflags ='-s -L"c:\Strawberry\perl\lib\CORE" -L"c:\Strawberry\c\lib"'
libpth=c:\Strawberry\c\lib c:\Strawberry\c\i686-w64-mingw32\lib c:\Strawberry\c\lib\gcc\i686-w64-mingw32\8.3.0
libs= -lmoldname -lkernel32 -luser32 -lgdi32 -lwinspool -lcomdlg32 -ladvapi32 -lshell32 -lole32 -loleaut32 -lnetapi32 -luuid -lws2_32 -lmpr -lwinmm -lversion -lodbc32 -lodbccp32 -lcomctl32
perllibs= -lmoldname -lkernel32 -luser32 -lgdi32 -lwinspool -lcomdlg32 -ladvapi32 -lshell32 -lole32 -loleaut32 -lnetapi32 -luuid -lws2_32 -lmpr -lwinmm -lversion -lodbc32 -lodbccp32 -lcomctl32
libc=
so=dll
useshrplib=true
libperl=libperl532.a
gnulibc_version=''
Dynamic Linking:
dlsrc=dl_win32.xs
dlext=xs.dll
d_dlsymun=undef
ccdlflags=' '
cccdlflags=' '
lddlflags='-mdll -s -L"c:\Strawberry\perl\lib\CORE" -L"c:\Strawberry\c\lib"'
Characteristics of this binary (from libperl):
Compile-time options:
HAS_TIMES
HAVE_INTERP_INTERN
MULTIPLICITY
PERLIO_LAYERS
PERL_COPY_ON_WRITE
PERL_DONT_CREATE_GVSV
PERL_IMPLICIT_CONTEXT
PERL_IMPLICIT_SYS
PERL_MALLOC_WRAP
PERL_OP_PARENT
PERL_PRESERVE_IVUV
USE_64_BIT_INT
USE_ITHREADS
USE_LARGE_FILES
USE_LOCALE
USE_LOCALE_COLLATE
USE_LOCALE_CTYPE
USE_LOCALE_NUMERIC
USE_LOCALE_TIME
USE_PERLIO
USE_PERL_ATOF
Built under MSWin32
Compiled at Jan 24 2021 12:22:49
%ENV:
PERL5LIB="C:\home\32sunny1\perl5\lib\perl5"
PERL5_CPANPLUS_IS_RUNNING="9964"
PERL5_CPAN_IS_RUNNING="9964"
PERL_LOCAL_LIB_ROOT="C:\home\32sunny1\perl5"
PERL_MB_OPT="--install_base "C:\\home\\32sunny1\\perl5""
PERL_MM_OPT="INSTALL_BASE=C:\\home\\32sunny1\\perl5"
PERL_MM_USE_DEFAULT="1"
PERL_USE_UNSAFE_INC="1"
@INC:
C:\home\32sunny1\perl5\lib\perl5/MSWin32-x86-multi-thread-64int
C:\home\32sunny1\perl5\lib\perl5
C:/Strawberry/perl/site/lib
C:/Strawberry/perl/vendor/lib
C:/Strawberry/perl/lib
.