Crypt-ScryptKDF v0.010 Perl 5 v5.28.1 darwin-2level

Status
Pass
From
Gregor Goldbach
Dist
Crypt-ScryptKDF v0.010
Platform
Perl 5 v5.28.1 darwin-2level
Date
2019-11-05 14:43:10
ID
96c5781a-ffda-11e9-a208-dd972f5840b2
This distribution has been tested as part of the CPAN Testers
project, supporting the Perl programming language.  See
http://wiki.cpantesters.org/ for more information or email
questions to cpan-testers-discuss@perl.org


--
Dear MIK,

This is a computer-generated report for Crypt-ScryptKDF-0.010
on perl 5.28.1, created by App::cpanminus::reporter 0.17 (1.7044).

Thank you for uploading your work to CPAN.  Congratulations!
All tests were successful.

Sections of this report:

    * Tester comments
    * Program output
    * Prerequisites
    * Environment and other context

------------------------------
TESTER COMMENTS
------------------------------

Additional comments from tester:

none provided

------------------------------
PROGRAM OUTPUT
------------------------------

Output from '':

Building and testing Crypt-ScryptKDF-0.010
Building Crypt-ScryptKDF
cc -Isrc -I/Users/glauschwuffel/perl5/perlbrew/perls/perl-5.28.1/lib/5.28.1/darwin-2level/CORE -c -fno-common -DPERL_DARWIN -mmacosx-version-min=10.14 -fno-strict-aliasing -pipe -fstack-protector-strong -I/usr/local/include -DPERL_USE_SAFE_PUTENV -O3 -o src/crypto_scrypt-nosse.o src/crypto_scrypt-nosse.c
cc -Isrc -I/Users/glauschwuffel/perl5/perlbrew/perls/perl-5.28.1/lib/5.28.1/darwin-2level/CORE -DVERSION="0.010" -DXS_VERSION="0.010" -c -fno-common -DPERL_DARWIN -mmacosx-version-min=10.14 -fno-strict-aliasing -pipe -fstack-protector-strong -I/usr/local/include -DPERL_USE_SAFE_PUTENV -O3 -o lib/Crypt/ScryptKDF.o lib/Crypt/ScryptKDF.c
ExtUtils::Mkbootstrap::Mkbootstrap('blib/arch/auto/Crypt/ScryptKDF/ScryptKDF.bs')
cc -mmacosx-version-min=10.14 -bundle -undefined dynamic_lookup -L/usr/local/lib -fstack-protector-strong -o blib/arch/auto/Crypt/ScryptKDF/ScryptKDF.bundle lib/Crypt/ScryptKDF.o src/crypto_scrypt-nosse.o
t/compile.t ....... ok
t/interface.t ..... ok
t/internal.t ...... ok
t/test_vectors.t .. ok
All tests successful.
Files=4, Tests=39,  1 wallclock secs ( 0.02 usr  0.01 sys +  0.63 cusr  0.07 csys =  0.73 CPU)
Result: PASS

------------------------------
PREREQUISITES
------------------------------

Prerequisite modules loaded:

    No requirements found

------------------------------
ENVIRONMENT AND OTHER CONTEXT
------------------------------

Environment variables:

    LANG = en_DE.UTF-8
    LC_ALL = en_US.UTF-8
    PATH = /Users/glauschwuffel/perl5/perlbrew/bin:/Users/glauschwuffel/perl5/perlbrew/perls/perl-5.28.1/bin:/usr/local/bin:/usr/bin:/bin:/usr/sbin:/sbin:/Library/Apple/usr/bin:/Library/Apple/bin:/Library/TeX/texbin:/usr/local/MacGPG2/bin:/Applications/Wireshark.app/Contents/MacOS:/Applications/Emacs.app/Contents/MacOS/bin-x86_64-10_10:/Applications/Emacs.app/Contents/MacOS/libexec-x86_64-10_10:/Users/glauschwuffel/bin
    SHELL = /bin/bash
    TERM = dumb
    TMPDIR = /var/folders/cz/3j2yfjp51xq3sm7x1_f77wdh0000gn/T/

Perl special variables (and OS-specific diagnostics, for MSWin32):

    EGID = 20 20 12 61 79 80 81 98 501 33 100 204 250 395 398 399 400
    EUID = 501
    EXECUTABLE_NAME = /Users/glauschwuffel/perl5/perlbrew/perls/perl-5.28.1/bin/perl
    GID = 20 20 12 61 79 80 81 98 501 33 100 204 250 395 398 399 400
    UID = 501

Perl module toolchain versions installed:

    Module              Have    
    ------------------- --------
    CPAN                2.20    
    CPAN::Meta          2.150010
    Cwd                 3.74    
    ExtUtils::CBuilder  0.280230
    ExtUtils::Command   7.38    
    ExtUtils::Install   2.14    
    ExtUtils::MakeMaker 7.38    
    ExtUtils::Manifest  1.70    
    ExtUtils::ParseXS   3.39    
    File::Spec          3.74    
    JSON                4.01    
    JSON::PP            2.97001 
    Module::Build       0.4224  
    Module::Signature   n/a     
    Parse::CPAN::Meta   2.150010
    Test::Harness       3.42    
    Test::More          1.302168
    YAML                1.27    
    YAML::Syck          1.31    
    version             0.9923  


--

Summary of my perl5 (revision 5 version 28 subversion 1) configuration:
   
  Platform:
    osname=darwin
    osvers=18.2.0
    archname=darwin-2level
    uname='darwin macbook-pro.multi.box 18.2.0 darwin kernel version 18.2.0: fri oct 5 19:41:49 pdt 2018; root:xnu-4903.221.2~2release_x86_64 x86_64 '
    config_args='-de -Dprefix=/Users/glauschwuffel/perl5/perlbrew/perls/perl-5.28.1 -Aeval:scriptdir=/Users/glauschwuffel/perl5/perlbrew/perls/perl-5.28.1/bin'
    hint=recommended
    useposix=true
    d_sigaction=define
    useithreads=undef
    usemultiplicity=undef
    use64bitint=define
    use64bitall=define
    uselongdouble=undef
    usemymalloc=n
    default_inc_excludes_dot=define
    bincompat5005=undef
  Compiler:
    cc='cc'
    ccflags ='-fno-common -DPERL_DARWIN -mmacosx-version-min=10.14 -fno-strict-aliasing -pipe -fstack-protector-strong -I/usr/local/include -DPERL_USE_SAFE_PUTENV'
    optimize='-O3'
    cppflags='-fno-common -DPERL_DARWIN -mmacosx-version-min=10.14 -fno-strict-aliasing -pipe -fstack-protector-strong -I/usr/local/include'
    ccversion=''
    gccversion='4.2.1 Compatible Apple LLVM 10.0.0 (clang-1000.11.45.5)'
    gccosandvers=''
    intsize=4
    longsize=8
    ptrsize=8
    doublesize=8
    byteorder=12345678
    doublekind=3
    d_longlong=define
    longlongsize=8
    d_longdbl=define
    longdblsize=16
    longdblkind=3
    ivtype='long'
    ivsize=8
    nvtype='double'
    nvsize=8
    Off_t='off_t'
    lseeksize=8
    alignbytes=8
    prototype=define
  Linker and Libraries:
    ld='cc'
    ldflags =' -mmacosx-version-min=10.14 -fstack-protector-strong -L/usr/local/lib'
    libpth=/usr/local/lib /Applications/Xcode.app/Contents/Developer/Toolchains/XcodeDefault.xctoolchain/usr/lib/clang/10.0.0/lib /Applications/Xcode.app/Contents/Developer/Toolchains/XcodeDefault.xctoolchain/usr/lib /Applications/Xcode.app/Contents/Developer/Platforms/MacOSX.platform/Developer/SDKs/MacOSX10.14.sdk/usr/lib /usr/lib
    libs=-lpthread -ldbm -ldl -lm -lutil -lc
    perllibs=-lpthread -ldl -lm -lutil -lc
    libc=
    so=dylib
    useshrplib=false
    libperl=libperl.a
    gnulibc_version=''
  Dynamic Linking:
    dlsrc=dl_dlopen.xs
    dlext=bundle
    d_dlsymun=undef
    ccdlflags=' '
    cccdlflags=' '
    lddlflags=' -mmacosx-version-min=10.14 -bundle -undefined dynamic_lookup -L/usr/local/lib -fstack-protector-strong'


Characteristics of this binary (from libperl): 
  Compile-time options:
    HAS_TIMES
    PERLIO_LAYERS
    PERL_COPY_ON_WRITE
    PERL_DONT_CREATE_GVSV
    PERL_MALLOC_WRAP
    PERL_OP_PARENT
    PERL_PRESERVE_IVUV
    PERL_USE_SAFE_PUTENV
    USE_64_BIT_ALL
    USE_64_BIT_INT
    USE_LARGE_FILES
    USE_LOCALE
    USE_LOCALE_COLLATE
    USE_LOCALE_CTYPE
    USE_LOCALE_NUMERIC
    USE_LOCALE_TIME
    USE_PERLIO
    USE_PERL_ATOF
  Locally applied patches:
    Devel::PatchPerl 1.52
  Built under darwin
  Compiled at Jan 26 2019 20:21:25
  @INC:
    /Users/glauschwuffel/perl5/perlbrew/perls/perl-5.28.1/lib/site_perl/5.28.1/darwin-2level
    /Users/glauschwuffel/perl5/perlbrew/perls/perl-5.28.1/lib/site_perl/5.28.1
    /Users/glauschwuffel/perl5/perlbrew/perls/perl-5.28.1/lib/5.28.1/darwin-2level
    /Users/glauschwuffel/perl5/perlbrew/perls/perl-5.28.1/lib/5.28.1