Catmandu-MARC v1.281 Perl 5 v5.37.5 x86_64-linux-ld

Status
Pass
From
Andreas J. König (ANDK)
Dist
Catmandu-MARC v1.281
Platform
Perl 5 v5.37.5 x86_64-linux-ld
Date
2022-11-01 18:54:17
ID
96701c96-5a16-11ed-9999-45dc7175af68
This distribution has been tested as part of the CPAN Testers
project, supporting the Perl programming language.  See
http://wiki.cpantesters.org/ for more information or email
questions to cpan-testers-discuss@perl.org


--
Dear Patrick Hochstenbach,

This is a computer-generated report for Catmandu-MARC-1.281
on perl 5.37.5, created by CPAN-Reporter-1.2018.

Thank you for uploading your work to CPAN.  Congratulations!
All tests were successful.

Sections of this report:

    * Tester comments
    * Program output
    * Prerequisites
    * Environment and other context

------------------------------
TESTER COMMENTS
------------------------------

Additional comments from tester:

this report is from an automated smoke testing program
and was not reviewed by a human for accuracy

------------------------------
PROGRAM OUTPUT
------------------------------

Output from './Build test':

t/Catmandu/Exporter/MARC.t ..................... ok
t/Catmandu/Exporter/MARC/ALEPHSEQ.t ............ ok
t/Catmandu/Exporter/MARC/Base.t ................ ok
t/Catmandu/Exporter/MARC/ISO.t ................. ok
t/Catmandu/Exporter/MARC/Line.t ................ ok
t/Catmandu/Exporter/MARC/MARCMaker.t ........... ok
t/Catmandu/Exporter/MARC/MiJ.t ................. ok
t/Catmandu/Exporter/MARC/XML.t ................. ok
t/Catmandu/Fix/Bind/marc_each.t ................ ok
t/Catmandu/Fix/Condition/marc_all_match.t ...... ok
t/Catmandu/Fix/Condition/marc_any_match.t ...... ok
t/Catmandu/Fix/Condition/marc_has.t ............ ok
t/Catmandu/Fix/Condition/marc_has_many.t ....... ok
t/Catmandu/Fix/Condition/marc_match.t .......... ok
t/Catmandu/Fix/Condition/marc_spec_has.t ....... ok
t/Catmandu/Fix/Inline/marc_add.t ............... ok
t/Catmandu/Fix/Inline/marc_map.t ............... ok
t/Catmandu/Fix/Inline/marc_remove.t ............ ok
t/Catmandu/Fix/Inline/marc_set.t ............... ok
t/Catmandu/Fix/marc_add.t ...................... ok
t/Catmandu/Fix/marc_append.t ................... ok
t/Catmandu/Fix/marc_copy.t ..................... ok
t/Catmandu/Fix/marc_cut.t ...................... ok
t/Catmandu/Fix/marc_decode_dollar_subfields.t .. ok
t/Catmandu/Fix/marc_in_json.t .................. ok
t/Catmandu/Fix/marc_map.t ...................... ok
t/Catmandu/Fix/marc_paste.t .................... ok
t/Catmandu/Fix/marc_remove.t ................... ok
t/Catmandu/Fix/marc_replace_all.t .............. ok
t/Catmandu/Fix/marc_set.t ...................... ok
t/Catmandu/Fix/marc_sort.t ..................... ok
t/Catmandu/Fix/marc_spec.t ..................... ok
Use of uninitialized value in concatenation (.) or string at /home/sand/src/perl/repoperls/installed-perls/host/k93jammy/v5.37.4-160-g0649414847/5674/lib/site_perl/5.37.5/MARC/File/XML.pm line 402, <GEN7> chunk 3.
t/Catmandu/Fix/marc_xml.t ...................... ok
t/Catmandu/Importer/MARC.t ..................... ok
t/Catmandu/Importer/MARC/ALEPHSEQ.t ............ ok
t/Catmandu/Importer/MARC/Decoder.t ............. ok
t/Catmandu/Importer/MARC/ISO.t ................. ok
t/Catmandu/Importer/MARC/Line.t ................ ok
t/Catmandu/Importer/MARC/Lint.t ................ ok
t/Catmandu/Importer/MARC/MARCMaker.t ........... ok
t/Catmandu/Importer/MARC/MiJ.t ................. ok
t/Catmandu/Importer/MARC/MicroLIF.t ............ ok
t/Catmandu/Importer/MARC/RAW.t ................. ok
t/Catmandu/Importer/MARC/Record.t .............. ok
Use of uninitialized value in concatenation (.) or string at /home/sand/src/perl/repoperls/installed-perls/host/k93jammy/v5.37.4-160-g0649414847/5674/lib/site_perl/5.37.5/MARC/File/XML.pm line 402, <GEN1> chunk 3.
Use of uninitialized value in concatenation (.) or string at /home/sand/src/perl/repoperls/installed-perls/host/k93jammy/v5.37.4-160-g0649414847/5674/lib/site_perl/5.37.5/MARC/File/XML.pm line 402, <GEN2> chunk 21.
t/Catmandu/Importer/MARC/XML.t ................. ok
t/Catmandu/MARC.t .............................. ok
t/Catmandu/Validator/MARC.t .................... ok
t/author-pod-syntax.t .......................... skipped: these tests are for testing by the author
t/deprecate.t .................................. ok
t/inline-fix.t ................................. ok
t/inlineable.t ................................. ok
t/mapping_rules.t .............................. ok
t/mapping_rules_spec.t ......................... ok
t/marc-spec-subspecs.t ......................... ok
t/marc_spec2.t ................................. ok
t/old-new-internal-syntax.t .................... ok
All tests successful.
Files=56, Tests=566, 20 wallclock secs ( 0.20 usr  0.35 sys + 16.66 cusr  3.07 csys = 20.28 CPU)
Result: PASS

------------------------------
PREREQUISITES
------------------------------

Prerequisite modules loaded:

requires:

    Module                Need     Have    
    --------------------- -------- --------
    Carp                  0        1.54    
    Catmandu              1.0602   1.2019  
    JSON::XS              2.3      4.03    
    List::Util            0        1.63    
    MARC::File::MARCMaker 0.05     0.05    
    MARC::File::MiJ       0.04     0.04    
  ! MARC::File::XML       v1.0.5   0.93    
    MARC::Lint            == 1.52  1.53    
    MARC::Parser::RAW     0        0.06    
    MARC::Record          v2.0.6   2.0.7   
    MARC::Schema          0.07     0.10    
    MARC::Spec            v2.0.3   2.0.3   
    Memoize               0        1.14    
    Module::Build         0.4229   0.4231  
    Moo                   1.0      2.005004
    MooX::Singleton       0        1.20    
    namespace::clean      0        0.27    
    perl                  v5.10.1  5.037005
    YAML::XS              0.34     0.85    

build_requires:

    Module                Need     Have    
    --------------------- -------- --------
    Module::Build         0.4229   0.4231  
    Pod::Simple::HTML     3.23     3.43    
    Test::Deep            0        1.130   
    Test::Exception       0        0.43    
    Test::More            1.001003 1.302191
    Test::Pod             0        1.52    
    Test::Simple          1.001003 1.302191
    Test::Warn            0        0.37    
    Test::Warnings        0        0.031   
    XML::LibXML           0        2.0208  
    XML::XPath            1.13     1.48    

configure_requires:

    Module                Need     Have    
    --------------------- -------- --------
    Module::Build         0.28     0.4231  


------------------------------
ENVIRONMENT AND OTHER CONTEXT
------------------------------

Environment variables:

    AUTOMATED_TESTING = 1
    LANG = en_US.UTF-8
    LC_ADDRESS = de_DE.UTF-8
    LC_IDENTIFICATION = de_DE.UTF-8
    LC_MEASUREMENT = de_DE.UTF-8
    LC_MONETARY = de_DE.UTF-8
    LC_NAME = de_DE.UTF-8
    LC_NUMERIC = de_DE.UTF-8
    LC_PAPER = de_DE.UTF-8
    LC_TELEPHONE = de_DE.UTF-8
    LC_TIME = de_DE.UTF-8
    PATH = /home/sand/bin:/usr/local/bin:/usr/local/sbin:/usr/sbin:/usr/bin:/sbin:/bin:/usr/games:/usr/local/games:/snap/bin:/usr/local/perl/bin:/usr/X11/bin
    PERL = /tmp/basesmoker-reloperl-yefZ/bin/perl
    PERL5LIB = /tmp/loop_over_bdir-2056195-Zm5mnY/Captive-Portal-4.10-0/blib/arch:/tmp/loop_over_bdir-2056195-Zm5mnY/Captive-Portal-4.10-0/blib/lib:/tmp/loop_over_bdir-2056195-Zm5mnY/Device-Kiln-0.03-0/blib/arch:/tmp/loop_over_bdir-2056195-Zm5mnY/Device-Kiln-0.03-0/blib/lib:/tmp/loop_over_bdir-2056195-Zm5mnY/perl-Hardware-UPS-Perl-0.43-0/blib/arch:/tmp/loop_over_bdir-2056195-Zm5mnY/perl-Hardware-UPS-Perl-0.43-0/blib/lib:/tmp/loop_over_bdir-2056195-Zm5mnY/App-oo_modulino_zsh_completion_helper-0.04-0/blib/arch:/tmp/loop_over_bdir-2056195-Zm5mnY/App-oo_modulino_zsh_completion_helper-0.04-0/blib/lib:/tmp/loop_over_bdir-2056195-Zm5mnY/CORBA-Python-2.66-0/blib/arch:/tmp/loop_over_bdir-2056195-Zm5mnY/CORBA-Python-2.66-0/blib/lib:/tmp/loop_over_bdir-2056195-Zm5mnY/DBIx-Migration-Directories-0.12-0/blib/arch:/tmp/loop_over_bdir-2056195-Zm5mnY/DBIx-Migration-Directories-0.12-0/blib/lib:/tmp/loop_over_bdir-2056195-Zm5mnY/App-rmcd-0.280-0/blib/arch:/tmp/loop_over_bdir-2056195-Zm5mnY/App-rmcd-0.280-0/blib/lib:/tmp/loop_over_bdir-2056195-Zm5mnY/Dpkg-1.21.9-0/blib/arch:/tmp/loop_over_bdir-2056195-Zm5mnY/Dpkg-1.21.9-0/blib/lib:/tmp/loop_over_bdir-2056195-Zm5mnY/AllKnowingDNS-1.7-0/blib/arch:/tmp/loop_over_bdir-2056195-Zm5mnY/AllKnowingDNS-1.7-0/blib/lib:/tmp/loop_over_bdir-2056195-Zm5mnY/Lingua-YaTeA-0.626-0/blib/arch:/tmp/loop_over_bdir-2056195-Zm5mnY/Lingua-YaTeA-0.626-0/blib/lib:/tmp/loop_over_bdir-2056195-Zm5mnY/shishi-0.0.1-0/blib/arch:/tmp/loop_over_bdir-2056195-Zm5mnY/shishi-0.0.1-0/blib/lib:/tmp/loop_over_bdir-2056195-Zm5mnY/Devel-Required-0.16-0/blib/arch:/tmp/loop_over_bdir-2056195-Zm5mnY/Devel-Required-0.16-0/blib/lib
    PERL5OPT = 
    PERL5_CPANPLUS_IS_RUNNING = 2056203
    PERL5_CPAN_IS_RUNNING = 2056203
    PERL_CANARY_STABILITY_NOPROMPT = 1
    PERL_MM_USE_DEFAULT = 1
    PERL_USE_UNSAFE_INC = 1
    SHELL = /usr/bin/zsh
    TERM = screen

Perl special variables (and OS-specific diagnostics, for MSWin32):

    $^X = /tmp/basesmoker-reloperl-yefZ/bin/perl
    $UID/$EUID = 1005 / 1005
    $GID = 1005 1005
    $EGID = 1005 1005

Perl module toolchain versions installed:

    Module              Have    
    ------------------- --------
    CPAN                2.34    
    CPAN::Meta          2.150010
    Cwd                 3.86    
    ExtUtils::CBuilder  0.280237
    ExtUtils::Command   7.64    
    ExtUtils::Install   2.20    
    ExtUtils::MakeMaker 7.64    
    ExtUtils::Manifest  1.73    
    ExtUtils::ParseXS   3.46    
    File::Spec          3.87    
    JSON                4.10    
    JSON::PP            4.12    
    Module::Build       0.4231  
    Module::Signature   0.88    
    Parse::CPAN::Meta   2.150010
    Test::Harness       3.44    
    Test::More          1.302191
    YAML                1.30    
    YAML::Syck          1.34    
    version             0.9929  


--

Summary of my perl5 (revision 5 version 37 subversion 5) configuration:
  Commit id: 064941484781d9099db0bbe7d6ea22a826df1e15
  Platform:
    osname=linux
    osvers=5.15.0-50-generic
    archname=x86_64-linux-ld
    uname='linux k93jammy 5.15.0-50-generic #56-ubuntu smp tue sep 20 13:23:26 utc 2022 x86_64 x86_64 x86_64 gnulinux '
    config_args='-Dprefix=/home/sand/src/perl/repoperls/installed-perls/host/k93jammy/v5.37.4-160-g0649414847/5674 -Dmyhostname=k93jammy -Dinstallusrbinperl=n -Uversiononly -Dusedevel -des -Ui_db -Dlibswanted=cl pthread socket inet nsl gdbm dbm malloc dl ld sun m crypt sec util c cposix posix ucb BSD gdbm_compat -Uuseithreads -Duselongdouble -DEBUGGING=-g'
    hint=recommended
    useposix=true
    d_sigaction=define
    useithreads=undef
    usemultiplicity=undef
    use64bitint=define
    use64bitall=define
    uselongdouble=define
    usemymalloc=n
    default_inc_excludes_dot=define
  Compiler:
    cc='cc'
    ccflags ='-fwrapv -fno-strict-aliasing -pipe -fstack-protector-strong -I/usr/local/include -D_LARGEFILE_SOURCE -D_FILE_OFFSET_BITS=64'
    optimize='-O2 -g'
    cppflags='-fwrapv -fno-strict-aliasing -pipe -fstack-protector-strong -I/usr/local/include'
    ccversion=''
    gccversion='11.3.0'
    gccosandvers=''
    intsize=4
    longsize=8
    ptrsize=8
    doublesize=8
    byteorder=12345678
    doublekind=3
    d_longlong=define
    longlongsize=8
    d_longdbl=define
    longdblsize=16
    longdblkind=3
    ivtype='long'
    ivsize=8
    nvtype='long double'
    nvsize=16
    Off_t='off_t'
    lseeksize=8
    alignbytes=16
    prototype=define
  Linker and Libraries:
    ld='cc'
    ldflags =' -fstack-protector-strong -L/usr/local/lib'
    libpth=/usr/local/lib /usr/lib/x86_64-linux-gnu /usr/lib /usr/lib64
    libs=-lpthread -lnsl -ldl -lm -lcrypt -lutil -lc
    perllibs=-lpthread -lnsl -ldl -lm -lcrypt -lutil -lc
    libc=/lib/x86_64-linux-gnu/libc.so.6
    so=so
    useshrplib=false
    libperl=libperl.a
    gnulibc_version='2.35'
  Dynamic Linking:
    dlsrc=dl_dlopen.xs
    dlext=so
    d_dlsymun=undef
    ccdlflags='-Wl,-E'
    cccdlflags='-fPIC'
    lddlflags='-shared -O2 -g -L/usr/local/lib -fstack-protector-strong'


Characteristics of this binary (from libperl): 
  Compile-time options:
    HAS_TIMES
    PERLIO_LAYERS
    PERL_COPY_ON_WRITE
    PERL_DONT_CREATE_GVSV
    PERL_HASH_FUNC_SIPHASH13
    PERL_HASH_USE_SBOX32
    PERL_MALLOC_WRAP
    PERL_OP_PARENT
    PERL_PRESERVE_IVUV
    PERL_USE_DEVEL
    PERL_USE_SAFE_PUTENV
    USE_64_BIT_ALL
    USE_64_BIT_INT
    USE_LARGE_FILES
    USE_LOCALE
    USE_LOCALE_COLLATE
    USE_LOCALE_CTYPE
    USE_LOCALE_NUMERIC
    USE_LOCALE_TIME
    USE_LONG_DOUBLE
    USE_PERLIO
    USE_PERL_ATOF
  Built under linux
  Compiled at Oct 29 2022 19:33:37
  %ENV:
    PERL="/tmp/basesmoker-reloperl-yefZ/bin/perl"
    PERL5LIB="/tmp/loop_over_bdir-2056195-Zm5mnY/Captive-Portal-4.10-0/blib/arch:/tmp/loop_over_bdir-2056195-Zm5mnY/Captive-Portal-4.10-0/blib/lib:/tmp/loop_over_bdir-2056195-Zm5mnY/Device-Kiln-0.03-0/blib/arch:/tmp/loop_over_bdir-2056195-Zm5mnY/Device-Kiln-0.03-0/blib/lib:/tmp/loop_over_bdir-2056195-Zm5mnY/perl-Hardware-UPS-Perl-0.43-0/blib/arch:/tmp/loop_over_bdir-2056195-Zm5mnY/perl-Hardware-UPS-Perl-0.43-0/blib/lib:/tmp/loop_over_bdir-2056195-Zm5mnY/App-oo_modulino_zsh_completion_helper-0.04-0/blib/arch:/tmp/loop_over_bdir-2056195-Zm5mnY/App-oo_modulino_zsh_completion_helper-0.04-0/blib/lib:/tmp/loop_over_bdir-2056195-Zm5mnY/CORBA-Python-2.66-0/blib/arch:/tmp/loop_over_bdir-2056195-Zm5mnY/CORBA-Python-2.66-0/blib/lib:/tmp/loop_over_bdir-2056195-Zm5mnY/DBIx-Migration-Directories-0.12-0/blib/arch:/tmp/loop_over_bdir-2056195-Zm5mnY/DBIx-Migration-Directories-0.12-0/blib/lib:/tmp/loop_over_bdir-2056195-Zm5mnY/App-rmcd-0.280-0/blib/arch:/tmp/loop_over_bdir-2056195-Zm5mnY/App-rmcd-0.280-0/blib/lib:/tmp/loop_over_bdir-2056195-Zm5mnY/Dpkg-1.21.9-0/blib/arch:/tmp/loop_over_bdir-2056195-Zm5mnY/Dpkg-1.21.9-0/blib/lib:/tmp/loop_over_bdir-2056195-Zm5mnY/AllKnowingDNS-1.7-0/blib/arch:/tmp/loop_over_bdir-2056195-Zm5mnY/AllKnowingDNS-1.7-0/blib/lib:/tmp/loop_over_bdir-2056195-Zm5mnY/Lingua-YaTeA-0.626-0/blib/arch:/tmp/loop_over_bdir-2056195-Zm5mnY/Lingua-YaTeA-0.626-0/blib/lib:/tmp/loop_over_bdir-2056195-Zm5mnY/shishi-0.0.1-0/blib/arch:/tmp/loop_over_bdir-2056195-Zm5mnY/shishi-0.0.1-0/blib/lib:/tmp/loop_over_bdir-2056195-Zm5mnY/Devel-Required-0.16-0/blib/arch:/tmp/loop_over_bdir-2056195-Zm5mnY/Devel-Required-0.16-0/blib/lib"
    PERL5OPT=""
    PERL5_CPANPLUS_IS_RUNNING="2056203"
    PERL5_CPAN_IS_RUNNING="2056203"
    PERL_CANARY_STABILITY_NOPROMPT="1"
    PERL_MM_USE_DEFAULT="1"
    PERL_USE_UNSAFE_INC="1"
  @INC:
    /tmp/loop_over_bdir-2056195-Zm5mnY/Captive-Portal-4.10-0/blib/arch
    /tmp/loop_over_bdir-2056195-Zm5mnY/Captive-Portal-4.10-0/blib/lib
    /tmp/loop_over_bdir-2056195-Zm5mnY/Device-Kiln-0.03-0/blib/arch
    /tmp/loop_over_bdir-2056195-Zm5mnY/Device-Kiln-0.03-0/blib/lib
    /tmp/loop_over_bdir-2056195-Zm5mnY/perl-Hardware-UPS-Perl-0.43-0/blib/arch
    /tmp/loop_over_bdir-2056195-Zm5mnY/perl-Hardware-UPS-Perl-0.43-0/blib/lib
    /tmp/loop_over_bdir-2056195-Zm5mnY/App-oo_modulino_zsh_completion_helper-0.04-0/blib/arch
    /tmp/loop_over_bdir-2056195-Zm5mnY/App-oo_modulino_zsh_completion_helper-0.04-0/blib/lib
    /tmp/loop_over_bdir-2056195-Zm5mnY/CORBA-Python-2.66-0/blib/arch
    /tmp/loop_over_bdir-2056195-Zm5mnY/CORBA-Python-2.66-0/blib/lib
    /tmp/loop_over_bdir-2056195-Zm5mnY/DBIx-Migration-Directories-0.12-0/blib/arch
    /tmp/loop_over_bdir-2056195-Zm5mnY/DBIx-Migration-Directories-0.12-0/blib/lib
    /tmp/loop_over_bdir-2056195-Zm5mnY/App-rmcd-0.280-0/blib/arch
    /tmp/loop_over_bdir-2056195-Zm5mnY/App-rmcd-0.280-0/blib/lib
    /tmp/loop_over_bdir-2056195-Zm5mnY/Dpkg-1.21.9-0/blib/arch
    /tmp/loop_over_bdir-2056195-Zm5mnY/Dpkg-1.21.9-0/blib/lib
    /tmp/loop_over_bdir-2056195-Zm5mnY/AllKnowingDNS-1.7-0/blib/arch
    /tmp/loop_over_bdir-2056195-Zm5mnY/AllKnowingDNS-1.7-0/blib/lib
    /tmp/loop_over_bdir-2056195-Zm5mnY/Lingua-YaTeA-0.626-0/blib/arch
    /tmp/loop_over_bdir-2056195-Zm5mnY/Lingua-YaTeA-0.626-0/blib/lib
    /tmp/loop_over_bdir-2056195-Zm5mnY/shishi-0.0.1-0/blib/arch
    /tmp/loop_over_bdir-2056195-Zm5mnY/shishi-0.0.1-0/blib/lib
    /tmp/loop_over_bdir-2056195-Zm5mnY/Devel-Required-0.16-0/blib/arch
    /tmp/loop_over_bdir-2056195-Zm5mnY/Devel-Required-0.16-0/blib/lib
    /home/sand/src/perl/repoperls/installed-perls/host/k93jammy/v5.37.4-160-g0649414847/5674/lib/site_perl/5.37.5/x86_64-linux-ld
    /home/sand/src/perl/repoperls/installed-perls/host/k93jammy/v5.37.4-160-g0649414847/5674/lib/site_perl/5.37.5
    /home/sand/src/perl/repoperls/installed-perls/host/k93jammy/v5.37.4-160-g0649414847/5674/lib/5.37.5/x86_64-linux-ld
    /home/sand/src/perl/repoperls/installed-perls/host/k93jammy/v5.37.4-160-g0649414847/5674/lib/5.37.5
    .